Workbook
Name FromArray_1: _xlfn.ANCHORARRAY(#REF!)

Sheet 2023
B2: Informació estadística peticions dret d'accés a la informació pública any 2023
B5: Llei 19/2014, de 29 de desembre, de transparència, accés a la informació pública i bon govern, en endavant LTC.
B6: Decret 8/2021, de 9 de febrer, sobre la transparència i el dret d'accés a la informació pública
B7: Tipologia: 1. Informació institucional i organitzativa; 2. Gestió econòmica i patrimonial; 3. Acció de govern i normativa; 4. Personal, processos selectius i recursos humans; 5. Contractes, convenis i subvencions; 6. Gestió de serveis públics; 7. Urbanisme; 8. Activitats; 9. Serveis Socials; 10. Plans, programes i memòries; 11. Altra informació.
B9: Entrada petició | C9: Data de la SAIP | D9: Canal | E9: Extracte petició | F9: Tipologia | G9: Sentit resolució | H9: Motivació | I9: Recurs de reposició | J9: Resolució del recurs | K9: Data posada a disposició de la documentació | L9: Reclamació davant la GAIP | M9: Sentit de la reclamació
B10: 89 | C10: 44928 | D10: Electrònic | E10: Beneficis fiscals i convenis de cessió del sòl que han afectat a una societat. | F10: 11 | G10: Estimació | K10: 30/05/2023. Deriva a la Unitat el 26/05/2023
B11: 7256 | C11: 45001 | D11: Electrònic | E11: Retribucions d'alts càrrecs i personal directiu, nombre d'estudis i informes externs amb contraprestació, subjecte, import i objecte de la contraprestació. | F11: 4.5 | K11: 45020
B12: 8424 | C12: 45013 | D12: Electrònic | E12: Actes d'inspecció d'una discoteca des de la data d'obertura. | F12: 8 | G12: Desestimació | H12: Silenci administratiu | L12: 45196 | M12: Estimatòria
B13: 10590 | C13: 45035 | D13: Electrònic | E13: Actas d'inspecció d'un restaurant. | F13: 8 | G13: Derivació | H13: Ajuntament de Vila-Seca
B14: 10760 | C14: 45037 | D14: Electrònic | E14: Revisions del projecte d'execució d'una llicència d'obra major. | F14: 7 | G14: Estimació | K14: 45050
B15: 10780 | C15: 45037 | D15: Presencial | E15: Tots els expedients de llicències d'obres d'un immoble. | F15: 7 | G15: Desestimació | H15: Documentació inexistent
B16: 11140 | C16: 45041 | D16: Electrònic | E16: Llicència d'obres de treballs verticals i embastides per pintar la façana d'un edifici. | F16: 7 | G16: Estimació | K16: 45042
B17: 11180 | C17: 45042 | D17: Presencial | E17: Projecte d'obres, explotació i gestió de l'edifici d'apartaments tutelats. | F17: 2 | G17: Estimació | K17: 45070
B18: 11208 | C18: 45042 | D18: Presencial | E18: Llicències d'activitats d'un restaurant. | F18: 8 | G18: Estimació | K18: 45058
B19: 11277 | C19: 45042 | D19: Electrònic | E19: Llicència d'obres i règim d'ús d'un restaurant. | F19: 7 | G19: Estimació | K19: 45062
B20: 11286 | C20: 45042 | D20: Electrònic | E20: Projecte d'obres d'un immoble. | F20: 7 | G20: Estimació | K20: 45056
B21: 11665 | C21: 45048 | D21: Electrònic | E21: Emplaçament de l'estadi municipal. | F21: 10 | G21: Estimació | K21: 45082
B22: 11822 | C22: 45049 | D22: Electrònic | E22: Expedient de primera ocupació d'un immoble. | F22: 7 | G22: Estimació | K22: 45051
B23: 11884 | C23: 45049 | D23: Electrònic | E23: Llicència d'obra major per construcció d'una escala exterior d'un Hotel. | F23: 7 | G23: Estimació | K23: 45061
B24: 12131 | C24: 45051 | D24: Presencial | E24: Llicència d'activitats d'un supermercat. | F24: 8 | G24: Estimació | K24: 45054
B25: 12141 | C25: 45051 | D25: Presencial | E25: Llicència d'obra menor del tancament d'un immoble. | F25: 7 | G25: Estimació | K25: 45061
B26: 12256 | C26: 45054 | D26: Electrònic | E26: Plecs de condicions i modificacions de la concessió patrimonial atorgada a un centre esportiu. | F26: 2 | G26: Estimació | K26: 45103
B27: 12721 | C27: 45056 | D27: Electrònic | E27: Llicències d'obres d'un immoble. | F27: 7 | G27: Estimació | K27: 45076
... B30: 13849 | C30: 45068 | D30: Electrònic | E30: Expedient de primera ocupació d'un immoble. | F30: 7 | G30: Estimació | K30: 45069
B31: 13991 | C31: 45069 | D31: Presencial | E31: Plànols d'un immoble. | F31: 11 | G31: Desistiment
B32: 13986 | C32: 45069 | D32: Electrònic | E32: Expedient d'obres d'un immoble. | F32: 7 | G32: Estimació | K32: 45076
B33: 14080 | C33: 45069 | D33: Electrònic | E33: Antecedents de l'eliminació del pas de peatons a l'Autovia de Salou. | F33: 11 | G33: Estimació | K33: 45085
B34: 14087 | C34: 45069 | D34: Electrònic | E34: Expedient d'obres d'un immoble. | F34: 7 | G34: Estimació | K34: 45090
B35: 14256 | C35: 45071 | D35: Electrònic | E35: Projecte d'obra nova o reforma d'un restaurant. | F35: 8 | G35: Estimació | K35: 45097
B36: 14294 | C36: 45071 | D36: Electrònic | E36: Projecte d'obres d'un immoble. | F36: 11 | G36: Estimació | K36: 45090
B37: 14606 | C37: 45075 | D37: Electrònic | E37: Documentació de la legalització de l'aljub i la terrassa d'una discoteca. | F37: 7 | G37: Estimació | K37: 45110
B38: 14614 | C38: 45075 | D38: Electrònic | E38: Sonometries d'una discoteca. | F38: 8 | G38: Estimació | K38: 45100
B39: 14896 | C39: 45078 | D39: Presencial | E39: Projecte d'obra i explotació de l'edifici destinat a habitatges tutelats i els seus serveis complementaris i del centre socio-sanitari. | F39: 2 | G39: Estimació | K39: 45084
B40: 15099 | C40: 45079 | D40: Electrònic | E40: Projecte d'instal·lacions elèctriques d'un immoble. | F40: 7 | G40: Estimació | K40: 45090
B41: 15150 | C41: 45079 | D41: Electrònic | E41: Aclariment NRG 14.606.
B42: 15164 | C42: 45079 | D42: Electrònic | E42: Plànols d'un immoble. | F42: 7 | G42: Desestimació | H42: Documentació inexistent
B43: 15165 | C43: 45079 | D43: Electrònic | E43: Plànols d'un immoble. | F43: 7 | G43: Estimació | K43: 45097
B44: 15166 | C44: 45079 | D44: Electrònic | E44: Plànols d'un immoble. | F44: 7 | G44: Desistiment
B45: 15234 | C45: 45082 | D45: Presencial | E45: Projecte d'obres d'un immoble. | F45: 7 | G45: Estimació | K45: 45113
B46: 15960 | C46: 45089 | D46: Electrònic | E46: Projecte d'obres d'un immoble. | F46: 7 | G46: Estimació | K46: 45091
B47: 16010 | C47: 45089 | D47: Electrònic | E47: Projectes executius i llicències d'obres d'una discoteca dels anys 2006, 2007, 2009 i 2020. | F47: 7 | G47: Estimació | K47: 45130
B48: 16355 | C48: 45091 | D48: Presencial | E48: Llicència d'activitats i els projectes d'un restaurant. | F48: 8 | G48: Estimació | K48: 45103
B49: 16508 | C49: 45092 | D49: Presencial | E49: Plànols d'un immoble. | F49: 7 | G49: Estimació | K49: 45103
B50: 16543 | C50: 45092 | D50: Presencial | E50: Projecte tècnic i de primera ocupació d'un immoble. | F50: 7 | G50: Estimació | K50: 45107
B51: 16731 | C51: 45096 | D51: Electrònic | E51: Registre de nivells acústics i estudi d'impacte acústic de l'any 2023 d'un hotel. | F51: 8 | G51: Estimació | K51: 45126
B52: 16732 | C52: 45096 | D52: Electrònic | E52: Registre de nivells acústics i estudi d'impacte acústic de l'any 2023 d'un hotel. | F52: 8 | G52: Estimació | K52: 45126
B53: 16949 | C53: 45097 | D53: Electrònic | E53: Projecte d'obres d'un immoble. | F53: 7 | G53: Estimació | K53: 45107
B54: 17779 | C54: 45105 | D54: Electrònic | E54: Projecte d'obres d'un immoble. | F54: 7 | G54: Desistiment
B55: 17928 | C55: 45106 | D55: Electrònic | E55: Informació sobre una activitat empresarial i el nom de l'empresa titular. | F55: 8 | G55: Estimació | K55: 45119
B56: 18108 | C56: 45107 | D56: Electrònic | E56: Expedients d'obres d'un conjunt residencial. | F56: 7 | G56: Desestimació | H56: Documentació inexistent
B57: 18249 | C57: 45110 | D57: Electrònic | E57: Plànols d'un immoble. | F57: 7 | G57: Estimació | K57: 45133
B58: 18375 | C58: 45111 | D58: Electrònic | E58: Aclariment NRG 16.010.
B59: 18446 | C59: 45111 | D59: Electrònic | E59: Llicència d'activitats d'un restaurant. | F59: 8 | G59: Estimació | K59: 45119
B60: 18890 | C60: 45117 | D60: Electrònic | E60: Relació d'expedients d'obres i activitats d'un hotel. | F60: 7.8 | G60: Estimació | K60: 19/07/2023; 2/08/2023 i 15/09/2023
B61: 19037 | C61: 45117 | D61: Electrònic | E61: Projecte d'obres de dos immobles. | F61: 7 | G61: Estimació | K61: 45139
B62: 19152 | C62: 45118 | D62: Presencial | E62: Expedient d'obres d'un immoble. | F62: 7 | G62: Estimació | K62: 45181
B63: 19285 | C63: 45119 | D63: Presencial | E63: Plànols d'un immoble. | F63: 7 | G63: Desistiment
B64: 19287 | C64: 45119 | D64: Presencial | E64: Plànols d'un immoble. | F64: 7 | G64: Estimació | K64: 45139
B65: 19371 | C65: 45120 | D65: Electrònic | E65: Nova documentació dels projectes executius i llicències d'obres d'una discoteca dels anys 2006, 2007, 2009 i 2020. | F65: 7 | G65: Estimació parcial | H65: Documentació inexistent | K65: 45131
B66: 19558 | C66: 45121 | D66: Electrònic | E66: Documentació addicional al NRG. 14606. | F66: 7 | G66: Inadmissió | H66: Abús del dret
B67: 19641 | C67: 45124 | D67: Electrònic | E67: Informe sobre un incident entre veïns. | F67: 11 | G67: Desistiment
B68: 19891 | C68: 45125 | D68: Electrònic | E68: Projecte tècnic i autorització d'instal·lació lumínica d'un establiment. | F68: 8 | G68: Desestimació | H68: Documentació inexistent
B69: 19889 | C69: 45125 | D69: Electrònic | E69: Plànols d'un immoble. | F69: 7 | G69: Estimació | K69: 45148
B70: 19999 | C70: 45126 | D70: Electrònic | E70: Documentació complementaria NRG. 16.010. | F70: 7 | G70: Estimació | K70: 45189
B71: 20000 | C71: 45126 | D71: Electrònic | E71: Aclariment NRG 16.010.
B72: 20149 | C72: 45127 | D72: Electrònic | E72: Plànols d'un immoble. | F72: 7 | G72: Desistiment
B73: 20356 | C73: 45131 | D73: Electrònic | E73: Segon aclariment NRG 14.606.
B74: 20357 | C74: 45131 | D74: Electrònic | E74: Recordatori NRG 14.606 i 18.249.
B75: 20524 | C75: 45132 | D75: Electrònic | E75: Projecte ambiental i annex d'una discoteca. | F75: 8 | G75: Estimació | K75: 45190
B76: 20601 | C76: 45133 | D76: Electrònic | E76: Plànols d'un immoble. | F76: 7 | G76: Estimació | K76: 45149
B77: 20783 | C77: 45134 | D77: Presencial | E77: Informe emès per la Unitat de Serveis Socials. | F77: 6 | G77: Estimació parcial | H77: Protecció de Dades personals | I77: Sí | J77: Desestimació | K77: 45197
B78: 20839 | C78: 45135 | D78: Electrònic | E78: Tots els expedients d'una societat. | F78: 7 | G78: Estimació | K78: 45183
B79: 20881 | C79: 45135 | D79: Presencial | E79: Plànols d'un immoble. | F79: 7 | G79: Estimació | K79: 45182
B80: 20978 | C80: 45138 | D80: Electrònic | E80: Expedients d'obres i activitats d'un hotel. | F80: 7.8 | G80: Estimació | K80: 45156
B81: 21581 | C81: 45141 | D81: Presencial | E81: Plànols d'un immoble. | F81: 7 | G81: Estimació | K81: 45169
B82: 21915 | C82: 45146 | D82: Presencial | E82: Plànols d'un immoble. | F82: 7 | G82: Estimació | K82: 45177
B83: 21998 | C83: 45146 | D83: Electrònic | E83: Examens d'un procés selectiu a Caporal de la Policia Local. | F83: 4 | G83: Estimació | K83: Pendent. Art. 34.3 LTC i 72.6 DLTC
B84: 22486 | C84: 45154 | D84: Electrònic | E84: Plànols d'un immoble. | F84: 7 | G84: Estimació | K84: 45188
B85: 22688 | C85: 45156 | D85: Presencial | E85: Projecte del carrer Major. | F85: 7 | G85: Estimació | K85: 45246
B86: 22728 | C86: 45156 | D86: Electrònic | E86: Certificat final d'obra d'un immoble. | F86: 7 | G86: Estimació | K86: 45191
B87: 22906 | C87: 45160 | D87: Presencial | E87: Plànols d'un immoble. | F87: 7 | G87: Estimació | K87: 45182
B88: 22990 | C88: 45161 | D88: Presencial | E88: Llicència d'obres d'un immoble. | F88: 7 | G88: Estimació | K88: 45183
B89: 23135 | C89: 45162 | D89: Electrònic | E89: Llicència de primera ocupació d'un immoble. | F89: 7 | G89: Estimació | K89: 45166
B90: 23252 | C90: 45163 | D90: Electrònic | E90: Llicència d'obres d'un immoble. | F90: 7 | G90: Desestimació | H90: Documentació inexistent | K90: 45201
B91: 23283 | C91: 45166 | D91: Electrònic | E91: Llicències d'activitat d'un establiment. | F91: 8 | G91: Estimació | K91: 45197
B92: 23406 | C92: 45166 | D92: Electrònic | E92: Llicència d'obres d'un immoble. | F92: 7 | G92: Desestimació | H92: Documentació inexistent | K92: 45208
B93: 23424 | C93: 45167 | D93: Electrònic | E93: Ordre d'execució d'un immoble. | F93: 7 | G93: Estimació | K93: 45189
B94: 23765 | C94: 45170 | D94: Electrònic | E94: Projecte d'obres d'un immoble. | F94: 7 | G94: Estimació | K94: 45237
B95: 23966 | C95: 45173 | D95: Electrònic | E95: Projecte d'execució d'un immoble. | F95: 7 | G95: Estimació | K95: 45190
B96: 24355 | C96: 45175 | D96: Electrònic | E96: Projecte d'execució d'un immoble. | F96: 7 | G96: Desestimació | H96: Documentació inexistent
B97: 24805 | C97: 45181 | D97: Electrònic | E97: Projecte d'execució d'un immoble. | F97: 7 | G97: Estimació | K97: 45209
B98: 25160 | C98: 45183 | D98: Electrònic | E98: Llicència d'activitat d'un bar. | F98: 8 | G98: Estimació parcial | H98: Derivació Ajuntament de Vila-Seca | K98: 45201
B99: 25184 | C99: 45183 | D99: Electrònic | E99: Llicència d'obres d'un restaurant. | F99: 7 | G99: Desistiment
B100: 25386 | C100: 45184 | D100: Electrònic | E100: Llicències ambientals d'un centre esportiu. | F100: 8 | G100: Estimació | K100: 45218
B101: 25838 | C101: 45187 | D101: Electrònic | E101: Plànols d'un immoble. | F101: 7 | G101: Estimació | K101: 45212
B102: 26126 | C102: 45189 | D102: Presencial | E102: Projecte d'execució d'un immoble. | F102: 7 | G102: Estimació | K102: 45216
B103: 26350 | C103: 45191 | D103: Electrònic | E103: Projecte d'execució d'un immoble. | F103: 7 | G103: Estimació | K103: 45196
B104: 26763 | C104: 45195 | D104: Presencial | E104: Informes tècnics d'un restaurant.
B105: 26920 | C105: 45196 | D105: Electrònic | E105: Nombre de multes pels patinets elèctrics desglossat per agent i mesos dels anys 2022 i 2023. | F105: 11 | G105: Estimació parcial | K105: 45234
B106: 27047 | C106: 45197 | D106: Electrònic | E106: Pòlissa de danys de l'Ajuntament. | F106: 11 | G106: Estimació | K106: 45230
...

Sheet   2024
C3: Informació estadística peticions dret d'accés a la informació pública any 2024
B6: Tipologia
B7: 1 | C7: Informació institucional i organitzativa | F7: 8 | G7: Canals i mecanismes de participació ciutadana
B8: 2 | C8: Acció de govern i normativa | F8: 9 | G8: Seguretat ciutadana i civisme
B9: 3 | C9: Plans, programes i memòries | F9: 10 | G9: Salut pública
B10: 4 | C10: Personal i processos selectius | F10: 11 | G10: Serveis Socials
B11: 5 | C11: Contractes, convenis i subvencions | F11: 12 | G11: Urbanisme
B12: 6 | C12: Gestió econòmica, comptable, pressupostària i patrimonial | F12: 13 | G12: Activitats
B13: 7 | C13: Gestió de serveis públics | F13: 14 | G13: Altra informació
B15: Entrada petició | C15: Data de la SAIP | D15: Perfil | E15: Idioma | F15: Canal | G15: Extracte petició | H15: Unitat responsable de la informació | I15: Tipologia | J15: Sentit resolució | K15: Motivació | L15: Recurs de reposició | M15: Resolució del recurs | N15: Data posada a diposició de la documentació | O15: Reclamació davant la GAIP | P15: Sentit de la reclamació
B16: 200 | C16: 45294 | D16: Persona Jurídica | E16: Castellà | F16: Electrònic | G16: Sol·licitud escrit indicant ocupació de l'expedient 3848/2017 on s'indicava les habitacions i la capacitat total. | H16: Activitats | I16: 13 | J16: Estimació | N16: 44943
B17: 219 | C17: 45294 | D17: Home | E17: Castellà | F17: Presencial | G17: Sol·licitud planell de l'immoble situat al c/Verge del Pilar, 2, 2-3. | H17: Urbanisme | I17: 12 | J17: Estimació | N17: 45336
B18: 899 | C18: 45302 | D18: Dona | E18: Català | F18: Electrònic | G18: Sol·licitud d'informació relacionada amb dos establiments on s'hi duen a terme activitats de naturalesa sexual. | H18: Policia Local i Activitats | I18: 9/13 | J18: Estimació | N18: 45411
B19: 906 | C19: 45302 | D19: Home | E19: Català | F19: Electrònic | G19: Consultar els plànols dels expedients dels edificis: 1-Caracas, situat al c/València, 52; 2-Isis, situat al Passeig Miramar, 84. | H19: Urbanisme | I19: 12 | J19: Estimació | N19: 45331
B20: 928 | C20: 45302 | D20: Persona Jurídica | E20: Català | F20: Electrònic | G20: Sol·licitud de tots els plànols que es tinguin de l'edifici Helios. | H20: Urbanisme | I20: 12 | J20: Estimació | N20: 45327
B21: 1125 | C21: 45303 | D21: Dona | E21: Català | F21: Electrònic | G21: Informació sobre locals i/o establiments on s'hi duen a terme activitats de naturalesa sexual al terme municipal de Salou. | H21: Policia Local i Activitats | I21: 9/13 | J21: Estimació | N21: 45402
B22: 1172 | C22: 45306 | D22: Home | E22: Català | F22: Electrònic | G22: Sol·licitud de les ordenances i sancions per gravar a la via pública per part de periodistes sense permís previ. | H22: Via pública | I22: 2 | J22: Estimació | N22: 45331
B23: 1184 | C23: 45306 | D23: Dona | E23: Català | F23: Electrònic | G23: Sol·licitud de consulta de tots els expedients de llicències i activitats d'un edifici del c/Berlín, 18-20. | H23: Urbanisme i Activitats | I23: 12 | J23: Estimació | N23: 45399
B24: 1939 | C24: 45314 | D24: Dona | E24: Català | F24: Presencial | G24: Sol·licitud de consulta dels plànols de l'edifici Barlovento al c/ Major, 13 i de l'edifici Sotovento al c/Nord, 26. | H24: Urbanisme | I24: 12 | J24: Estimació | N24: 45338
B25: 1972 | C25: 45314 | D25: Persona Jurídica | E25: Català | F25: Electrònic | G25: Sol·licitud de la documentació aportada pel promotor/constructor de l'edifici Ancora, situat al Passeig Miramar, 20. | H25: Urbanisme | I25: 12 | J25: Estimació | N25: 45331
B26: 1973 | C26: 45314 | D26: Persona Jurídica | E26: Català | F26: Electrònic | G26: Sol·licitud de la documentació aportada pel promotor/constructor de l'edifici situat al c/ València 100. | H26: Urbanisme | I26: 12 | J26: Estimació | N26: 45331
B27: 2132 | C27: 45316 | D27: Dona | E27: Català | F27: Presencial | G27: Sol·licitud d'informació relativa a les llicències dels HUTT de l'edifici Cala Salou i i el nombre màxim d'ocupants de cada pis. | H27: Activitats | I27: 13 | J27: Estimació | N27: 45336
B28: 2199 | C28: 45316 | D28: Persona Jurídica | E28: Català | F28: Electrònic | G28: Sol·licitud de còpia plànols de l'edifici Montemar al c/Roger de Llúria 4-6. | H28: Urbanisme | I28: 12 | J28: Estimació | N28: 45342
B29: 2356 | C29: 45320 | D29: Home | E29: Castellà | F29: Electrònic | G29: Sol·licitud de plànols d'un traster de l'edifici Royal Park. | H29: Urbanisme | I29: 12 | J29: Estimació | N29: 45341
B30: 2537 | C30: 45321 | D30: Dona | E30: Català | F30: Electrònic | G30: Sol·licitud de plànols d'un immoble de l'edifici Bahia. | H30: Urbanisme | I30: 12 | J30: Estimació | N30: 45342
B31: 2625 i 11174 | C31: 45321 | D31: Home | E31: Castellà | F31: Presencial | G31: Sol·licitud de plànols d'un immoble situat al c/Amposta, 14. | H31: Urbanisme | I31: 12 | J31: Estimació | N31: 45434
B32: 2676 | C32: 45323 | D32: Persona Jurídica | E32: Castellà | F32: Electrònic | G32: Sol·licitud per conèixer la identificació dels empleats públics que han accedit als expedients d'una discoteca. | H32: Qualitat | I32: 14 | J32: Estimació | N32: 45336
B33: 3107 | C33: 45329 | D33: Home | E33: Català | F33: Electrònic | G33: Sol·licitud d'actualització de les dades de les noves regidories després de les eleccions municipals. | H33: Qualitat | I33: 1 | J33: Estimació | N33: 45357
B34: 3145 | C34: 45329 | D34: Dona | E34: Català | F34: Presencial | G34: Sol·licitud de plànols d'un immoble situat al c/Terol, 3. | H34: Urbanisme | I34: 12 | J34: Estimació | N34: 45342
B35: 3356 | C35: 45331 | D35: Dona | E35: Català | F35: Electrònic | G35: Sol·licitud dels enunciats i respostes dels exàmens del test i cas pràctic de les últimes proves de promoció interna de la categoria C1. | H35: Recursos Humans | I35: 4 | J35: Estimació parcial | K35: Dades personals | N35: 45350
B36: 3368 | C36: 45331 | D36: Persona Jurídica | E36: Català | F36: Electrònic | G36: Sol·licitud dels plànols de l'estructura de l'Hotel Jaume I. | H36: Urbanisme | I36: 12 | J36: Desestimació | K36: Documentació inexistent
B37: 3546 | C37: 45334 | D37: Dona | E37: Castellà | F37: Electrònic | G37: Sol·licitud per la consulta dels plànols i final d'obra de l'edifici situat al c/Barcelona, 3. | H37: Urbanisme | I37: 12 | J37: Desestimació | K37: Documentació inexistent
B38: 3681 | C38: 45335 | D38: Dona | E38: Castellà | F38: Presencial | G38: Sol·licitud de la llicència d'activitats d'un establiment de souvenirs. | H38: Activitats | I38: 13 | J38: Estimació | N38: 45749
B39: 3710 | C39: 45335 | D39: Persona Jurídica | E39: Català | F39: Electrònic | G39: Sol·licitud del permís d'obres i del projecte que es va aprovar l'any 2008 d'un immoble situat a Crta. del Far, 44. | H39: Urbanisme | I39: 12 | J39: Estimació | N39: 45357
B40: 3940 | C40: 45336 | D40: Home | E40: Castellà | F40: Electrònic | G40: Sol·licitud del nombre de detencions fetes i nombre de pisos ocupats durant l'any 2023. | H40: Policia Local | I40: 14 | J40: Derivació
B41: 4300 | C41: 45341 | D41: Home | E41: Català | F41: Electrònic | G41: Sol·licitud de plànols dels edificis Nautilus, c/Tortosa, 12; Maracaibo, c/Sol, 29; Fabiola, c/Sol, 60 i Galaxia, c/Sol, 67. | H41: Urbanisme | I41: 12 | J41: Estimació | N41: 45362
B42: 4327 | C42: 45341 | D42: Home | E42: Castellà | F42: Presencial | G42: Sol·licitud de plànols de l'edifici Ulises situat al c/ Cala de la Font, 33-35. | H42: Urbanisme | I42: 12 | J42: Estimació | N42: 45359
B43: 4368 | C43: 45341 | D43: Home | E43: Català | F43: Electrònic | G43: Sol·licitud dels plànols de la rehabilitació de la façana de l'edifici Cuter situat al c/Pla de l'Era, 6. | H43: Urbanisme | I43: 12 | J43: Estimació | N43: 45359
B44: 4440 | C44: 45342 | D44: Dona | E44: Castellà | F44: Presencial | G44: Sol·licitud d'informació sobre el projecte d'activitat de dos establiments de restauració. | H44: Activitats | I44: 13 | J44: Desistiment | K44: Desistiment
B45: 4468 | C45: 45342 | D45: Home | E45: Català | F45: Presencial | G45: Sol·licitud de la llicència d'ocupació de via pública amb taules i cadires d'un establiment de restauració. | H45: Via pública | I45: 6 | J45: Estimació | N45: 45387
B46: 4597 | C46: 45344 | D46: Dona | E46: Castellà | F46: Electrònic | G46: Sol·licitud de plànols de l'edifici Ulises situat al c/ Barcelona, 3. | H46: Urbanisme | I46: 12 | J46: Derivació
B47: 4827 | C47: 45348 | D47: Home | E47: Català | F47: Electrònic | G47: Sol·licitud de la data en què es va concedir la llicència d'obres de l'edifici situat al c/Brussel·les, 16. | H47: Urbanisme | I47: 12 | J47: Estimació | N47: 45356
B48: 4970 | C48: 45349 | D48: Home | E48: Català | F48: Presencial | G48: Sol·licitud del projecte d'obra de l'edifici California situat al c/ Jaume Vicens Vives, 7. | H48: Urbanisme | I48: 12 | J48: Estimació | N48: 45378
B49: 5328 | C49: 45352 | D49: Persona Jurídica | E49: Castellà | F49: Electrònic | G49: Sol·licitud dels llistats HUTTS de la Comunitat de propietaris Punta del Cavall. | H49: Activitats | I49: 13 | J49: Estimació | N49: 45364
B50: 5680 | C50: 45356 | D50: Home | E50: Català | F50: Electrònic | G50: Sol·licitud dels expedients sancionadors i de restauració dels darrers 5 anys d'un establiment hoteler. | H50: Urbanisme | I50: 12 | J50: Estimació | N50: 45369
B51: 5729 | C51: 45356 | D51: Persona Jurídica | E51: Català | F51: Presencial | G51: Sol·licitud de la llicència d'obres d'un establiment de restauració. | H51: Urbanisme | I51: 12 | J51: Estimació | N51: 45371
B52: 5741 | C52: 45356 | D52: Dona | E52: Català | F52: Presencial | G52: Sol·licitud de l'informe d'aforament autoritzat a una discoteca. | H52: Activitats | I52: 13 | J52: Estimació | N52: 45378
B53: 5742 | C53: 45356 | D53: Dona | E53: Català | F53: Electrònic | G53: Sol·licitud d'informació sobre el Servei d'Assistència Domiciliaria. | H53: Serveis Socials | I53: 11 | J53: Estimació | N53: 45377
B54: 5967 | C54: 45358 | D54: Home | E54: Català | F54: Presencial | G54: Sol·licitud del projecte d'obres de l'edifici Neimar situat a la Av. Salvador Vilaseca, 7. | H54: Urbanisme | I54: 12 | J54: Estimació | N54: 45386
B55: 6315 | C55: 45362 | D55: Home | E55: Castellà | F55: Presencial | G55: Sol·licitud de la llicència d'activitat d'un establiment de restauració. | H55: Activitats | I55: 13 | J55: Estimació | N55: 45386
B56: 6324 | C56: 45362 | D56: Persona Jurídica | E56: Català | F56: Electrònic | G56: Sol·licitud de les queixes dels veins en relació a una terrassa exterior i diverses resolucions emeses en relació a una discoteca. | H56: Activitats | I56: 13 | J56: Estimació parcial | K56: Dades personals | L56: Sí | M56: Desestimació | N56: 45495
B57: 6492 | C57: 45363 | D57: Dona | E57: Català | F57: Electrònic | G57: Sol·licitud de plànols d'un immoble situat al c/Ametlla de Mar, 11. | H57: Urbanisme | I57: 12 | J57: Estimació | N57: 45378
B58: 6505 | C58: 45363 | D58: Dona | E58: Català | F58: Electrònic | G58: Sol·licitud de l'expedient d'enderroc de l'edifici situat al c/Bosc del Quec, 12. | H58: Urbanisme | I58: 12 | J58: Desestimació | K58: Documentació inexistent
B59: 6522, 19.514 i 20.061 | C59: 45363 | D59: Persona Jurídica | E59: Català | F59: Electrònic | G59: Sol·licitud del projecte lumínic d'una discoteca. | H59: Activitats | I59: 13 | J59: Estimació | N59: 45460
B60: 6928 | C60: 45367 | D60: Home | E60: Català | F60: Electrònic | G60: Sol·licitud del document de valoració dels béns aportats a la reparcel·lació voluntària del PAU CS 03. | H60: Planejament urbanístic | I60: 3 | J60: Estimació | N60: 45390
B61: 7063 | C61: 45370 | D61: Dona | E61: Català | F61: Electrònic | G61: Sol·licitud de les llicències d'obres majors i menors concedides durant els darrers 5 anys a un establiment hoteler. | H61: Urbanisme | I61: 12 | J61: Estimació | N61: 45371
B62: 7085 | C62: 45370 | D62: Home | E62: Català | F62: Electrònic | G62: Sol·licitud del projecte bàsic i d'execució de l'edifici situat al c/Guillem de Claramunt, 16. | H62: Urbanisme | I62: 12 | J62: Desistiment
B63: 7124 | C63: 45370 | D63: Persona Jurídica | E63: Castellà | F63: Electrònic | G63: Sol·licitud de la llicència d'activitats d'un establiment de restauració. | H63: Activitats | I63: 13 | J63: Estimació | N63: 45468
B64: 7231 | C64: 45371 | D64: Dona | E64: Castellà | F64: Electrònic | G64: Sol·licitud de la llicència d'ocupació de l'edifici Marathon situat al c/Joanot Martorell, 1. | H64: Urbanisme | I64: 12 | J64: Estimació | N64: 45379
B65: 7399 | C65: 45373 | D65: Dona | E65: Castellà | F65: Electrònic | G65: Sol·licitud de les 4 sonometries realitzades en una discoteca. | H65: Activitats | I65: 13 | J65: Estimació | N65: 45378
B66: 7426 | C66: 45373 | D66: Home | E66: Català | F66: Electrònic | G66: Sol·licitud de l'estudi de la UPC sobre la situació de les platges al municipi. | H66: Platges | I66: 14 | J66: Estimació | N66: 45021
B67: 7573 | C67: 45376 | D67: Persona Jurídica | E67: Català | F67: Electrònic | G67: Sol·licitud de la llicència activitat d'un supermercat. | H67: Activitats | I67: 13 | J67: Estimació | N67: 45392
B68: 7669 i 7670 | C68: 45377 | D68: Persona Jurídica | E68: Castellà | F68: Electrònic | G68: Sol·licitud del nombre de banys i fonts públiques disponibles al municipi i el seu cost. | H68: Concessions | I68: 7 | J68: Estimació | N68: 45407
B69: 7917 | C69: 45379 | D69: Home | E69: Català | F69: Presencial | G69: Sol·licitud de plànols d'un immoble de l'edifici Salou Elite situat al c/Tarragona, 22. | H69: Urbanisme | I69: 12 | J69: Estimació | N69: 45415
B70: 8066 | C70: 45384 | D70: Dona | E70: Català | F70: Presencial | G70: Sol·licitud de la llicència d'activitats d'una perruqueria. | H70: Activitats | I70: 13 | J70: Estimació | N70: 45397
B71: 8072 | C71: 45384 | D71: Home | E71: Castellà | F71: Electrònic | G71: Sol·licitud del projecte tècnic de l'edifici situat al c/Berlín, 15. | H71: Urbanisme | I71: 12 | J71: Desistiment
B72: 8784 | C72: 45390 | D72: Persona Jurídica | E72: Català | F72: Electrònic | G72: Sol·licitud de la llicència i/o projecte d'activitat de parquing de l'edifici Catalunya, 92. | H72: Urbanisme | I72: 12 | J72: Desestimació | K72: Documentació inexistent | N72: 45572
B73: 9006 | C73: 45392 | D73: Dona | E73: Castellà | F73: Presencial | G73: Sol·licitud de plànols de dos habitatges situats a Plaça Europa, 11. | H73: Urbanisme | I73: 12 | J73: Estimació | N73: 45432
B74: 9097 | C74: 45393 | D74: Home | E74: Català | F74: Electrònic | G74: Sol·licitud del certificat de final d'obra de l'edifici situat al c/Josep Carner, 4. | H74: Urbanisme | I74: 12 | J74: Estimació | N74: 45408
B75: 9329 | C75: 45394 | D75: Home | E75: Castellà | F75: Presencial | G75: Sol·licitud dels plànols d'estructura i serveis d'aigua i gas d'un immoble situat al c/Arquitecte Ubach, 12. | H75: Urbanisme | I75: 12 | J75: Estimació | N75: 45408
B76: 9519 | C76: 45398 | D76: Home | E76: Castellà | F76: Electrònic | G76: Sol·licitud dels plànols de distribució legalitzats, memòria i llicències atorgades a un establiment de restauració. | H76: Activitats | I76: 13 | J76: Estimació | N76: 45432
B77: 9573 | C77: 45398 | D77: Dona | E77: Castellà | F77: Presencial | G77: Sol·licitud dels plànols de les canonades de l'edifici California II, situat al c/Casp, 3. | H77: Urbanisme | I77: 12 | J77: Estimació | N77: 45408
B78: 9582 | C78: 45398 | D78: Home | E78: Català | F78: Presencial | G78: Sol·licitud de la llicència d'activitat d'un establiment de restauració. | H78: Activitats | I78: 13 | J78: Estimació | N78: 45426
B79: 9612 | C79: 45398 | D79: Dona | E79: Català | F79: Electrònic | G79: Sol·licitud del llibre de l'edifici situat al c/ Berlín, 15. | H79: Urbanisme | I79: 12 | J79: Desestimació | K79: Documentació inexistent
B80: 9857 | C80: 45400 | D80: Home | E80: Català | F80: Presencial | G80: Sol·licitud dels plànols de distribució, primera planta i instal·lacions de l'edifici Scala Dei. | H80: Urbanisme | I80: 12 | J80: Estimació | N80: 45415
B81: 9964 | C81: 45401 | D81: Home | E81: Català | F81: Electrònic | G81: Sol·licitud del projecte de construcció de l'edifici situat al c/Brussel·les, 26-28. | H81: Urbanisme | I81: 12 | J81: Desistiment | K81: Documentació inexistent
B82: 9983 | C82: 45401 | D82: Persona Jurídica | E82: Castellà | F82: Electrònic | G82: Sol·licitud de les llicències d'obres concedides a un local de l'edifici Ordina, situat al c/ Brussel·les, 11. | H82: Urbanisme | I82: 12 | J82: Desestimació | K82: Documentació inexistent
B83: 10853 | C83: 45411 | D83: Dona | E83: Català | F83: Electrònic | G83: Sol·licitud del projecte d'obra de l'edifici situat al c/Berlin, 15. | H83: Urbanisme | I83: 12 | J83: Estimació | N83: 45429
B84: 11086 | C84: 45413 | D84: Home | E84: Català | F84: Electrònic | G84: Sol·licitud per conèixer la despesa de l'aigua que prové del Pantà de Riudecanyes amb informació detallada de la seva distribució. | H84: Mancomunitat Gestora Recursos Hídrics Salou Via-Seca | I84: 7 | J84: Derivació
B85: 11185 | C85: 45414 | D85: Persona Jurídica | E85: Castellà | F85: Electrònic | G85: Sol·licitud de l'expedient d'obra major de l'edifici Ondina situat al c/Tortosa, 2. | H85: Urbanisme | I85: 12 | J85: Desistiment | N85: 45496
B86: 11926 | C86: 45421 | D86: Persona Jurídica | E86: Català | F86: Electrònic | G86: Sol·licitud de les resolucions de procediments sancionadors incoats a una discoteca. | H86: Activitats | I86: 13 | J86: Desistiment | K86: Documentació inexistent | N86: 45460
B87: 12110 | C87: 45422 | D87: Home | E87: Castellà | F87: Presencial | G87: Sol·licitud dels plànols d'un immoble de l'edifici Aqua, situat al c/Camí del Racó, 4. | H87: Urbanisme | I87: 12 | J87: Estimació | N87: 45456
B88: 12510 | C88: 45427 | D88: Home | E88: Castellà | F88: Presencial | G88: Sol·licitud per conèixer el nombre de persones empadronades al municipip amb el seu nom i cognoms. | H88: Estadística | I88: 14 | J88: Estimació | N88: 45462
B89: 12538 | C89: 45427 | D89: Home | E89: Català | F89: Electrònic | G89: Sol·licitud dels plànols de l'edifici Euromar situat al c/Sínies, 8. | H89: Urbanisme | I89: 12 | J89: Estimació | N89: 45434
B90: 12622 | C90: 45428 | D90: Persona Jurídica | E90: Català | F90: Electrònic | G90: Sol·licitud de tots els expedients en règim de comunicació i llicències d'obra d'un immoble de l'edifici Santillana situat al c/ Brussel·les, 2. | H90: Urbanisme | I90: 12 | J90: Estimació | N90: 45463
B91: 12887 | C91: 45432 | D91: Home | E91: Català | F91: Electrònic | G91: Sol·licitud dels expedients d’activitats, de modificació o ampliació d’aquesta, i llicència ambiental d’un centre esportiu. | H91: Activitats | I91: 13 | J91: Estimació parcial | K91: Documentació inexistent | N91: 45481
B92: 12899 | C92: 45432 | D92: Home | E92: Català | F92: Electrònic | G92: Sol·licitud d’informació sobre la concessió d’ús de domini públic a un centre esportiu. | H92: Concessions | I92: 6 | J92: Estimació | N92: 45448
B93: 12906 | C93: 45432 | D93: Home | E93: Castellà | F93: Electrònic | G93: Sol·licitud de tota la documentació existent a l'Ajuntament relacionada amb Google. | I93: 14 | J93: Desestimació | K93: Documentació inexistent
B94: 13251 | C94: 45435 | D94: Dona | E94: Català | F94: Electrònic | G94: Sol·licitud de plànols d'un immoble de l'edifici la Sínia situat en el c/Vicenç Vives, 7. | H94: Urbanisme | I94: 12 | J94: Desistiment | N94: 46595
B95: 13262 | C95: 45435 | D95: Home | E95: Castellà | F95: Presencial | G95: Sol·licitud dels plànols de dos immobles dels edificis Iris i Bahia Dorada situats al c/ Barbastre, 8 i 9, | H95: Urbanisme | I95: 12 | J95: Estimació | N95: 45449
B96: 13265 | C96: 45441 | D96: Persona Jurídica | E96: Català | F96: Electrònic | G96: Sol·licitud de la RLT i Oferta Pública per l'any 2024, fitxes descriptives de tots els llocs de treball i organigrames i resolucions de compatibilitat dels darrers 15 anys de la Corporació. | H96: Recursos Humans | I96: 4 | J96: Estimació | N96: 45482
B97: 13288 | C97: 45435 | D97: Home | E97: Castellà | F97: Presencial | G97: Sol·licitud per saber si una activitat de restauració disposa de sortida de fums. | H97: Activitats | I97: 13 | J97: Estimació | N97: 45572
B98: 13290 | C98: 45435 | D98: Home | E98: Català | F98: Electrònic | G98: Sol·licitud del projecte d'activitats d’un establiment comercial. | H98: Activitats | I98: 13 | J98: Estimació | N98: 45447
B99: 13308 | C99: 45435 | D99: Home | E99: Castellà | F99: Electrònic | G99: Sol·licitud d’informació sobre els plànols de la xarxa de clavegueram i possibles servituds de pas de la zona entorn l'edifici Sant Remo i les ajudes de finançament. | H99: Concessions | I99: 7 | J99: Estimació | N99: 45492
B100: 13450 | C100: 45439 | D100: Dona | E100: Català | F100: Electrònic | G100: Sol·licitud del projecte d’edificació del soterrani d’un establiment de restauració. | H100: Urbanisme | I100: 12 | J100: Estimació | N100: 45461
B101: 13495 | C101: 45439 | D101: Dona | E101: Castellà | F101: Electrònic | G101: Sol·licitud dels plànols d’un immoble de l'edifici Les Ones situat al c/Brussel·les, 51. | H101: Urbanisme | I101: 12 | J101: Estimació | N101: 45495
B102: 13515 | C102: 45439 | D102: Home | E102: Català | F102: Electrònic | G102: Sol·licitud de l'expedient d'obres d’un habitatge unifamiliar. | H102: Urbanisme | I102: 12 | J102: Estimació | N102: 45481
B103: 13600 | C103: 45440 | D103: Home | E103: Castellà | F103: Presencial | G103: Sol·licitud del projecte de construcció de l'edifici Formentor IV per comprovar la sortida de fums d'un establiment de restauració. | H103: Urbanisme | I103: 12 | J103: Desistiment
B104: 13612 | C104: 45440 | D104: Home | E104: Català | F104: Presencial | G104: Sol·licitud dels plànols d’un establiment de souvenirs. | H104: Urbanisme | I104: 12 | J104: Estimació | N104: 45460
B105: 13680 | C105: 45440 | D105: Dona | E105: Català | F105: Electrònic | G105: Sol·licitud d'informació relacionada amb establiments on s'hi duen a terme activitats de naturalesa sexual. | H105: Policia Local i Activitats | I105: 9/13 | J105: Estimació | N105: 45491
...

Sheet 2025 
C3: Informació estadística peticions dret d'accés a la informació pública any 2025
B5: Tipologia
B6: 1 | C6: Informació institucional i organitzativa | D6: 9 | E6: Seguretat ciutadana i civisme
B7: 2 | C7: Acció de govern i normativa | D7: 10 | E7: Salut pública
B8: 3 | C8: Plans, programes i memòries | D8: 11 | E8: Serveis Socials
B9: 4 | C9: Personal i processos selectius | D9: 12 | E9: Urbanisme
B10: 5 | C10: Contractes, convenis i subvencions | D10: 13 | E10: Activitats
B11: 6 | C11: Gestió econòmica, comptable, pressupostària i patrimonial | D11: 14 | E11: Altra informació
B12: 7 | C12: Gestió de serveis públics
B13: 8 | C13: Canals i mecanismes de participació ciutadana
B15: =+'[1] 2025'!C13 -> Entrada petició | C15: =+'[1] 2025'!D13 -> Data de la SAIP | D15: =+'[1] 2025'!E13 -> Dies ad quem | E15: =+'[1] 2025'!F13 -> Termini | F15: ='[1] 2025'!$G$13 -> Causa de l'incompliment del termini màxim per resoldre | G15: Unitat responsable de la informació | H15: Perfil | I15: Idioma | J15: Canal | K15: Extracte petició | L15: Tipologia | M15: Avís 10 dies | N15: Audiència | O15: Al·legacions | P15: Data notificació resolució/comunicació | Q15: Sentit | R15: Motivació | S15: Data posada a disposició de la documentació | T15: Recurs de reposició | U15: Resolució del recurs | V15: Reclamació davant la GAIP | W15: Sentit de la reclamació
B16: =IF('[1] 2025'!C14 <>"",'[1] 2025'!C14,"") -> 165 | C16: =IF('[1] 2025'!D14 <>"",'[1] 2025'!D14,"") -> 45660 | D16: =IF('[1] 2025'!E14 <>"",'[1] 2025'!E14,"") -> 45691 | E16: =IF('[1] 2025'!F14 <>"",'[1] 2025'!F14,"") -> 56 | F16: =IF('[1] 2025'!G14 <>"",'[1] 2025'!G14,"") -> La informació es trasllada a la Unitat de Govern Obert amb retràs | G16: =IF('[1] 2025'!H14 <>"",'[1] 2025'!H14,"") -> Urbanisme | H16: =IF('[1] 2025'!I$14 <>"",'[1] 2025'!I$14,"") -> Home | I16: ='[1] 2025'!J14 -> Castellà | J16: ='[1] 2025'!K14 -> Electrònic | K16: ='[1] 2025'!L14 -> Sol·licitud de la llicència d'obra major i de primera ocupació de l'edifici situat al c/Ponent, núm. 3. | L16: ='[1] 2025'!M14 -> 12 | M16: ='[1] 2025'!N14 -> Sí | N16: =IF('[1] 2025'!O14 <>"",'[1] 2025'!O14,"") | O16: =IF('[1] 2025'!P14 <>"",'[1] 2025'!P14,"") | P16: ='[1] 2025'!Q14 -> 45716 | Q16: =IF('[1] 2025'!R14 <>"",'[1] 2025'!R14,"") -> Estimació | S16: ='[1] 2025'!T14 -> 45716 | T16: =IF('[1] 2025'!U14 <>"",'[1] 2025'!U14,"") | U16: =IF('[1] 2025'!V14 <>"",'[1] 2025'!V14,"") | V16: =IF('[1] 2025'!W$14 <>"",'[1] 2025'!W$14,"") | W16: =IF('[1] 2025'!X$14 <>"",'[1] 2025'!X$14,"")
B17: =IF('[1] 2025'!C15 <>"",'[1] 2025'!C15,"") -> 362 | C17: =IF('[1] 2025'!D15 <>"",'[1] 2025'!D15,"") -> 45665 | D17: =IF('[1] 2025'!E15 <>"",'[1] 2025'!E15,"") -> 45696 | E17: =IF('[1] 2025'!F15 <>"",'[1] 2025'!F15,"") -> 21 | F17: =IF('[1] 2025'!G15 <>"",'[1] 2025'!G15,"") | G17: =IF('[1] 2025'!H15 <>"",'[1] 2025'!H15,"") -> Activitats | H17: =IF('[1] 2025'!I15 <>"",'[1] 2025'!I15,"") -> Home | I17: ='[1] 2025'!J15 -> Castellà | J17: ='[1] 2025'!K15 -> Presencial | K17: ='[1] 2025'!L15 -> Sol·licitud dels plànols del projecte d'una activitat de restauració. | L17: ='[1] 2025'!M15 -> 13 | M17: ='[1] 2025'!N15 -> Sí | N17: =IF('[1] 2025'!O15 <>"",'[1] 2025'!O15,"") | O17: =IF('[1] 2025'!P15 <>"",'[1] 2025'!P15,"") | P17: ='[1] 2025'!Q15 -> 45686 | Q17: =IF('[1] 2025'!R15 <>"",'[1] 2025'!R15,"") -> Estimació | R17: =IF('[1] 2025'!S$14 <>"",'[1] 2025'!S$14,"") | S17: ='[1] 2025'!T15 -> 45686 | T17: =IF('[1] 2025'!U15 <>"",'[1] 2025'!U15,"") | U17: =IF('[1] 2025'!V15 <>"",'[1] 2025'!V15,"") | V17: =IF('[1] 2025'!W$14 <>"",'[1] 2025'!W$14,"") | W17: =IF('[1] 2025'!X$14 <>"",'[1] 2025'!X$14,"")
B18: =IF('[1] 2025'!C16 <>"",'[1] 2025'!C16,"") -> 677 | C18: =IF('[1] 2025'!D16 <>"",'[1] 2025'!D16,"") -> 45667 | D18: =IF('[1] 2025'!E16 <>"",'[1] 2025'!E16,"") -> 45698 | E18: =IF('[1] 2025'!F16 <>"",'[1] 2025'!F16,"") -> 19 | F18: =IF('[1] 2025'!G16 <>"",'[1] 2025'!G16,"") | G18: =IF('[1] 2025'!H16 <>"",'[1] 2025'!H16,"") -> Urbanisme | H18: =IF('[1] 2025'!I16 <>"",'[1] 2025'!I16,"") -> Home | I18: ='[1] 2025'!J16 -> Castellà | J18: ='[1] 2025'!K16 -> Presencial | K18: ='[1] 2025'!L16 -> Sol·licitud del plànol del projecte de construcció de l'edifici Catalunya-92, II i, concretament, del local 2 situat al c/Vendrell, núm. 16. | L18: ='[1] 2025'!M16 -> 12 | M18: ='[1] 2025'!N16 -> Sí | N18: =IF('[1] 2025'!O16 <>"",'[1] 2025'!O16,"") | O18: =IF('[1] 2025'!P16 <>"",'[1] 2025'!P16,"") | P18: ='[1] 2025'!Q16 -> 45686 | Q18: =IF('[1] 2025'!R16 <>"",'[1] 2025'!R16,"") -> Estimació | R18: =IF('[1] 2025'!S$14 <>"",'[1] 2025'!S$14,"") | S18: ='[1] 2025'!T16 -> 45686 | T18: =IF('[1] 2025'!U16 <>"",'[1] 2025'!U16,"") | U18: =IF('[1] 2025'!V16 <>"",'[1] 2025'!V16,"") | V18: =IF('[1] 2025'!W$14 <>"",'[1] 2025'!W$14,"") | W18: =IF('[1] 2025'!X$14 <>"",'[1] 2025'!X$14,"")
B19: =IF('[1] 2025'!C17 <>"",'[1] 2025'!C17,"") -> 691 | C19: =IF('[1] 2025'!D17 <>"",'[1] 2025'!D17,"") -> 45667 | D19: =IF('[1] 2025'!E17 <>"",'[1] 2025'!E17,"") -> 45698 | E19: =IF('[1] 2025'!F17 <>"",'[1] 2025'!F17,"") -> 45 | F19: =IF('[1] 2025'!G17 <>"",'[1] 2025'!G17,"") -> La informació es trasllada a la Unitat de Govern Obert amb retràs | G19: =IF('[1] 2025'!H17 <>"",'[1] 2025'!H17,"") -> Activitats | H19: =IF('[1] 2025'!I17 <>"",'[1] 2025'!I17,"") -> Home | I19: ='[1] 2025'!J17 -> Català | J19: ='[1] 2025'!K17 -> Presencial | K19: ='[1] 2025'!L17 -> Sol·licitud de còpia de la llicència d'activitat d'un establiment de restauració. | L19: ='[1] 2025'!M17 -> 13 | M19: ='[1] 2025'!N17 -> Sí | N19: =IF('[1] 2025'!O17 <>"",'[1] 2025'!O17,"") | O19: =IF('[1] 2025'!P17 <>"",'[1] 2025'!P17,"") | P19: ='[1] 2025'!Q17 -> 45712 | Q19: =IF('[1] 2025'!R17 <>"",'[1] 2025'!R17,"") -> Estimació | R19: =IF('[1] 2025'!S$14 <>"",'[1] 2025'!S$14,"") | S19: ='[1] 2025'!T17 -> 45712 | T19: =IF('[1] 2025'!U17 <>"",'[1] 2025'!U17,"") | U19: =IF('[1] 2025'!V17 <>"",'[1] 2025'!V17,"") | V19: =IF('[1] 2025'!W$14 <>"",'[1] 2025'!W$14,"") | W19: =IF('[1] 2025'!X$14 <>"",'[1] 2025'!X$14,"")
B20: =IF('[1] 2025'!C18 <>"",'[1] 2025'!C18,"") -> 998 | C20: =IF('[1] 2025'!D18 <>"",'[1] 2025'!D18,"") -> 45671 | D20: =IF('[1] 2025'!E18 <>"",'[1] 2025'!E18,"") -> 45702 | E20: =IF('[1] 2025'!F18 <>"",'[1] 2025'!F18,"") -> 23 | F20: =IF('[1] 2025'!G18 <>"",'[1] 2025'!G18,"") | G20: =IF('[1] 2025'!H18 <>"",'[1] 2025'!H18,"") -> Urbanisme | H20: =IF('[1] 2025'!I18 <>"",'[1] 2025'!I18,"") -> Home | I20: ='[1] 2025'!J18 -> Català | J20: ='[1] 2025'!K18 -> Presencial | K20: ='[1] 2025'!L18 -> Sol·licitud dels plànols del local situat al c/Barcelona, núm. 62 de l'edifici Milano. | L20: ='[1] 2025'!M18 -> 12 | M20: ='[1] 2025'!N18 -> Sí | N20: =IF('[1] 2025'!O18 <>"",'[1] 2025'!O18,"") | O20: =IF('[1] 2025'!P18 <>"",'[1] 2025'!P18,"") | P20: ='[1] 2025'!Q18 -> 45694 | Q20: =IF('[1] 2025'!R18 <>"",'[1] 2025'!R18,"") -> Estimació | R20: =IF('[1] 2025'!S$14 <>"",'[1] 2025'!S$14,"") | S20: ='[1] 2025'!T18 -> 45694 | T20: =IF('[1] 2025'!U18 <>"",'[1] 2025'!U18,"") -> 45658 | U20: =IF('[1] 2025'!V18 <>"",'[1] 2025'!V18,"") -> 45689 | V20: =IF('[1] 2025'!W$14 <>"",'[1] 2025'!W$14,"") | W20: =IF('[1] 2025'!X$14 <>"",'[1] 2025'!X$14,"")
B21: =IF('[1] 2025'!C19 <>"",'[1] 2025'!C19,"") -> 1085 | C21: =IF('[1] 2025'!D19 <>"",'[1] 2025'!D19,"") -> 45672 | D21: =IF('[1] 2025'!E19 <>"",'[1] 2025'!E19,"") -> 45703 | E21: =IF('[1] 2025'!F19 <>"",'[1] 2025'!F19,"") -> 2 | F21: =IF('[1] 2025'!G19 <>"",'[1] 2025'!G19,"") | G21: =IF('[1] 2025'!H19 <>"",'[1] 2025'!H19,"") -> Personal i processos selectius | H21: =IF('[1] 2025'!I19 <>"",'[1] 2025'!I19,"") -> Home | I21: ='[1] 2025'!J19 -> Català | J21: ='[1] 2025'!K19 -> Electrònic | K21: ='[1] 2025'!L19 -> Sol·licitud de la totalitat de les proves de secretari-interventor realitzades en els darrers 5 anys. | L21: ='[1] 2025'!M19 -> 4 | M21: ='[1] 2025'!N19 -> Sí | N21: =IF('[1] 2025'!O19 <>"",'[1] 2025'!O19,"") | O21: =IF('[1] 2025'!P19 <>"",'[1] 2025'!P19,"") | P21: ='[1] 2025'!Q19 -> 45674 | Q21: =IF('[1] 2025'!R19 <>"",'[1] 2025'!R19,"") -> Estimació | R21: =IF('[1] 2025'!S$14 <>"",'[1] 2025'!S$14,"") | S21: ='[1] 2025'!T19 -> 45674 | T21: =IF('[1] 2025'!U19 <>"",'[1] 2025'!U19,"") | U21: =IF('[1] 2025'!V19 <>"",'[1] 2025'!V19,"") | V21: =IF('[1] 2025'!W$14 <>"",'[1] 2025'!W$14,"") | W21: =IF('[1] 2025'!X$14 <>"",'[1] 2025'!X$14,"")
B22: =IF('[1] 2025'!C20 <>"",'[1] 2025'!C20,"") -> 1195 | C22: =IF('[1] 2025'!D20 <>"",'[1] 2025'!D20,"") -> 45673 | D22: =IF('[1] 2025'!E20 <>"",'[1] 2025'!E20,"") -> 45704 | E22: =IF('[1] 2025'!F20 <>"",'[1] 2025'!F20,"") -> 7 | F22: =IF('[1] 2025'!G20 <>"",'[1] 2025'!G20,"") | G22: =IF('[1] 2025'!H20 <>"",'[1] 2025'!H20,"") -> Urbanisme | H22: =IF('[1] 2025'!I20 <>"",'[1] 2025'!I20,"") -> Home | I22: ='[1] 2025'!J20 -> Català | J22: ='[1] 2025'!K20 -> Electrònic | K22: ='[1] 2025'!L20 -> Sol·licitud del projecte bàsic i d'execució de l'edifici Thalassa, situat al c/A, núm. 5. | L22: ='[1] 2025'!M20 -> 12 | M22: ='[1] 2025'!N20 -> Sí | N22: =IF('[1] 2025'!O20 <>"",'[1] 2025'!O20,"") | O22: =IF('[1] 2025'!P20 <>"",'[1] 2025'!P20,"") | P22: ='[1] 2025'!Q20 -> 45680 | Q22: =IF('[1] 2025'!R20 <>"",'[1] 2025'!R20,"") -> Estimació | R22: =IF('[1] 2025'!S$14 <>"",'[1] 2025'!S$14,"") | S22: ='[1] 2025'!T20 -> 45680 | T22: =IF('[1] 2025'!U20 <>"",'[1] 2025'!U20,"") | U22: =IF('[1] 2025'!V20 <>"",'[1] 2025'!V20,"") | V22: =IF('[1] 2025'!W$14 <>"",'[1] 2025'!W$14,"") | W22: =IF('[1] 2025'!X$14 <>"",'[1] 2025'!X$14,"")
B23: =IF('[1] 2025'!C21 <>"",'[1] 2025'!C21,"") -> 1320 | C23: =IF('[1] 2025'!D21 <>"",'[1] 2025'!D21,"") -> 45674 | D23: =IF('[1] 2025'!E21 <>"",'[1] 2025'!E21,"") -> 45705 | E23: =IF('[1] 2025'!F21 <>"",'[1] 2025'!F21,"") -> 33 | F23: =IF('[1] 2025'!G21 <>"",'[1] 2025'!G21,"") -> Demora en la compareixença | G23: =IF('[1] 2025'!H21 <>"",'[1] 2025'!H21,"") -> Urbanisme | H23: =IF('[1] 2025'!I21 <>"",'[1] 2025'!I21,"") -> Home | I23: ='[1] 2025'!J21 -> Català | J23: ='[1] 2025'!K21 -> Electrònic | K23: ='[1] 2025'!L21 -> Sol·licitud dels plànols de l'edifici Verge de l'Antiga, situat al c/Via Aurelia, núm. 11-15. | L23: ='[1] 2025'!M21 -> 12 | M23: ='[1] 2025'!N21 -> Sí | N23: =IF('[1] 2025'!O21 <>"",'[1] 2025'!O21,"") | O23: =IF('[1] 2025'!P21 <>"",'[1] 2025'!P21,"") | P23: ='[1] 2025'!Q21 -> 45707 | Q23: =IF('[1] 2025'!R21 <>"",'[1] 2025'!R21,"") -> Estimació | R23: =IF('[1] 2025'!S$14 <>"",'[1] 2025'!S$14,"") | S23: ='[1] 2025'!T21 -> 45707 | T23: =IF('[1] 2025'!U21 <>"",'[1] 2025'!U21,"") | U23: =IF('[1] 2025'!V21 <>"",'[1] 2025'!V21,"") | V23: =IF('[1] 2025'!W$14 <>"",'[1] 2025'!W$14,"") | W23: =IF('[1] 2025'!X$14 <>"",'[1] 2025'!X$14,"")
B24: =IF('[1] 2025'!C22 <>"",'[1] 2025'!C22,"") -> 1332 | C24: =IF('[1] 2025'!D22 <>"",'[1] 2025'!D22,"") -> 45674 | D24: =IF('[1] 2025'!E22 <>"",'[1] 2025'!E22,"") -> 45705 | E24: =IF('[1] 2025'!F22 <>"",'[1] 2025'!F22,"") -> 28 | F24: =IF('[1] 2025'!G22 <>"",'[1] 2025'!G22,"") | G24: =IF('[1] 2025'!H22 <>"",'[1] 2025'!H22,"") -> Urbanisme | H24: =IF('[1] 2025'!I22 <>"",'[1] 2025'!I22,"") -> Persona jurídica | I24: ='[1] 2025'!J22 -> Català | J24: ='[1] 2025'!K22 -> Electrònic | K24: ='[1] 2025'!L22 -> Sol·licitud dels plànols de l'edifici Athos, situat al c/Rodríguez Pomatta, núm. 14. | L24: ='[1] 2025'!M22 -> 12 | M24: ='[1] 2025'!N22 -> Sí | N24: =IF('[1] 2025'!O22 <>"",'[1] 2025'!O22,"") | O24: =IF('[1] 2025'!P22 <>"",'[1] 2025'!P22,"") | P24: ='[1] 2025'!Q22 -> 45702 | Q24: =IF('[1] 2025'!R22 <>"",'[1] 2025'!R22,"") -> Estimació | R24: =IF('[1] 2025'!S$14 <>"",'[1] 2025'!S$14,"") | S24: ='[1] 2025'!T22 -> 45702 | T24: =IF('[1] 2025'!U22 <>"",'[1] 2025'!U22,"") | U24: =IF('[1] 2025'!V22 <>"",'[1] 2025'!V22,"") | V24: =IF('[1] 2025'!W$14 <>"",'[1] 2025'!W$14,"") | W24: =IF('[1] 2025'!X$14 <>"",'[1] 2025'!X$14,"")
B25: =IF('[1] 2025'!C23 <>"",'[1] 2025'!C23,"") -> 1548 | C25: =IF('[1] 2025'!D23 <>"",'[1] 2025'!D23,"") -> 45677 | D25: =IF('[1] 2025'!E23 <>"",'[1] 2025'!E23,"") -> 45708 | E25: =IF('[1] 2025'!F23 <>"",'[1] 2025'!F23,"") -> 37 | F25: =IF('[1] 2025'!G23 <>"",'[1] 2025'!G23,"") -> Demora en la compareixença | G25: =IF('[1] 2025'!H23 <>"",'[1] 2025'!H23,"") -> Urbanisme | H25: =IF('[1] 2025'!I23 <>"",'[1] 2025'!I23,"") -> Home | I25: ='[1] 2025'!J23 -> Català | J25: ='[1] 2025'!K23 -> Electrònic | K25: ='[1] 2025'!L23 -> Sol·licitud dels plànols de la planta baixa de l'edifici Festival Village, situat a Crta. de la Costa, núm. 61. | L25: ='[1] 2025'!M23 -> 12 | M25: ='[1] 2025'!N23 -> Sí | N25: =IF('[1] 2025'!O23 <>"",'[1] 2025'!O23,"") | O25: =IF('[1] 2025'!P23 <>"",'[1] 2025'!P23,"") | P25: ='[1] 2025'!Q23 -> 45714 | Q25: =IF('[1] 2025'!R23 <>"",'[1] 2025'!R23,"") -> Estimació | R25: =IF('[1] 2025'!S$14 <>"",'[1] 2025'!S$14,"") | S25: ='[1] 2025'!T23 -> 45714 | T25: =IF('[1] 2025'!U23 <>"",'[1] 2025'!U23,"") | U25: =IF('[1] 2025'!V23 <>"",'[1] 2025'!V23,"") | V25: =IF('[1] 2025'!W$14 <>"",'[1] 2025'!W$14,"") | W25: =IF('[1] 2025'!X$14 <>"",'[1] 2025'!X$14,"")
B26: =IF('[1] 2025'!C24 <>"",'[1] 2025'!C24,"") -> 1556 | C26: =IF('[1] 2025'!D24 <>"",'[1] 2025'!D24,"") -> 45677 | D26: =IF('[1] 2025'!E24 <>"",'[1] 2025'!E24,"") -> 45708 | E26: =IF('[1] 2025'!F24 <>"",'[1] 2025'!F24,"") -> 21 | F26: =IF('[1] 2025'!G24 <>"",'[1] 2025'!G24,"") | G26: =IF('[1] 2025'!H24 <>"",'[1] 2025'!H24,"") -> Activitats | H26: =IF('[1] 2025'!I24 <>"",'[1] 2025'!I24,"") -> Persona jurídica | I26: ='[1] 2025'!J24 -> Castellà | J26: ='[1] 2025'!K24 -> Electrònic | K26: ='[1] 2025'!L24 -> Sol·licitud per conèixer si diversos locals de l'edifici Rhin disposen de sortida de fums. | L26: ='[1] 2025'!M24 -> 13 | M26: ='[1] 2025'!N24 -> Sí | N26: =IF('[1] 2025'!O24 <>"",'[1] 2025'!O24,"") | O26: =IF('[1] 2025'!P24 <>"",'[1] 2025'!P24,"") | P26: ='[1] 2025'!Q24 -> 45698 | Q26: =IF('[1] 2025'!R24 <>"",'[1] 2025'!R24,"") -> Estimació | R26: =IF('[1] 2025'!S$14 <>"",'[1] 2025'!S$14,"") | S26: ='[1] 2025'!T24 -> 45698 | T26: =IF('[1] 2025'!U24 <>"",'[1] 2025'!U24,"") | U26: =IF('[1] 2025'!V24 <>"",'[1] 2025'!V24,"") | V26: =IF('[1] 2025'!W$14 <>"",'[1] 2025'!W$14,"") | W26: =IF('[1] 2025'!X$14 <>"",'[1] 2025'!X$14,"")
B27: =IF('[1] 2025'!C25 <>"",'[1] 2025'!C25,"") -> 1557 | C27: =IF('[1] 2025'!D25 <>"",'[1] 2025'!D25,"") -> 45678 | D27: =IF('[1] 2025'!E25 <>"",'[1] 2025'!E25,"") -> 45709 | E27: =IF('[1] 2025'!F25 <>"",'[1] 2025'!F25,"") -> 64 | F27: =IF('[1] 2025'!G25 <>"",'[1] 2025'!G25,"") -> Demora en la compareixença | G27: =IF('[1] 2025'!H25 <>"",'[1] 2025'!H25,"") -> Urbanisme | H27: =IF('[1] 2025'!I25 <>"",'[1] 2025'!I25,"") -> Home | I27: ='[1] 2025'!J25 -> Castellà | J27: ='[1] 2025'!K25 -> Electrònic | K27: ='[1] 2025'!L25 -> Sol·licitud dels plànols de l'edifici Rhin, situat al c/Birminghan, núm. 10. | L27: ='[1] 2025'!M25 -> 12 | M27: ='[1] 2025'!N25 -> Sí | N27: =IF('[1] 2025'!O25 <>"",'[1] 2025'!O25,"") | O27: =IF('[1] 2025'!P25 <>"",'[1] 2025'!P25,"") | P27: ='[1] 2025'!Q25 -> 45742 | Q27: =IF('[1] 2025'!R25 <>"",'[1] 2025'!R25,"") -> Estimació | R27: =IF('[1] 2025'!S$14 <>"",'[1] 2025'!S$14,"") | S27: ='[1] 2025'!T25 -> 45742 | T27: =IF('[1] 2025'!U25 <>"",'[1] 2025'!U25,"") | U27: =IF('[1] 2025'!V25 <>"",'[1] 2025'!V25,"") | V27: =IF('[1] 2025'!W$14 <>"",'[1] 2025'!W$14,"") | W27: =IF('[1] 2025'!X$14 <>"",'[1] 2025'!X$14,"")
B28: =IF('[1] 2025'!C26 <>"",'[1] 2025'!C26,"") -> 1645 | C28: =IF('[1] 2025'!D26 <>"",'[1] 2025'!D26,"") -> 45679 | D28: =IF('[1] 2025'!E26 <>"",'[1] 2025'!E26,"") -> 45710 | E28: =IF('[1] 2025'!F26 <>"",'[1] 2025'!F26,"") -> 56 | F28: =IF('[1] 2025'!G26 <>"",'[1] 2025'!G26,"") -> La informació es trasllada a la Unitat de Govern Obert amb retràs | G28: =IF('[1] 2025'!H26 <>"",'[1] 2025'!H26,"") -> Urbanisme | H28: =IF('[1] 2025'!I26 <>"",'[1] 2025'!I26,"") -> Persona jurídica | I28: ='[1] 2025'!J26 -> Castellà | J28: ='[1] 2025'!K26 -> Electrònic | K28: ='[1] 2025'!L26 -> Sol·licitud de la llicència d'obres d'un establiment de restauració. | L28: ='[1] 2025'!M26 -> 12 | M28: ='[1] 2025'!N26 -> Sí | N28: =IF('[1] 2025'!O26 <>"",'[1] 2025'!O26,"") | O28: =IF('[1] 2025'!P26 <>"",'[1] 2025'!P26,"") | P28: ='[1] 2025'!Q26 -> 45735 | Q28: =IF('[1] 2025'!R26 <>"",'[1] 2025'!R26,"") -> Estimació | R28: =IF('[1] 2025'!S$14 <>"",'[1] 2025'!S$14,"") | S28: ='[1] 2025'!T26 -> 45735 | T28: =IF('[1] 2025'!U26 <>"",'[1] 2025'!U26,"") | U28: =IF('[1] 2025'!V26 <>"",'[1] 2025'!V26,"") | V28: =IF('[1] 2025'!W$14 <>"",'[1] 2025'!W$14,"") | W28: =IF('[1] 2025'!X$14 <>"",'[1] 2025'!X$14,"")
... B34: =IF('[1] 2025'!C32 <>"",'[1] 2025'!C32,"") -> 2809 | C34: =IF('[1] 2025'!D32 <>"",'[1] 2025'!D32,"") -> 45692 | D34: =IF('[1] 2025'!E32 <>"",'[1] 2025'!E32,"") -> 45720 | E34: =IF('[1] 2025'!F32 <>"",'[1] 2025'!F32,"") -> 48 | F34: =IF('[1] 2025'!G32 <>"",'[1] 2025'!G32,"") -> Demora en la tramitació | G34: =IF('[1] 2025'!H32 <>"",'[1] 2025'!H32,"") -> Serveis Tècnics | H34: =IF('[1] 2025'!I32 <>"",'[1] 2025'!I32,"") -> Persona jurídica | I34: ='[1] 2025'!J32 -> Català | J34: ='[1] 2025'!K32 -> Electrònic | K34: ='[1] 2025'!L32 -> Sol·licitud del projecte del Bosc Gran, entre el c/ de la Farola i el c/ Lledoner, un cens de finques de titularitat privadada no urbanitzades i un cens de població empadronada al Cap Salou. | L34: ='[1] 2025'!M32 -> 12 | M34: ='[1] 2025'!N32 -> Sí | N34: =IF('[1] 2025'!O32 <>"",'[1] 2025'!O32,"") | O34: =IF('[1] 2025'!P32 <>"",'[1] 2025'!P32,"") | P34: ='[1] 2025'!Q32 -> 45740 | Q34: =IF('[1] 2025'!R32 <>"",'[1] 2025'!R32,"") -> Estimació parcial | R34: =IF('[1] 2025'!S$14 <>"",'[1] 2025'!S$14,"") | S34: ='[1] 2025'!T32 -> 45740 | T34: =IF('[1] 2025'!U32 <>"",'[1] 2025'!U32,"") | U34: =IF('[1] 2025'!V32 <>"",'[1] 2025'!V32,"") | V34: =IF('[1] 2025'!W$14 <>"",'[1] 2025'!W$14,"") | W34: =IF('[1] 2025'!X$14 <>"",'[1] 2025'!X$14,"")
B35: =IF('[1] 2025'!C33 <>"",'[1] 2025'!C33,"") -> 2966 | C35: =IF('[1] 2025'!D33 <>"",'[1] 2025'!D33,"") -> 45692 | D35: =IF('[1] 2025'!E33 <>"",'[1] 2025'!E33,"") -> 45720 | E35: =IF('[1] 2025'!F33 <>"",'[1] 2025'!F33,"") -> 48 | F35: =IF('[1] 2025'!G33 <>"",'[1] 2025'!G33,"") -> Demora en la tramitació | G35: =IF('[1] 2025'!H33 <>"",'[1] 2025'!H33,"") -> Seguretat ciutadana i civisme | H35: =IF('[1] 2025'!I33 <>"",'[1] 2025'!I33,"") -> Persona jurídica | I35: ='[1] 2025'!J33 -> Català | J35: ='[1] 2025'!K33 -> Electrònic | K35: ='[1] 2025'!L33 -> Sol.licitud de les sancions imposades durant l´any 2024 per conductes incíviques al Cap Salou. | L35: ='[1] 2025'!M33 -> 9 | M35: ='[1] 2025'!N33 -> Sí | N35: =IF('[1] 2025'!O33 <>"",'[1] 2025'!O33,"") | O35: =IF('[1] 2025'!P33 <>"",'[1] 2025'!P33,"") | P35: ='[1] 2025'!Q33 -> 45740 | Q35: =IF('[1] 2025'!R33 <>"",'[1] 2025'!R33,"") -> Inadmissió | R35: Art. 29.1.b) LTC | T35: =IF('[1] 2025'!U33 <>"",'[1] 2025'!U33,"") | U35: =IF('[1] 2025'!V33 <>"",'[1] 2025'!V33,"") | V35: =IF('[1] 2025'!W$14 <>"",'[1] 2025'!W$14,"") | W35: =IF('[1] 2025'!X$14 <>"",'[1] 2025'!X$14,"")
B36: =IF('[1] 2025'!C34 <>"",'[1] 2025'!C34,"") -> 3112 | C36: =IF('[1] 2025'!D34 <>"",'[1] 2025'!D34,"") -> 45694 | D36: =IF('[1] 2025'!E34 <>"",'[1] 2025'!E34,"") -> 45722 | E36: =IF('[1] 2025'!F34 <>"",'[1] 2025'!F34,"") -> 15 | F36: =IF('[1] 2025'!G34 <>"",'[1] 2025'!G34,"") | G36: =IF('[1] 2025'!H34 <>"",'[1] 2025'!H34,"") -> Estadística | H36: =IF('[1] 2025'!I34 <>"",'[1] 2025'!I34,"") -> Home | I36: ='[1] 2025'!J34 -> Castellà | J36: ='[1] 2025'!K34 -> Electrònic | K36: ='[1] 2025'!L34 -> Sol·licitud del full padronal d'una persona. | L36: ='[1] 2025'!M34 -> 14 | M36: ='[1] 2025'!N34 -> Sí | N36: =IF('[1] 2025'!O34 <>"",'[1] 2025'!O34,"") | O36: =IF('[1] 2025'!P34 <>"",'[1] 2025'!P34,"") | P36: ='[1] 2025'!Q34 -> 45709 | Q36: =IF('[1] 2025'!R34 <>"",'[1] 2025'!R34,"") -> Estimació | R36: =IF('[1] 2025'!S$14 <>"",'[1] 2025'!S$14,"") | S36: ='[1] 2025'!T34 -> 45709 | T36: =IF('[1] 2025'!U34 <>"",'[1] 2025'!U34,"") | U36: =IF('[1] 2025'!V34 <>"",'[1] 2025'!V34,"") | V36: =IF('[1] 2025'!W$14 <>"",'[1] 2025'!W$14,"") | W36: =IF('[1] 2025'!X$14 <>"",'[1] 2025'!X$14,"")
B37: =IF('[1] 2025'!C35 <>"",'[1] 2025'!C35,"") -> 3206 | C37: =IF('[1] 2025'!D35 <>"",'[1] 2025'!D35,"") -> 45694 | D37: =IF('[1] 2025'!E35 <>"",'[1] 2025'!E35,"") -> 45722 | E37: =IF('[1] 2025'!F35 <>"",'[1] 2025'!F35,"") -> 21 | F37: =IF('[1] 2025'!G35 <>"",'[1] 2025'!G35,"") | G37: =IF('[1] 2025'!H35 <>"",'[1] 2025'!H35,"") -> Urbanisme i activitats | H37: =IF('[1] 2025'!I35 <>"",'[1] 2025'!I35,"") -> Persona jurídica | I37: ='[1] 2025'!J35 -> Castellà | J37: ='[1] 2025'!K35 -> Electrònic | K37: ='[1] 2025'!L35 -> Sol·licitud de revisió de l'expedient de construcció de l'edifici CPP Castilla II i expedient d'activitats del parquing. | L37: ='[1] 2025'!M35 -> 12 | M37: ='[1] 2025'!N35 -> Sí | N37: =IF('[1] 2025'!O35 <>"",'[1] 2025'!O35,"") | O37: =IF('[1] 2025'!P35 <>"",'[1] 2025'!P35,"") | P37: ='[1] 2025'!Q35 -> 45715 | Q37: =IF('[1] 2025'!R35 <>"",'[1] 2025'!R35,"") -> Estimació | R37: =IF('[1] 2025'!S$14 <>"",'[1] 2025'!S$14,"") | S37: ='[1] 2025'!T35 -> 45715 | T37: =IF('[1] 2025'!U35 <>"",'[1] 2025'!U35,"") | U37: =IF('[1] 2025'!V35 <>"",'[1] 2025'!V35,"") | V37: =IF('[1] 2025'!W$14 <>"",'[1] 2025'!W$14,"") | W37: =IF('[1] 2025'!X$14 <>"",'[1] 2025'!X$14,"")
B38: =IF('[1] 2025'!C36 <>"",'[1] 2025'!C36,"") -> 3357 | C38: =IF('[1] 2025'!D36 <>"",'[1] 2025'!D36,"") -> 45698 | D38: =IF('[1] 2025'!E36 <>"",'[1] 2025'!E36,"") -> 45726 | E38: =IF('[1] 2025'!F36 <>"",'[1] 2025'!F36,"") -> 31 | F38: =IF('[1] 2025'!G36 <>"",'[1] 2025'!G36,"") -> La informació es trasllada a la Unitat de Govern Obert amb retràs | G38: =IF('[1] 2025'!H36 <>"",'[1] 2025'!H36,"") -> Concessions | H38: =IF('[1] 2025'!I36 <>"",'[1] 2025'!I36,"") -> Dona | I38: ='[1] 2025'!J36 -> Català | J38: ='[1] 2025'!K36 -> Presencial | K38: ='[1] 2025'!L36 -> Sol·licitud d'informació per conèixer si hi ha col·lectors d'aigües pluvials, si va amb xarxa de clavegueram dels c/ Navarra, Rioja i Prat d'en Carbó i plànol de la zona. | L38: ='[1] 2025'!M36 -> 7 | M38: ='[1] 2025'!N36 -> Sí | N38: =IF('[1] 2025'!O36 <>"",'[1] 2025'!O36,"") | O38: =IF('[1] 2025'!P36 <>"",'[1] 2025'!P36,"") | P38: ='[1] 2025'!Q36 -> 45729 | Q38: =IF('[1] 2025'!R36 <>"",'[1] 2025'!R36,"") -> Estimació | R38: =IF('[1] 2025'!S$14 <>"",'[1] 2025'!S$14,"") | S38: ='[1] 2025'!T36 -> 45729 | T38: =IF('[1] 2025'!U36 <>"",'[1] 2025'!U36,"") | U38: =IF('[1] 2025'!V36 <>"",'[1] 2025'!V36,"") | V38: =IF('[1] 2025'!W$14 <>"",'[1] 2025'!W$14,"") | W38: =IF('[1] 2025'!X$14 <>"",'[1] 2025'!X$14,"")
B39: =IF('[1] 2025'!C37 <>"",'[1] 2025'!C37,"") -> 3400 | C39: =IF('[1] 2025'!D37 <>"",'[1] 2025'!D37,"") -> 45698 | D39: =IF('[1] 2025'!E37 <>"",'[1] 2025'!E37,"") -> 45726 | E39: =IF('[1] 2025'!F37 <>"",'[1] 2025'!F37,"") -> 37 | F39: =IF('[1] 2025'!G37 <>"",'[1] 2025'!G37,"") -> Entrada a la Unitat de Govern Obert en data 17/2/2025 | G39: =IF('[1] 2025'!H37 <>"",'[1] 2025'!H37,"") -> Urbanisme | H39: =IF('[1] 2025'!I37 <>"",'[1] 2025'!I37,"") -> Dona | I39: ='[1] 2025'!J37 -> Català | J39: ='[1] 2025'!K37 -> Electrònic | K39: ='[1] 2025'!L37 -> Sol·licitud per consultar el projecte d'execució Edifici Santolea (C. Rosa Sensat, núm. 24-26). | L39: ='[1] 2025'!M37 -> 12 | M39: ='[1] 2025'!N37 -> Sí | N39: =IF('[1] 2025'!O37 <>"",'[1] 2025'!O37,"") | O39: =IF('[1] 2025'!P37 <>"",'[1] 2025'!P37,"") | P39: ='[1] 2025'!Q37 -> 45735 | Q39: =IF('[1] 2025'!R37 <>"",'[1] 2025'!R37,"") -> Estimació | R39: =IF('[1] 2025'!S$14 <>"",'[1] 2025'!S$14,"") | S39: ='[1] 2025'!T37 -> 45735 | T39: =IF('[1] 2025'!U37 <>"",'[1] 2025'!U37,"") | U39: =IF('[1] 2025'!V37 <>"",'[1] 2025'!V37,"") | V39: =IF('[1] 2025'!W$14 <>"",'[1] 2025'!W$14,"") | W39: =IF('[1] 2025'!X$14 <>"",'[1] 2025'!X$14,"")
B40: =IF('[1] 2025'!C38 <>"",'[1] 2025'!C38,"") -> 3491 | C40: =IF('[1] 2025'!D38 <>"",'[1] 2025'!D38,"") -> 45699 | D40: =IF('[1] 2025'!E38 <>"",'[1] 2025'!E38,"") -> 45727 | E40: =IF('[1] 2025'!F38 <>"",'[1] 2025'!F38,"") -> 24 | F40: =IF('[1] 2025'!G38 <>"",'[1] 2025'!G38,"") | G40: =IF('[1] 2025'!H38 <>"",'[1] 2025'!H38,"") -> Activitats | H40: =IF('[1] 2025'!I38 <>"",'[1] 2025'!I38,"") -> Home | I40: ='[1] 2025'!J38 -> Català | J40: ='[1] 2025'!K38 -> Electrònic | K40: ='[1] 2025'!L38 -> Sol·licitud de còpia de la llicència d'activitats d'un bar restaurant. | L40: ='[1] 2025'!M38 -> 13 | M40: ='[1] 2025'!N38 -> Sí | N40: =IF('[1] 2025'!O38 <>"",'[1] 2025'!O38,"") | O40: =IF('[1] 2025'!P38 <>"",'[1] 2025'!P38,"") | P40: ='[1] 2025'!Q38 -> 45723 | Q40: =IF('[1] 2025'!R38 <>"",'[1] 2025'!R38,"") -> Estimació | R40: =IF('[1] 2025'!S$14 <>"",'[1] 2025'!S$14,"") | S40: ='[1] 2025'!T38 -> 45723 | T40: =IF('[1] 2025'!U38 <>"",'[1] 2025'!U38,"") | U40: =IF('[1] 2025'!V38 <>"",'[1] 2025'!V38,"") | V40: =IF('[1] 2025'!W$14 <>"",'[1] 2025'!W$14,"") | W40: =IF('[1] 2025'!X$14 <>"",'[1] 2025'!X$14,"")
B41: =IF('[1] 2025'!C39 <>"",'[1] 2025'!C39,"") -> 3500 | C41: =IF('[1] 2025'!D39 <>"",'[1] 2025'!D39,"") -> 45699 | D41: =IF('[1] 2025'!E39 <>"",'[1] 2025'!E39,"") -> 45727 | E41: =IF('[1] 2025'!F39 <>"",'[1] 2025'!F39,"") -> 13 | F41: =IF('[1] 2025'!G39 <>"",'[1] 2025'!G39,"") | G41: =IF('[1] 2025'!H39 <>"",'[1] 2025'!H39,"") -> Activitats | H41: =IF('[1] 2025'!I39 <>"",'[1] 2025'!I39,"") -> Home | I41: ='[1] 2025'!J39 -> Castellà | J41: ='[1] 2025'!K39 -> Presencial | K41: ='[1] 2025'!L39 -> Sol.licitud de còpia de la llicència d'activitats del parquing de l'edifici situat al Passatge Brumar. | L41: ='[1] 2025'!M39 -> 13 | M41: ='[1] 2025'!N39 -> Sí | N41: =IF('[1] 2025'!O39 <>"",'[1] 2025'!O39,"") | O41: =IF('[1] 2025'!P39 <>"",'[1] 2025'!P39,"") | P41: ='[1] 2025'!Q39 -> 45712 | Q41: =IF('[1] 2025'!R39 <>"",'[1] 2025'!R39,"") -> Estimació | R41: =IF('[1] 2025'!S$14 <>"",'[1] 2025'!S$14,"") | S41: ='[1] 2025'!T39 -> 45712 | T41: =IF('[1] 2025'!U39 <>"",'[1] 2025'!U39,"") | U41: =IF('[1] 2025'!V39 <>"",'[1] 2025'!V39,"") | V41: =IF('[1] 2025'!W$14 <>"",'[1] 2025'!W$14,"") | W41: =IF('[1] 2025'!X$14 <>"",'[1] 2025'!X$14,"")
B42: =IF('[1] 2025'!C40 <>"",'[1] 2025'!C40,"") -> 3951 | C42: =IF('[1] 2025'!D40 <>"",'[1] 2025'!D40,"") -> 45705 | D42: =IF('[1] 2025'!E40 <>"",'[1] 2025'!E40,"") -> 45733 | E42: =IF('[1] 2025'!F40 <>"",'[1] 2025'!F40,"") -> 30 | F42: =IF('[1] 2025'!G40 <>"",'[1] 2025'!G40,"") | G42: =IF('[1] 2025'!H40 <>"",'[1] 2025'!H40,"") -> Urbanisme | H42: =IF('[1] 2025'!I40 <>"",'[1] 2025'!I40,"") -> Dona | I42: ='[1] 2025'!J40 -> Català | J42: ='[1] 2025'!K40 -> Electrònic | K42: ='[1] 2025'!L40 -> Sol·licitud del projecte executiu, així com, els plànols, documentació As-built i primera ocupació de l'Edifici ABC de Salou. | L42: ='[1] 2025'!M40 -> 12 | M42: ='[1] 2025'!N40 -> Sí | N42: =IF('[1] 2025'!O40 <>"",'[1] 2025'!O40,"") | O42: =IF('[1] 2025'!P40 <>"",'[1] 2025'!P40,"") | P42: ='[1] 2025'!Q40 -> 45735 | Q42: =IF('[1] 2025'!R40 <>"",'[1] 2025'!R40,"") -> Estimació | R42: =IF('[1] 2025'!S$14 <>"",'[1] 2025'!S$14,"") | S42: ='[1] 2025'!T40 -> 45735 | T42: =IF('[1] 2025'!U40 <>"",'[1] 2025'!U40,"") | U42: =IF('[1] 2025'!V40 <>"",'[1] 2025'!V40,"") | V42: =IF('[1] 2025'!W$14 <>"",'[1] 2025'!W$14,"") | W42: =IF('[1] 2025'!X$14 <>"",'[1] 2025'!X$14,"")
B43: =IF('[1] 2025'!C41 <>"",'[1] 2025'!C41,"") -> 3956 | C43: =IF('[1] 2025'!D41 <>"",'[1] 2025'!D41,"") -> 45705 | D43: =IF('[1] 2025'!E41 <>"",'[1] 2025'!E41,"") -> 45733 | E43: =IF('[1] 2025'!F41 <>"",'[1] 2025'!F41,"") -> 16 | F43: =IF('[1] 2025'!G41 <>"",'[1] 2025'!G41,"") | G43: =IF('[1] 2025'!H41 <>"",'[1] 2025'!H41,"") -> Personal i processos selectius | H43: =IF('[1] 2025'!I41 <>"",'[1] 2025'!I41,"") -> Home | I43: ='[1] 2025'!J41 -> Castellà | J43: ='[1] 2025'!K41 -> Electrònic | K43: ='[1] 2025'!L41 -> Sol·licitud dels exàmens teòrics i de cultura general de policia local d'anteriors convocatòries. | L43: ='[1] 2025'!M41 -> 4 | M43: ='[1] 2025'!N41 -> Sí | N43: =IF('[1] 2025'!O41 <>"",'[1] 2025'!O41,"") | O43: =IF('[1] 2025'!P41 <>"",'[1] 2025'!P41,"") | P43: ='[1] 2025'!Q41 -> 45721 | Q43: =IF('[1] 2025'!R41 <>"",'[1] 2025'!R41,"") -> Estimació | R43: =IF('[1] 2025'!S$14 <>"",'[1] 2025'!S$14,"") | S43: ='[1] 2025'!T41 -> 45721 | T43: =IF('[1] 2025'!U41 <>"",'[1] 2025'!U41,"") | U43: =IF('[1] 2025'!V41 <>"",'[1] 2025'!V41,"") | V43: =IF('[1] 2025'!W$14 <>"",'[1] 2025'!W$14,"") | W43: =IF('[1] 2025'!X$14 <>"",'[1] 2025'!X$14,"")
B44: =IF('[1] 2025'!C42 <>"",'[1] 2025'!C42,"") -> 4053 | C44: =IF('[1] 2025'!D42 <>"",'[1] 2025'!D42,"") -> 45705 | D44: =IF('[1] 2025'!E42 <>"",'[1] 2025'!E42,"") -> 45733 | E44: =IF('[1] 2025'!F42 <>"",'[1] 2025'!F42,"") -> 10 | F44: =IF('[1] 2025'!G42 <>"",'[1] 2025'!G42,"") | G44: =IF('[1] 2025'!H42 <>"",'[1] 2025'!H42,"") -> Personal i processos selectius | H44: =IF('[1] 2025'!I42 <>"",'[1] 2025'!I42,"") -> Home | I44: ='[1] 2025'!J42 -> Castellà | J44: ='[1] 2025'!K42 -> Electrònic | K44: ='[1] 2025'!L42 -> Sol·licitud dels exàmens teòrics, de cultura general i pràctics de policia local d'anteriors convocatòries. | L44: ='[1] 2025'!M42 -> 4 | M44: ='[1] 2025'!N42 -> Sí | N44: =IF('[1] 2025'!O42 <>"",'[1] 2025'!O42,"") | O44: =IF('[1] 2025'!P42 <>"",'[1] 2025'!P42,"") | P44: ='[1] 2025'!Q42 -> 45715 | Q44: =IF('[1] 2025'!R42 <>"",'[1] 2025'!R42,"") -> Estimació | R44: =IF('[1] 2025'!S$14 <>"",'[1] 2025'!S$14,"") | S44: ='[1] 2025'!T42 -> 45715 | T44: =IF('[1] 2025'!U42 <>"",'[1] 2025'!U42,"") | U44: =IF('[1] 2025'!V42 <>"",'[1] 2025'!V42,"") | V44: =IF('[1] 2025'!W$14 <>"",'[1] 2025'!W$14,"") | W44: =IF('[1] 2025'!X$14 <>"",'[1] 2025'!X$14,"")
B45: =IF('[1] 2025'!C43 <>"",'[1] 2025'!C43,"") -> 4065 | C45: =IF('[1] 2025'!D43 <>"",'[1] 2025'!D43,"") -> 45705 | D45: =IF('[1] 2025'!E43 <>"",'[1] 2025'!E43,"") -> 45733 | E45: =IF('[1] 2025'!F43 <>"",'[1] 2025'!F43,"") -> 9 | F45: =IF('[1] 2025'!G43 <>"",'[1] 2025'!G43,"") | G45: =IF('[1] 2025'!H43 <>"",'[1] 2025'!H43,"") -> Estadística, i Patronat de Turisme | H45: =IF('[1] 2025'!I43 <>"",'[1] 2025'!I43,"") -> Home | I45: ='[1] 2025'!J43 -> Català | J45: ='[1] 2025'!K43 -> Electrònic | K45: ='[1] 2025'!L43 -> Sol·licitud del cens poblacional de Salou, agrupat per barris; del nombre de places hoteleres i de càmping i del nombre d'habitatges de segona residència. | L45: ='[1] 2025'!M43 -> 13 | M45: ='[1] 2025'!N43 -> Sí | N45: =IF('[1] 2025'!O43 <>"",'[1] 2025'!O43,"") | O45: =IF('[1] 2025'!P43 <>"",'[1] 2025'!P43,"") | P45: ='[1] 2025'!Q43 -> 45714 | Q45: =IF('[1] 2025'!R43 <>"",'[1] 2025'!R43,"") -> Estimació | R45: =IF('[1] 2025'!S$14 <>"",'[1] 2025'!S$14,"") | S45: ='[1] 2025'!T43 -> 45714 | T45: =IF('[1] 2025'!U43 <>"",'[1] 2025'!U43,"") | U45: =IF('[1] 2025'!V43 <>"",'[1] 2025'!V43,"") | V45: =IF('[1] 2025'!W$14 <>"",'[1] 2025'!W$14,"") | W45: =IF('[1] 2025'!X$14 <>"",'[1] 2025'!X$14,"")
B46: =IF('[1] 2025'!C44 <>"",'[1] 2025'!C44,"") -> 4183 | C46: =IF('[1] 2025'!D44 <>"",'[1] 2025'!D44,"") -> 45706 | D46: =IF('[1] 2025'!E44 <>"",'[1] 2025'!E44,"") -> 45734 | E46: =IF('[1] 2025'!F44 <>"",'[1] 2025'!F44,"") -> 31 | F46: =IF('[1] 2025'!G44 <>"",'[1] 2025'!G44,"") -> Demora en la tramitació | G46: =IF('[1] 2025'!H44 <>"",'[1] 2025'!H44,"") -> Urbanisme | H46: =IF('[1] 2025'!I44 <>"",'[1] 2025'!I44,"") -> Dona | I46: ='[1] 2025'!J44 -> Castellà | J46: ='[1] 2025'!K44 -> Electrònic | K46: ='[1] 2025'!L44 -> Sol·licitud d'informació de la instal·lació d'una antena de telefonia mòbil situada darrera del carrer Niu del Àguila de Vilafortuny. | L46: ='[1] 2025'!M44 -> 12 | M46: ='[1] 2025'!N44 -> Sí | N46: =IF('[1] 2025'!O44 <>"",'[1] 2025'!O44,"") | O46: =IF('[1] 2025'!P44 <>"",'[1] 2025'!P44,"") | P46: ='[1] 2025'!Q44 -> 45737 | Q46: =IF('[1] 2025'!R44 <>"",'[1] 2025'!R44,"") -> Estimació | R46: =IF('[1] 2025'!S$14 <>"",'[1] 2025'!S$14,"") | S46: ='[1] 2025'!T44 -> 45737 | T46: =IF('[1] 2025'!U44 <>"",'[1] 2025'!U44,"") | U46: =IF('[1] 2025'!V44 <>"",'[1] 2025'!V44,"") | V46: =IF('[1] 2025'!W$14 <>"",'[1] 2025'!W$14,"") | W46: =IF('[1] 2025'!X$14 <>"",'[1] 2025'!X$14,"")
B47: =IF('[1] 2025'!C45 <>"",'[1] 2025'!C45,"") -> 4203 | C47: =IF('[1] 2025'!D45 <>"",'[1] 2025'!D45,"") -> 45706 | D47: =IF('[1] 2025'!E45 <>"",'[1] 2025'!E45,"") -> 45734 | E47: =IF('[1] 2025'!F45 <>"",'[1] 2025'!F45,"") -> 10 | F47: =IF('[1] 2025'!G45 <>"",'[1] 2025'!G45,"") | G47: =IF('[1] 2025'!H45 <>"",'[1] 2025'!H45,"") -> Urbanisme | H47: =IF('[1] 2025'!I45 <>"",'[1] 2025'!I45,"") -> Home | I47: ='[1] 2025'!J45 -> Castellà | J47: ='[1] 2025'!K45 -> Presencial | K47: ='[1] 2025'!L45 -> Sol·licitud dels plànols del pàrquing de l'edifici Molins 1, C/ Barcelona, núm. 28. | L47: ='[1] 2025'!M45 -> 12 | M47: ='[1] 2025'!N45 -> Sí | N47: =IF('[1] 2025'!O45 <>"",'[1] 2025'!O45,"") | O47: =IF('[1] 2025'!P45 <>"",'[1] 2025'!P45,"") | P47: ='[1] 2025'!Q45 -> 45716 | Q47: =IF('[1] 2025'!R45 <>"",'[1] 2025'!R45,"") -> Estimació | R47: =IF('[1] 2025'!S$14 <>"",'[1] 2025'!S$14,"") | S47: ='[1] 2025'!T45 -> 45716 | T47: =IF('[1] 2025'!U45 <>"",'[1] 2025'!U45,"") | U47: =IF('[1] 2025'!V45 <>"",'[1] 2025'!V45,"") | V47: =IF('[1] 2025'!W$14 <>"",'[1] 2025'!W$14,"") | W47: =IF('[1] 2025'!X$14 <>"",'[1] 2025'!X$14,"")
... B60: =IF('[1] 2025'!C58 <>"",'[1] 2025'!C58,"") -> 7197 | C60: =IF('[1] 2025'!D58 <>"",'[1] 2025'!D58,"") -> 45735 | D60: =IF('[1] 2025'!E58 <>"",'[1] 2025'!E58,"") -> 45766 | E60: =IF('[1] 2025'!F58 <>"",'[1] 2025'!F58,"") -> 8 | F60: =IF('[1] 2025'!G58 <>"",'[1] 2025'!G58,"") | G60: =IF('[1] 2025'!H58 <>"",'[1] 2025'!H58,"") -> Personal i processos selectius | H60: =IF('[1] 2025'!I58 <>"",'[1] 2025'!I58,"") -> Persona jurídica | I60: ='[1] 2025'!J58 -> Català | J60: ='[1] 2025'!K58 -> Electrònic | K60: ='[1] 2025'!L58 -> Sol·licitud de l'expedient complert de l'aprovació inicial de modificació del teletreball. | L60: ='[1] 2025'!M58 -> 4 | M60: ='[1] 2025'!N58 -> Sí | N60: =IF('[1] 2025'!O58 <>"",'[1] 2025'!O58,"") | O60: =IF('[1] 2025'!P58 <>"",'[1] 2025'!P58,"") | P60: ='[1] 2025'!Q58 -> 45743 | Q60: =IF('[1] 2025'!R58 <>"",'[1] 2025'!R58,"") -> Estimació | R60: =IF('[1] 2025'!S$14 <>"",'[1] 2025'!S$14,"") | S60: ='[1] 2025'!T58 -> 45743 | T60: =IF('[1] 2025'!U58 <>"",'[1] 2025'!U58,"") | U60: =IF('[1] 2025'!V58 <>"",'[1] 2025'!V58,"") | V60: =IF('[1] 2025'!W$14 <>"",'[1] 2025'!W$14,"") | W60: =IF('[1] 2025'!X$14 <>"",'[1] 2025'!X$14,"")
B61: =IF('[1] 2025'!C59 <>"",'[1] 2025'!C59,"") -> 7762 | C61: =IF('[1] 2025'!D59 <>"",'[1] 2025'!D59,"") -> 45741 | D61: =IF('[1] 2025'!E59 <>"",'[1] 2025'!E59,"") -> 45772 | E61: =IF('[1] 2025'!F59 <>"",'[1] 2025'!F59,"") -> 7 | F61: =IF('[1] 2025'!G59 <>"",'[1] 2025'!G59,"") | G61: =IF('[1] 2025'!H59 <>"",'[1] 2025'!H59,"") -> Personal i processos selectius | H61: =IF('[1] 2025'!I59 <>"",'[1] 2025'!I59,"") -> Dona | I61: ='[1] 2025'!J59 -> Català | J61: ='[1] 2025'!K59 -> Electrònic | K61: ='[1] 2025'!L59 -> Sol·licitud a les proves pràctiques i/o de desenvolupament del cos de gestió del Patronat de Turisme. | L61: ='[1] 2025'!M59 -> 4 | M61: ='[1] 2025'!N59 -> Sí | N61: =IF('[1] 2025'!O59 <>"",'[1] 2025'!O59,"") | O61: =IF('[1] 2025'!P59 <>"",'[1] 2025'!P59,"") | P61: ='[1] 2025'!Q59 -> 45748 | Q61: =IF('[1] 2025'!R59 <>"",'[1] 2025'!R59,"") -> Inadmissió | R61: Art. 29.1.b) LTC | T61: =IF('[1] 2025'!U59 <>"",'[1] 2025'!U59,"") | U61: =IF('[1] 2025'!V59 <>"",'[1] 2025'!V59,"") | V61: =IF('[1] 2025'!W$14 <>"",'[1] 2025'!W$14,"") | W61: =IF('[1] 2025'!X$14 <>"",'[1] 2025'!X$14,"")
B62: =IF('[1] 2025'!C60 <>"",'[1] 2025'!C60,"") -> 7768 | C62: =IF('[1] 2025'!D60 <>"",'[1] 2025'!D60,"") -> 45741 | D62: =IF('[1] 2025'!E60 <>"",'[1] 2025'!E60,"") -> 45772 | E62: =IF('[1] 2025'!F60 <>"",'[1] 2025'!F60,"") -> 35 | F62: =IF('[1] 2025'!G60 <>"",'[1] 2025'!G60,"") -> Audiència a tercers | G62: =IF('[1] 2025'!H60 <>"",'[1] 2025'!H60,"") -> Urbanisme | H62: =IF('[1] 2025'!I60 <>"",'[1] 2025'!I60,"") -> Home | I62: ='[1] 2025'!J60 -> Català | J62: ='[1] 2025'!K60 -> Electrònic | K62: ='[1] 2025'!L60 -> Sol·licitud de l'expedient administratiu número 4816/2022, de la sentència número 91/2024 i del Projecte de legalització número 14456/2024 en relació un immoble. | L62: ='[1] 2025'!M60 -> 12 | M62: ='[1] 2025'!N60 -> Sí | N62: =IF('[1] 2025'!O60 <>"",'[1] 2025'!O60,"") | O62: =IF('[1] 2025'!P60 <>"",'[1] 2025'!P60,"") | P62: ='[1] 2025'!Q60 -> 45776 | Q62: =IF('[1] 2025'!R60 <>"",'[1] 2025'!R60,"") -> Estimació | R62: =IF('[1] 2025'!S$14 <>"",'[1] 2025'!S$14,"") | S62: ='[1] 2025'!T60 -> 45776 | T62: =IF('[1] 2025'!U60 <>"",'[1] 2025'!U60,"") | U62: =IF('[1] 2025'!V60 <>"",'[1] 2025'!V60,"") | V62: =IF('[1] 2025'!W$14 <>"",'[1] 2025'!W$14,"") | W62: =IF('[1] 2025'!X$14 <>"",'[1] 2025'!X$14,"")
B63: =IF('[1] 2025'!C61 <>"",'[1] 2025'!C61,"") -> 8062 | C63: =IF('[1] 2025'!D61 <>"",'[1] 2025'!D61,"") -> 45744 | D63: =IF('[1] 2025'!E61 <>"",'[1] 2025'!E61,"") -> 45775 | E63: =IF('[1] 2025'!F61 <>"",'[1] 2025'!F61,"") -> 33 | F63: =IF('[1] 2025'!G61 <>"",'[1] 2025'!G61,"") -> Demora en la tramitació | G63: =IF('[1] 2025'!H61 <>"",'[1] 2025'!H61,"") -> Urbanisme | H63: =IF('[1] 2025'!I61 <>"",'[1] 2025'!I61,"") -> Home | I63: ='[1] 2025'!J61 -> Català | J63: ='[1] 2025'!K61 -> Electrònic | K63: ='[1] 2025'!L61 -> Sol·licitud de consulta del projecte de construcció de l'edifici situat al carrer Falconera número 23-25 de Salou. | L63: ='[1] 2025'!M61 -> 12 | M63: ='[1] 2025'!N61 -> Sí | N63: =IF('[1] 2025'!O61 <>"",'[1] 2025'!O61,"") | O63: =IF('[1] 2025'!P61 <>"",'[1] 2025'!P61,"") | P63: ='[1] 2025'!Q61 -> 45777 | Q63: =IF('[1] 2025'!R61 <>"",'[1] 2025'!R61,"") -> Estimació | R63: =IF('[1] 2025'!S$14 <>"",'[1] 2025'!S$14,"") | S63: ='[1] 2025'!T61 -> 45777 | T63: =IF('[1] 2025'!U61 <>"",'[1] 2025'!U61,"") | U63: =IF('[1] 2025'!V61 <>"",'[1] 2025'!V61,"") | V63: =IF('[1] 2025'!W$14 <>"",'[1] 2025'!W$14,"") | W63: =IF('[1] 2025'!X$14 <>"",'[1] 2025'!X$14,"")
B64: =IF('[1] 2025'!C62 <>"",'[1] 2025'!C62,"") -> 8625 | C64: =IF('[1] 2025'!D62 <>"",'[1] 2025'!D62,"") -> 45749 | D64: =IF('[1] 2025'!E62 <>"",'[1] 2025'!E62,"") -> 45779 | E64: =IF('[1] 2025'!F62 <>"",'[1] 2025'!F62,"") -> 5 | F64: =IF('[1] 2025'!G62 <>"",'[1] 2025'!G62,"") | G64: =IF('[1] 2025'!H62 <>"",'[1] 2025'!H62,"") -> Urbanisme | H64: =IF('[1] 2025'!I62 <>"",'[1] 2025'!I62,"") -> Home | I64: ='[1] 2025'!J62 -> Castellà | J64: ='[1] 2025'!K62 -> Presencial | K64: ='[1] 2025'!L62 -> Sol·licitud d'una còpia dels plànols del meu habitatge. | L64: ='[1] 2025'!M62 -> 12 | M64: ='[1] 2025'!N62 -> Sí | N64: =IF('[1] 2025'!O62 <>"",'[1] 2025'!O62,"") | O64: =IF('[1] 2025'!P62 <>"",'[1] 2025'!P62,"") | P64: ='[1] 2025'!Q62 -> 45754 | Q64: =IF('[1] 2025'!R62 <>"",'[1] 2025'!R62,"") -> Estimació | R64: =IF('[1] 2025'!S$14 <>"",'[1] 2025'!S$14,"") | S64: ='[1] 2025'!T62 -> 45754 | T64: =IF('[1] 2025'!U62 <>"",'[1] 2025'!U62,"") | U64: =IF('[1] 2025'!V62 <>"",'[1] 2025'!V62,"") | V64: =IF('[1] 2025'!W$14 <>"",'[1] 2025'!W$14,"") | W64: =IF('[1] 2025'!X$14 <>"",'[1] 2025'!X$14,"")
B65: =IF('[1] 2025'!C63 <>"",'[1] 2025'!C63,"") -> 8700 | C65: =IF('[1] 2025'!D63 <>"",'[1] 2025'!D63,"") -> 45749 | D65: =IF('[1] 2025'!E63 <>"",'[1] 2025'!E63,"") -> 45779 | E65: =IF('[1] 2025'!F63 <>"",'[1] 2025'!F63,"") -> 8 | F65: =IF('[1] 2025'!G63 <>"",'[1] 2025'!G63,"") | G65: =IF('[1] 2025'!H63 <>"",'[1] 2025'!H63,"") -> Urbanisme | H65: =IF('[1] 2025'!I63 <>"",'[1] 2025'!I63,"") -> Home | I65: ='[1] 2025'!J63 -> Català | J65: ='[1] 2025'!K63 -> Electrònic | K65: ='[1] 2025'!L63 -> Sol·licitud de l'expedient de construcció de l'edifici situat a l'avinguda Roma, núm. 25. | L65: ='[1] 2025'!M63 -> 12 | M65: ='[1] 2025'!N63 -> Sí | N65: =IF('[1] 2025'!O63 <>"",'[1] 2025'!O63,"") | O65: =IF('[1] 2025'!P63 <>"",'[1] 2025'!P63,"") | P65: ='[1] 2025'!Q63 -> 45757 | Q65: =IF('[1] 2025'!R63 <>"",'[1] 2025'!R63,"") -> Estimació | R65: =IF('[1] 2025'!S$14 <>"",'[1] 2025'!S$14,"") | S65: ='[1] 2025'!T63 -> 45757 | T65: =IF('[1] 2025'!U63 <>"",'[1] 2025'!U63,"") | U65: =IF('[1] 2025'!V63 <>"",'[1] 2025'!V63,"") | V65: =IF('[1] 2025'!W$14 <>"",'[1] 2025'!W$14,"") | W65: =IF('[1] 2025'!X$14 <>"",'[1] 2025'!X$14,"")
B66: =IF('[1] 2025'!C64 <>"",'[1] 2025'!C64,"") -> 8829 | C66: =IF('[1] 2025'!D64 <>"",'[1] 2025'!D64,"") -> 45750 | D66: =IF('[1] 2025'!E64 <>"",'[1] 2025'!E64,"") -> 45780 | E66: =IF('[1] 2025'!F64 <>"",'[1] 2025'!F64,"") -> 6 | F66: =IF('[1] 2025'!G64 <>"",'[1] 2025'!G64,"") | G66: =IF('[1] 2025'!H64 <>"",'[1] 2025'!H64,"") -> Activitats | H66: =IF('[1] 2025'!I64 <>"",'[1] 2025'!I64,"") -> Persona jurídica | I66: ='[1] 2025'!J64 -> Català | J66: ='[1] 2025'!K64 -> Electrònic | K66: ='[1] 2025'!L64 -> Sol.licitud dels plànols i projecte d'activitat d'un establiment hoteler. | L66: ='[1] 2025'!M64 -> 13 | M66: ='[1] 2025'!N64 -> Sí | N66: =IF('[1] 2025'!O64 <>"",'[1] 2025'!O64,"") | O66: =IF('[1] 2025'!P64 <>"",'[1] 2025'!P64,"") | P66: ='[1] 2025'!Q64 -> 45756 | Q66: =IF('[1] 2025'!R64 <>"",'[1] 2025'!R64,"") -> Estimació | R66: =IF('[1] 2025'!S$14 <>"",'[1] 2025'!S$14,"") | S66: ='[1] 2025'!T64 -> 45756 | T66: =IF('[1] 2025'!U64 <>"",'[1] 2025'!U64,"") | U66: =IF('[1] 2025'!V64 <>"",'[1] 2025'!V64,"") | V66: =IF('[1] 2025'!W$14 <>"",'[1] 2025'!W$14,"") | W66: =IF('[1] 2025'!X$14 <>"",'[1] 2025'!X$14,"")
B67: =IF('[1] 2025'!C65 <>"",'[1] 2025'!C65,"") -> 9750 | C67: =IF('[1] 2025'!D65 <>"",'[1] 2025'!D65,"") -> 45758 | D67: =IF('[1] 2025'!E65 <>"",'[1] 2025'!E65,"") -> 45788 | E67: =IF('[1] 2025'!F65 <>"",'[1] 2025'!F65,"") -> 28 | F67: =IF('[1] 2025'!G65 <>"",'[1] 2025'!G65,"") | G67: =IF('[1] 2025'!H65 <>"",'[1] 2025'!H65,"") -> Concessions | H67: =IF('[1] 2025'!I65 <>"",'[1] 2025'!I65,"") -> Dona | I67: ='[1] 2025'!J65 -> Català | J67: ='[1] 2025'!K65 -> Presencial | K67: ='[1] 2025'!L65 -> Sol·licitud d'informació addicional en relació als col·lectors d'aigües pluvials i la xarxa de clavegueram dels c/Navarra, Rioja i Prat d'en Carbó. | L67: ='[1] 2025'!M65 -> 7 | M67: ='[1] 2025'!N65 -> No | N67: =IF('[1] 2025'!O65 <>"",'[1] 2025'!O65,"") | O67: =IF('[1] 2025'!P65 <>"",'[1] 2025'!P65,"") | P67: ='[1] 2025'!Q65 -> 45786 | Q67: =IF('[1] 2025'!R65 <>"",'[1] 2025'!R65,"") -> Estimació | R67: =IF('[1] 2025'!S$14 <>"",'[1] 2025'!S$14,"") | S67: ='[1] 2025'!T65 -> 45786 | T67: =IF('[1] 2025'!U65 <>"",'[1] 2025'!U65,"") | U67: =IF('[1] 2025'!V65 <>"",'[1] 2025'!V65,"") | V67: =IF('[1] 2025'!W$14 <>"",'[1] 2025'!W$14,"") | W67: =IF('[1] 2025'!X$14 <>"",'[1] 2025'!X$14,"")
B68: =IF('[1] 2025'!C66 <>"",'[1] 2025'!C66,"") -> 10008 | C68: =IF('[1] 2025'!D66 <>"",'[1] 2025'!D66,"") -> 45761 | D68: =IF('[1] 2025'!E66 <>"",'[1] 2025'!E66,"") -> 45791 | E68: =IF('[1] 2025'!F66 <>"",'[1] 2025'!F66,"") -> 30 | F68: =IF('[1] 2025'!G66 <>"",'[1] 2025'!G66,"") | G68: =IF('[1] 2025'!H66 <>"",'[1] 2025'!H66,"") -> Urbanisme | H68: =IF('[1] 2025'!I66 <>"",'[1] 2025'!I66,"") -> Persona jurídica | I68: ='[1] 2025'!J66 -> Castellà | J68: ='[1] 2025'!K66 -> Electrònic | K68: ='[1] 2025'!L66 -> Sol·licitud dels plànols de l'edifici Bellavista I. | L68: ='[1] 2025'!M66 -> 12 | M68: ='[1] 2025'!N66 -> Sí | N68: =IF('[1] 2025'!O66 <>"",'[1] 2025'!O66,"") | O68: =IF('[1] 2025'!P66 <>"",'[1] 2025'!P66,"") | P68: ='[1] 2025'!Q66 -> 45791 | Q68: =IF('[1] 2025'!R66 <>"",'[1] 2025'!R66,"") -> Estimació | R68: =IF('[1] 2025'!S$14 <>"",'[1] 2025'!S$14,"") | S68: ='[1] 2025'!T66 -> 45791 | T68: =IF('[1] 2025'!U66 <>"",'[1] 2025'!U66,"") | U68: =IF('[1] 2025'!V66 <>"",'[1] 2025'!V66,"") | V68: =IF('[1] 2025'!W$14 <>"",'[1] 2025'!W$14,"") | W68: =IF('[1] 2025'!X$14 <>"",'[1] 2025'!X$14,"")
B69: =IF('[1] 2025'!C67 <>"",'[1] 2025'!C67,"") -> 10010 | C69: =IF('[1] 2025'!D67 <>"",'[1] 2025'!D67,"") -> 45761 | D69: =IF('[1] 2025'!E67 <>"",'[1] 2025'!E67,"") -> 45791 | E69: =IF('[1] 2025'!F67 <>"",'[1] 2025'!F67,"") -> 30 | F69: =IF('[1] 2025'!G67 <>"",'[1] 2025'!G67,"") | G69: =IF('[1] 2025'!H67 <>"",'[1] 2025'!H67,"") -> Urbanisme | H69: =IF('[1] 2025'!I67 <>"",'[1] 2025'!I67,"") -> Persona jurídica | I69: ='[1] 2025'!J67 -> Castellà | J69: ='[1] 2025'!K67 -> Electrònic | K69: ='[1] 2025'!L67 -> Sol·licitud dels plànols de l'edifici Bellavista II | L69: ='[1] 2025'!M67 -> 12 | M69: ='[1] 2025'!N67 -> Sí | N69: =IF('[1] 2025'!O67 <>"",'[1] 2025'!O67,"") | O69: =IF('[1] 2025'!P67 <>"",'[1] 2025'!P67,"") | P69: ='[1] 2025'!Q67 -> 45791 | Q69: =IF('[1] 2025'!R67 <>"",'[1] 2025'!R67,"") -> Estimació | R69: =IF('[1] 2025'!S$14 <>"",'[1] 2025'!S$14,"") | S69: ='[1] 2025'!T67 -> 45791 | T69: =IF('[1] 2025'!U67 <>"",'[1] 2025'!U67,"") | U69: =IF('[1] 2025'!V67 <>"",'[1] 2025'!V67,"") | V69: =IF('[1] 2025'!W$14 <>"",'[1] 2025'!W$14,"") | W69: =IF('[1] 2025'!X$14 <>"",'[1] 2025'!X$14,"")
B70: =IF('[1] 2025'!C68 <>"",'[1] 2025'!C68,"") -> 10113 | C70: =IF('[1] 2025'!D68 <>"",'[1] 2025'!D68,"") -> 45762 | D70: =IF('[1] 2025'!E68 <>"",'[1] 2025'!E68,"") -> 45791 | E70: =IF('[1] 2025'!F68 <>"",'[1] 2025'!F68,"") -> 27 | F70: =IF('[1] 2025'!G68 <>"",'[1] 2025'!G68,"") | G70: =IF('[1] 2025'!H68 <>"",'[1] 2025'!H68,"") -> Patrimoni | H70: =IF('[1] 2025'!I68 <>"",'[1] 2025'!I68,"") -> Persona jurídica | I70: ='[1] 2025'!J68 -> Català | J70: ='[1] 2025'!K68 -> Electrònic | K70: ='[1] 2025'!L68 -> Sol·licitud de la pòlissa d'assegurança de responsabilitat civil i d'assistència jurídica de l'Ajuntament. | L70: ='[1] 2025'!M68 -> 6 | M70: ='[1] 2025'!N68 -> No | N70: =IF('[1] 2025'!O68 <>"",'[1] 2025'!O68,"") | O70: =IF('[1] 2025'!P68 <>"",'[1] 2025'!P68,"") | P70: ='[1] 2025'!Q68 -> 45789 | Q70: =IF('[1] 2025'!R68 <>"",'[1] 2025'!R68,"") -> Estimació | R70: =IF('[1] 2025'!S$14 <>"",'[1] 2025'!S$14,"") | S70: ='[1] 2025'!T68 -> 45789 | T70: =IF('[1] 2025'!U68 <>"",'[1] 2025'!U68,"") | U70: =IF('[1] 2025'!V68 <>"",'[1] 2025'!V68,"") | V70: =IF('[1] 2025'!W$14 <>"",'[1] 2025'!W$14,"") | W70: =IF('[1] 2025'!X$14 <>"",'[1] 2025'!X$14,"")
B71: =IF('[1] 2025'!C69 <>"",'[1] 2025'!C69,"") -> 10187 | C71: =IF('[1] 2025'!D69 <>"",'[1] 2025'!D69,"") -> 45763 | D71: =IF('[1] 2025'!E69 <>"",'[1] 2025'!E69,"") -> 45793 | E71: =IF('[1] 2025'!F69 <>"",'[1] 2025'!F69,"") -> 111 | F71: =IF('[1] 2025'!G69 <>"",'[1] 2025'!G69,"") -> Audiència a tercers | G71: =IF('[1] 2025'!H69 <>"",'[1] 2025'!H69,"") -> Activitats | H71: =IF('[1] 2025'!I69 <>"",'[1] 2025'!I69,"") -> Persona jurídica | I71: ='[1] 2025'!J69 -> Castellà | J71: ='[1] 2025'!K69 -> Electrònic | K71: ='[1] 2025'!L69 -> Sol·licitud de l'expedient d'activitat d'un establiment de restauració. | L71: ='[1] 2025'!M69 -> 13 | M71: ='[1] 2025'!N69 -> Sí | N71: =IF('[1] 2025'!O69 <>"",'[1] 2025'!O69,"") -> Sí | O71: =IF('[1] 2025'!P69 <>"",'[1] 2025'!P69,"") -> Sí | P71: ='[1] 2025'!Q69 -> 45791 | Q71: =IF('[1] 2025'!R69 <>"",'[1] 2025'!R69,"") -> Estimació | R71: =IF('[1] 2025'!S$14 <>"",'[1] 2025'!S$14,"") | S71: ='[1] 2025'!T69 -> 45874 | T71: =IF('[1] 2025'!U69 <>"",'[1] 2025'!U69,"") | U71: =IF('[1] 2025'!V69 <>"",'[1] 2025'!V69,"") | V71: =IF('[1] 2025'!W$14 <>"",'[1] 2025'!W$14,"") | W71: =IF('[1] 2025'!X$14 <>"",'[1] 2025'!X$14,"")
B72: =IF('[1] 2025'!C70 <>"",'[1] 2025'!C70,"") -> 10388 | C72: =IF('[1] 2025'!D70 <>"",'[1] 2025'!D70,"") -> 45764 | D72: =IF('[1] 2025'!E70 <>"",'[1] 2025'!E70,"") -> 45794 | E72: =IF('[1] 2025'!F70 <>"",'[1] 2025'!F70,"") -> 81 | F72: =IF('[1] 2025'!G70 <>"",'[1] 2025'!G70,"") -> Entrada a la Unitat de Govern Obert en data 5/6/2025 | G72: =IF('[1] 2025'!H70 <>"",'[1] 2025'!H70,"") -> Activitats | H72: =IF('[1] 2025'!I70 <>"",'[1] 2025'!I70,"") -> Dona | I72: ='[1] 2025'!J70 -> Castellà | J72: ='[1] 2025'!K70 -> Presencial | K72: ='[1] 2025'!L70 -> Sol·licitud de l'expedient d'activitat d'un establiment de restauració. | L72: ='[1] 2025'!M70 -> 13 | M72: ='[1] 2025'!N70 -> No | N72: =IF('[1] 2025'!O70 <>"",'[1] 2025'!O70,"") -> Sí | O72: =IF('[1] 2025'!P70 <>"",'[1] 2025'!P70,"") -> No | P72: ='[1] 2025'!Q70 -> 45842 | Q72: =IF('[1] 2025'!R70 <>"",'[1] 2025'!R70,"") -> Estimació | R72: =IF('[1] 2025'!S$14 <>"",'[1] 2025'!S$14,"") | S72: ='[1] 2025'!T70 -> 45845 | T72: =IF('[1] 2025'!U70 <>"",'[1] 2025'!U70,"") | U72: =IF('[1] 2025'!V70 <>"",'[1] 2025'!V70,"") | V72: =IF('[1] 2025'!W$14 <>"",'[1] 2025'!W$14,"") | W72: =IF('[1] 2025'!X$14 <>"",'[1] 2025'!X$14,"")
B73: =IF('[1] 2025'!C71 <>"",'[1] 2025'!C71,"") -> 10417 | C73: =IF('[1] 2025'!D71 <>"",'[1] 2025'!D71,"") -> 45769 | D73: =IF('[1] 2025'!E71 <>"",'[1] 2025'!E71,"") -> 45799 | E73: =IF('[1] 2025'!F71 <>"",'[1] 2025'!F71,"") -> 7 | F73: =IF('[1] 2025'!G71 <>"",'[1] 2025'!G71,"") | G73: =IF('[1] 2025'!H71 <>"",'[1] 2025'!H71,"") -> Medi Ambient | H73: =IF('[1] 2025'!I71 <>"",'[1] 2025'!I71,"") -> Home | I73: ='[1] 2025'!J71 -> Català | J73: ='[1] 2025'!K71 -> Electrònic | K73: ='[1] 2025'!L71 -> Sol·licitud per coneixer les actuacions i/o projectes duts a terme per l'Ajuntament per a la protecció de la posidònia | L73: ='[1] 2025'!M71 -> 13 | M73: ='[1] 2025'!N71 -> No | N73: =IF('[1] 2025'!O71 <>"",'[1] 2025'!O71,"") | O73: =IF('[1] 2025'!P71 <>"",'[1] 2025'!P71,"") | P73: ='[1] 2025'!Q71 -> 45776 | Q73: =IF('[1] 2025'!R71 <>"",'[1] 2025'!R71,"") -> Estimació | R73: =IF('[1] 2025'!S$14 <>"",'[1] 2025'!S$14,"") | S73: ='[1] 2025'!T71 -> 45776 | T73: =IF('[1] 2025'!U71 <>"",'[1] 2025'!U71,"") | U73: =IF('[1] 2025'!V71 <>"",'[1] 2025'!V71,"") | V73: =IF('[1] 2025'!W$14 <>"",'[1] 2025'!W$14,"") | W73: =IF('[1] 2025'!X$14 <>"",'[1] 2025'!X$14,"")
B74: =IF('[1] 2025'!C72 <>"",'[1] 2025'!C72,"") -> 10485 | C74: =IF('[1] 2025'!D72 <>"",'[1] 2025'!D72,"") -> 45769 | D74: =IF('[1] 2025'!E72 <>"",'[1] 2025'!E72,"") -> 45799 | E74: =IF('[1] 2025'!F72 <>"",'[1] 2025'!F72,"") -> 2 | F74: =IF('[1] 2025'!G72 <>"",'[1] 2025'!G72,"") | G74: =IF('[1] 2025'!H72 <>"",'[1] 2025'!H72,"") -> Personal i processos selectius | H74: =IF('[1] 2025'!I72 <>"",'[1] 2025'!I72,"") -> Persona jurídica | I74: ='[1] 2025'!J72 -> Català | J74: ='[1] 2025'!K72 -> Electrònic | K74: ='[1] 2025'!L72 -> Sol·licitud per consultar l'expedient relatiu a la modificació del Reglament del treball a distància. | L74: ='[1] 2025'!M72 -> 4 | M74: ='[1] 2025'!N72 -> No | N74: =IF('[1] 2025'!O72 <>"",'[1] 2025'!O72,"") | O74: =IF('[1] 2025'!P72 <>"",'[1] 2025'!P72,"") | P74: ='[1] 2025'!Q72 -> 45771 | Q74: =IF('[1] 2025'!R72 <>"",'[1] 2025'!R72,"") -> Estimació | R74: =IF('[1] 2025'!S$14 <>"",'[1] 2025'!S$14,"") | S74: ='[1] 2025'!T72 -> 45771 | T74: =IF('[1] 2025'!U72 <>"",'[1] 2025'!U72,"") | U74: =IF('[1] 2025'!V72 <>"",'[1] 2025'!V72,"") | V74: =IF('[1] 2025'!W$14 <>"",'[1] 2025'!W$14,"") | W74: =IF('[1] 2025'!X$14 <>"",'[1] 2025'!X$14,"")
B75: =IF('[1] 2025'!C73 <>"",'[1] 2025'!C73,"") -> 10767 | C75: =IF('[1] 2025'!D73 <>"",'[1] 2025'!D73,"") -> 45770 | D75: =IF('[1] 2025'!E73 <>"",'[1] 2025'!E73,"") -> 45800 | E75: =IF('[1] 2025'!F73 <>"",'[1] 2025'!F73,"") -> 35 | F75: =IF('[1] 2025'!G73 <>"",'[1] 2025'!G73,"") -> Audiència a tercers | G75: =IF('[1] 2025'!H73 <>"",'[1] 2025'!H73,"") -> Urbanisme | H75: =IF('[1] 2025'!I73 <>"",'[1] 2025'!I73,"") -> Home | I75: ='[1] 2025'!J73 -> Castellà | J75: ='[1] 2025'!K73 -> Electrònic | K75: ='[1] 2025'!L73 -> Sol·licitud dels plànols i llicència d'obra de l'edifici Fortuny II A. | L75: ='[1] 2025'!M73 -> 12 | M75: ='[1] 2025'!N73 -> Sí | N75: =IF('[1] 2025'!O73 <>"",'[1] 2025'!O73,"") | O75: =IF('[1] 2025'!P73 <>"",'[1] 2025'!P73,"") | P75: ='[1] 2025'!Q73 -> 45805 | Q75: =IF('[1] 2025'!R73 <>"",'[1] 2025'!R73,"") -> Inadmissió | R75: Art. 29.1.b) LTC | T75: =IF('[1] 2025'!U73 <>"",'[1] 2025'!U73,"") | U75: =IF('[1] 2025'!V73 <>"",'[1] 2025'!V73,"") | V75: =IF('[1] 2025'!W$14 <>"",'[1] 2025'!W$14,"") | W75: =IF('[1] 2025'!X$14 <>"",'[1] 2025'!X$14,"")
B76: =IF('[1] 2025'!C74 <>"",'[1] 2025'!C74,"") -> 11211 | C76: =IF('[1] 2025'!D74 <>"",'[1] 2025'!D74,"") -> 45776 | D76: =IF('[1] 2025'!E74 <>"",'[1] 2025'!E74,"") -> 45806 | E76: =IF('[1] 2025'!F74 <>"",'[1] 2025'!F74,"") -> 3 | F76: =IF('[1] 2025'!G74 <>"",'[1] 2025'!G74,"") | G76: =IF('[1] 2025'!H74 <>"",'[1] 2025'!H74,"") -> Personal i processos selectius | H76: =IF('[1] 2025'!I74 <>"",'[1] 2025'!I74,"") -> Persona jurídica | I76: ='[1] 2025'!J74 -> Català | J76: ='[1] 2025'!K74 -> Electrònic | K76: ='[1] 2025'!L74 -> Sol·licitud de l'expedient de planificació normativa de l'any 2025 de la Unitat de Gestió de Personal de l'Ajuntament. | L76: ='[1] 2025'!M74 -> 4 | M76: ='[1] 2025'!N74 -> No | N76: =IF('[1] 2025'!O74 <>"",'[1] 2025'!O74,"") | O76: =IF('[1] 2025'!P74 <>"",'[1] 2025'!P74,"") | P76: ='[1] 2025'!Q74 -> 45779 | Q76: =IF('[1] 2025'!R74 <>"",'[1] 2025'!R74,"") -> Estimació | R76: =IF('[1] 2025'!S$14 <>"",'[1] 2025'!S$14,"") | S76: ='[1] 2025'!T74 -> 45779 | T76: =IF('[1] 2025'!U74 <>"",'[1] 2025'!U74,"") | U76: =IF('[1] 2025'!V74 <>"",'[1] 2025'!V74,"") | V76: =IF('[1] 2025'!W$14 <>"",'[1] 2025'!W$14,"") | W76: =IF('[1] 2025'!X$14 <>"",'[1] 2025'!X$14,"")
B77: =IF('[1] 2025'!C75 <>"",'[1] 2025'!C75,"") -> 11786 | C77: =IF('[1] 2025'!D75 <>"",'[1] 2025'!D75,"") -> 45783 | D77: =IF('[1] 2025'!E75 <>"",'[1] 2025'!E75,"") -> 45814 | E77: =IF('[1] 2025'!F75 <>"",'[1] 2025'!F75,"") -> 29 | F77: =IF('[1] 2025'!G75 <>"",'[1] 2025'!G75,"") | G77: =IF('[1] 2025'!H75 <>"",'[1] 2025'!H75,"") -> Llicències | H77: =IF('[1] 2025'!I75 <>"",'[1] 2025'!I75,"") -> Persona jurídica | I77: ='[1] 2025'!J75 -> Castellà | J77: ='[1] 2025'!K75 -> Electrònic | K77: ='[1] 2025'!L75 -> Sol·licitud de còpia de la llicència d'activitat d'una Comunitat de Propietaris. | L77: ='[1] 2025'!M75 -> 13 | M77: ='[1] 2025'!N75 -> Sí | N77: =IF('[1] 2025'!O75 <>"",'[1] 2025'!O75,"") | O77: =IF('[1] 2025'!P75 <>"",'[1] 2025'!P75,"") | P77: ='[1] 2025'!Q75 -> 45812 | Q77: =IF('[1] 2025'!R75 <>"",'[1] 2025'!R75,"") -> Inadmissió | R77: Art. 29.1.b) LTC | T77: =IF('[1] 2025'!U75 <>"",'[1] 2025'!U75,"") | U77: =IF('[1] 2025'!V75 <>"",'[1] 2025'!V75,"") | V77: =IF('[1] 2025'!W$14 <>"",'[1] 2025'!W$14,"") | W77: =IF('[1] 2025'!X$14 <>"",'[1] 2025'!X$14,"")
B78: =IF('[1] 2025'!C76 <>"",'[1] 2025'!C76,"") -> 11813 | C78: =IF('[1] 2025'!D76 <>"",'[1] 2025'!D76,"") -> 45783 | D78: =IF('[1] 2025'!E76 <>"",'[1] 2025'!E76,"") -> 45814 | E78: =IF('[1] 2025'!F76 <>"",'[1] 2025'!F76,"") -> 15 | F78: =IF('[1] 2025'!G76 <>"",'[1] 2025'!G76,"") | G78: =IF('[1] 2025'!H76 <>"",'[1] 2025'!H76,"") -> Activitats | H78: =IF('[1] 2025'!I76 <>"",'[1] 2025'!I76,"") -> Home | I78: ='[1] 2025'!J76 -> Castellà | J78: ='[1] 2025'!K76 -> Electrònic | K78: ='[1] 2025'!L76 -> Solicitud de tots els expedients relacionats amb una activitat de restauració. | L78: ='[1] 2025'!M76 -> 13 | M78: ='[1] 2025'!N76 -> Sí | N78: =IF('[1] 2025'!O76 <>"",'[1] 2025'!O76,"") | O78: =IF('[1] 2025'!P76 <>"",'[1] 2025'!P76,"") | P78: ='[1] 2025'!Q76 -> 45798 | Q78: =IF('[1] 2025'!R76 <>"",'[1] 2025'!R76,"") -> Estimació | R78: =IF('[1] 2025'!S$14 <>"",'[1] 2025'!S$14,"") | S78: ='[1] 2025'!T76 -> 45798 | T78: =IF('[1] 2025'!U76 <>"",'[1] 2025'!U76,"") | U78: =IF('[1] 2025'!V76 <>"",'[1] 2025'!V76,"") | V78: =IF('[1] 2025'!W$14 <>"",'[1] 2025'!W$14,"") | W78: =IF('[1] 2025'!X$14 <>"",'[1] 2025'!X$14,"")
B79: =IF('[1] 2025'!C77 <>"",'[1] 2025'!C77,"") -> 11773 | C79: =IF('[1] 2025'!D77 <>"",'[1] 2025'!D77,"") -> 45783 | D79: =IF('[1] 2025'!E77 <>"",'[1] 2025'!E77,"") -> 45980 | E79: =IF('[1] 2025'!F77 <>"",'[1] 2025'!F77,"") -> 197 | F79: =IF('[1] 2025'!G77 <>"",'[1] 2025'!G77,"") -> El registre es remet a una unitat incorrecta | G79: =IF('[1] 2025'!H77 <>"",'[1] 2025'!H77,"") -> Sanitat | H79: =IF('[1] 2025'!I77 <>"",'[1] 2025'!I77,"") -> Home | I79: ='[1] 2025'!J77 -> Castellà | J79: ='[1] 2025'!K77 -> Presencial | K79: ='[1] 2025'!L77 -> Sol·licitud d'informació relacionada amb la gestió d'animals abandonats. | L79: ='[1] 2025'!M77 -> 10 | M79: ='[1] 2025'!N77 -> No | N79: =IF('[1] 2025'!O77 <>"",'[1] 2025'!O77,"") | O79: =IF('[1] 2025'!P77 <>"",'[1] 2025'!P77,"") | P79: ='[1] 2025'!Q77 -> 45980 | Q79: =IF('[1] 2025'!R77 <>"",'[1] 2025'!R77,"") -> Estimació | R79: =IF('[1] 2025'!S$14 <>"",'[1] 2025'!S$14,"") | S79: ='[1] 2025'!T77 -> 45980 | T79: =IF('[1] 2025'!U77 <>"",'[1] 2025'!U77,"") | U79: =IF('[1] 2025'!V77 <>"",'[1] 2025'!V77,"") | V79: =IF('[1] 2025'!W$14 <>"",'[1] 2025'!W$14,"") | W79: =IF('[1] 2025'!X$14 <>"",'[1] 2025'!X$14,"")
B80: =IF('[1] 2025'!C78 <>"",'[1] 2025'!C78,"") -> 11879 | C80: =IF('[1] 2025'!D78 <>"",'[1] 2025'!D78,"") -> 45783 | D80: =IF('[1] 2025'!E78 <>"",'[1] 2025'!E78,"") -> 45814 | E80: =IF('[1] 2025'!F78 <>"",'[1] 2025'!F78,"") -> 14 | F80: =IF('[1] 2025'!G78 <>"",'[1] 2025'!G78,"") | G80: =IF('[1] 2025'!H78 <>"",'[1] 2025'!H78,"") -> Urbanisme | H80: =IF('[1] 2025'!I78 <>"",'[1] 2025'!I78,"") -> Dona | I80: ='[1] 2025'!J78 -> Català | J80: ='[1] 2025'!K78 -> Electrònic | K80: ='[1] 2025'!L78 -> Sol·licitud dels plànols de l'habitatge situat a c/Bosc del Quec, núm. 19. | L80: ='[1] 2025'!M78 -> 12 | M80: ='[1] 2025'!N78 -> Sí | N80: =IF('[1] 2025'!O78 <>"",'[1] 2025'!O78,"") | O80: =IF('[1] 2025'!P78 <>"",'[1] 2025'!P78,"") | P80: ='[1] 2025'!Q78 -> 45797 | Q80: =IF('[1] 2025'!R78 <>"",'[1] 2025'!R78,"") -> Inadmissió | R80: Art. 29.1.b) LTC | T80: =IF('[1] 2025'!U78 <>"",'[1] 2025'!U78,"") | U80: =IF('[1] 2025'!V78 <>"",'[1] 2025'!V78,"") | V80: =IF('[1] 2025'!W$14 <>"",'[1] 2025'!W$14,"") | W80: =IF('[1] 2025'!X$14 <>"",'[1] 2025'!X$14,"")
B81: =IF('[1] 2025'!C79 <>"",'[1] 2025'!C79,"") -> 11987 | C81: =IF('[1] 2025'!D79 <>"",'[1] 2025'!D79,"") -> 45784 | D81: =IF('[1] 2025'!E79 <>"",'[1] 2025'!E79,"") -> 45815 | E81: =IF('[1] 2025'!F79 <>"",'[1] 2025'!F79,"") -> 8 | F81: =IF('[1] 2025'!G79 <>"",'[1] 2025'!G79,"") | G81: =IF('[1] 2025'!H79 <>"",'[1] 2025'!H79,"") -> Urbanisme | H81: =IF('[1] 2025'!I79 <>"",'[1] 2025'!I79,"") -> Home | I81: ='[1] 2025'!J79 -> Castellà | J81: ='[1] 2025'!K79 -> Electrònic | K81: ='[1] 2025'!L79 -> Sol·licitud del plànol del projecte tècnic d'obra o divisió horitzontal de l'edifici Carrilet. | L81: ='[1] 2025'!M79 -> 12 | M81: ='[1] 2025'!N79 -> Sí | N81: =IF('[1] 2025'!O79 <>"",'[1] 2025'!O79,"") | O81: =IF('[1] 2025'!P79 <>"",'[1] 2025'!P79,"") | P81: ='[1] 2025'!Q79 -> 45792 | Q81: =IF('[1] 2025'!R79 <>"",'[1] 2025'!R79,"") -> Estimació | R81: =IF('[1] 2025'!S$14 <>"",'[1] 2025'!S$14,"") | S81: ='[1] 2025'!T79 -> 45792 | T81: =IF('[1] 2025'!U79 <>"",'[1] 2025'!U79,"") | U81: =IF('[1] 2025'!V79 <>"",'[1] 2025'!V79,"") | V81: =IF('[1] 2025'!W$14 <>"",'[1] 2025'!W$14,"") | W81: =IF('[1] 2025'!X$14 <>"",'[1] 2025'!X$14,"")
B82: =IF('[1] 2025'!C80 <>"",'[1] 2025'!C80,"") -> 12002 | C82: =IF('[1] 2025'!D80 <>"",'[1] 2025'!D80,"") -> 45784 | D82: =IF('[1] 2025'!E80 <>"",'[1] 2025'!E80,"") -> 45815 | E82: =IF('[1] 2025'!F80 <>"",'[1] 2025'!F80,"") -> 28 | F82: =IF('[1] 2025'!G80 <>"",'[1] 2025'!G80,"") | G82: =IF('[1] 2025'!H80 <>"",'[1] 2025'!H80,"") -> Llicències | H82: =IF('[1] 2025'!I80 <>"",'[1] 2025'!I80,"") -> Persona jurídica | I82: ='[1] 2025'!J80 -> Castellà | J82: ='[1] 2025'!K80 -> Electrònic | K82: ='[1] 2025'!L80 -> Sol·licitud de còpia de la llicència d'activitat d'una Comunitat de Propietaris. | L82: ='[1] 2025'!M80 -> 13 | M82: ='[1] 2025'!N80 -> Sí | N82: =IF('[1] 2025'!O80 <>"",'[1] 2025'!O80,"") | O82: =IF('[1] 2025'!P80 <>"",'[1] 2025'!P80,"") | P82: ='[1] 2025'!Q80 -> 45812 | Q82: =IF('[1] 2025'!R80 <>"",'[1] 2025'!R80,"") -> Inadmissió | R82: Art. 29.1.b) LTC | T82: =IF('[1] 2025'!U80 <>"",'[1] 2025'!U80,"") | U82: =IF('[1] 2025'!V80 <>"",'[1] 2025'!V80,"") | V82: =IF('[1] 2025'!W$14 <>"",'[1] 2025'!W$14,"") | W82: =IF('[1] 2025'!X$14 <>"",'[1] 2025'!X$14,"")
B83: =IF('[1] 2025'!C81 <>"",'[1] 2025'!C81,"") -> 12375 | C83: =IF('[1] 2025'!D81 <>"",'[1] 2025'!D81,"") -> 45788 | D83: =IF('[1] 2025'!E81 <>"",'[1] 2025'!E81,"") -> 45819 | E83: =IF('[1] 2025'!F81 <>"",'[1] 2025'!F81,"") -> 17 | F83: =IF('[1] 2025'!G81 <>"",'[1] 2025'!G81,"") | G83: =IF('[1] 2025'!H81 <>"",'[1] 2025'!H81,"") -> Concessions | H83: =IF('[1] 2025'!I81 <>"",'[1] 2025'!I81,"") -> Home | I83: ='[1] 2025'!J81 -> Català | J83: ='[1] 2025'!K81 -> Electrònic | K83: ='[1] 2025'!L81 -> Sol·licitud de la periodicitat i recorreguts dels vehicles geolocalitzats de neteja viaria i del desbroçament de les herbes a les voreres de l'Urb. Mirador de Salou, des de l'1-1-2025 fins el 10-05-2025. | L83: ='[1] 2025'!M81 -> 7 | M83: ='[1] 2025'!N81 -> Sí | N83: =IF('[1] 2025'!O81 <>"",'[1] 2025'!O81,"") | O83: =IF('[1] 2025'!P81 <>"",'[1] 2025'!P81,"") | P83: ='[1] 2025'!Q81 -> 45805 | Q83: =IF('[1] 2025'!R81 <>"",'[1] 2025'!R81,"") -> Estimació | R83: =IF('[1] 2025'!S$14 <>"",'[1] 2025'!S$14,"") | S83: ='[1] 2025'!T81 -> 45805 | T83: =IF('[1] 2025'!U81 <>"",'[1] 2025'!U81,"") | U83: =IF('[1] 2025'!V81 <>"",'[1] 2025'!V81,"") | V83: =IF('[1] 2025'!W$14 <>"",'[1] 2025'!W$14,"") | W83: =IF('[1] 2025'!X$14 <>"",'[1] 2025'!X$14,"")
B84: =IF('[1] 2025'!C82 <>"",'[1] 2025'!C82,"") -> 12585 | C84: =IF('[1] 2025'!D82 <>"",'[1] 2025'!D82,"") -> 45790 | D84: =IF('[1] 2025'!E82 <>"",'[1] 2025'!E82,"") -> 45821 | E84: =IF('[1] 2025'!F82 <>"",'[1] 2025'!F82,"") -> 57 | F84: =IF('[1] 2025'!G82 <>"",'[1] 2025'!G82,"") -> Demora en la compareixença | G84: =IF('[1] 2025'!H82 <>"",'[1] 2025'!H82,"") -> Urbanisme | H84: =IF('[1] 2025'!I82 <>"",'[1] 2025'!I82,"") -> Persona jurídica | I84: ='[1] 2025'!J82 -> Castellà | J84: ='[1] 2025'!K82 -> Electrònic | K84: ='[1] 2025'!L82 -> Sol·licitud dels plànols de l’edifici Cumbre de Salou situat al c/ La Farola, núm. 9. | L84: ='[1] 2025'!M82 -> 12 | M84: ='[1] 2025'!N82 -> Sí | N84: =IF('[1] 2025'!O82 <>"",'[1] 2025'!O82,"") | O84: =IF('[1] 2025'!P82 <>"",'[1] 2025'!P82,"") | P84: ='[1] 2025'!Q82 -> 45847 | Q84: =IF('[1] 2025'!R82 <>"",'[1] 2025'!R82,"") -> Estimació | R84: =IF('[1] 2025'!S$14 <>"",'[1] 2025'!S$14,"") | S84: ='[1] 2025'!T82 -> 45847 | T84: =IF('[1] 2025'!U82 <>"",'[1] 2025'!U82,"") | U84: =IF('[1] 2025'!V82 <>"",'[1] 2025'!V82,"") | V84: =IF('[1] 2025'!W$14 <>"",'[1] 2025'!W$14,"") | W84: =IF('[1] 2025'!X$14 <>"",'[1] 2025'!X$14,"")
B85: =IF('[1] 2025'!C83 <>"",'[1] 2025'!C83,"") -> 12645 | C85: =IF('[1] 2025'!D83 <>"",'[1] 2025'!D83,"") -> 45790 | D85: =IF('[1] 2025'!E83 <>"",'[1] 2025'!E83,"") -> 45821 | E85: =IF('[1] 2025'!F83 <>"",'[1] 2025'!F83,"") -> 14 | F85: =IF('[1] 2025'!G83 <>"",'[1] 2025'!G83,"") | G85: =IF('[1] 2025'!H83 <>"",'[1] 2025'!H83,"") -> Arxiu | H85: =IF('[1] 2025'!I83 <>"",'[1] 2025'!I83,"") -> Dona | I85: ='[1] 2025'!J83 -> Català | J85: ='[1] 2025'!K83 -> Presencial | K85: ='[1] 2025'!L83 -> Sol·licitud de fotografies antigues del municipi. | L85: ='[1] 2025'!M83 -> 13 | M85: ='[1] 2025'!N83 -> No | N85: =IF('[1] 2025'!O83 <>"",'[1] 2025'!O83,"") | O85: =IF('[1] 2025'!P83 <>"",'[1] 2025'!P83,"") | P85: ='[1] 2025'!Q83 -> 45804 | Q85: =IF('[1] 2025'!R83 <>"",'[1] 2025'!R83,"") -> Estimació | R85: =IF('[1] 2025'!S$14 <>"",'[1] 2025'!S$14,"") | S85: ='[1] 2025'!T83 -> 45804 | T85: =IF('[1] 2025'!U83 <>"",'[1] 2025'!U83,"") | U85: =IF('[1] 2025'!V83 <>"",'[1] 2025'!V83,"") | V85: =IF('[1] 2025'!W$14 <>"",'[1] 2025'!W$14,"") | W85: =IF('[1] 2025'!X$14 <>"",'[1] 2025'!X$14,"")
B86: =IF('[1] 2025'!C84 <>"",'[1] 2025'!C84,"") -> 12879 | C86: =IF('[1] 2025'!D84 <>"",'[1] 2025'!D84,"") -> 45792 | D86: =IF('[1] 2025'!E84 <>"",'[1] 2025'!E84,"") -> 45823 | E86: =IF('[1] 2025'!F84 <>"",'[1] 2025'!F84,"") -> 63 | F86: =IF('[1] 2025'!G84 <>"",'[1] 2025'!G84,"") -> La informació es trasllada a la Unitat de Govern Obert amb retràs | G86: =IF('[1] 2025'!H84 <>"",'[1] 2025'!H84,"") -> Seguretat ciutadana i civisme | H86: =IF('[1] 2025'!I84 <>"",'[1] 2025'!I84,"") -> Persona jurídica | I86: ='[1] 2025'!J84 -> Català | J86: ='[1] 2025'!K84 -> Electrònic | K86: ='[1] 2025'!L84 -> Sol·licitud de les actes policials relacionades amb les denúncies interposades en relació a un pis turístic. | L86: ='[1] 2025'!M84 -> 9 | M86: ='[1] 2025'!N84 -> No | N86: =IF('[1] 2025'!O84 <>"",'[1] 2025'!O84,"") | O86: =IF('[1] 2025'!P84 <>"",'[1] 2025'!P84,"") | P86: ='[1] 2025'!Q84 -> 45855 | Q86: =IF('[1] 2025'!R84 <>"",'[1] 2025'!R84,"") -> Estimació | R86: =IF('[1] 2025'!S$14 <>"",'[1] 2025'!S$14,"") | S86: ='[1] 2025'!T84 -> 45855 | T86: =IF('[1] 2025'!U84 <>"",'[1] 2025'!U84,"") | U86: =IF('[1] 2025'!V84 <>"",'[1] 2025'!V84,"") | V86: =IF('[1] 2025'!W$14 <>"",'[1] 2025'!W$14,"") | W86: =IF('[1] 2025'!X$14 <>"",'[1] 2025'!X$14,"")
B87: =IF('[1] 2025'!C85 <>"",'[1] 2025'!C85,"") -> 13409 | C87: =IF('[1] 2025'!D85 <>"",'[1] 2025'!D85,"") -> 45797 | D87: =IF('[1] 2025'!E85 <>"",'[1] 2025'!E85,"") -> 45828 | E87: =IF('[1] 2025'!F85 <>"",'[1] 2025'!F85,"") -> 52 | F87: =IF('[1] 2025'!G85 <>"",'[1] 2025'!G85,"") -> La informació es trasllada a la Unitat de Govern Obert amb retràs | G87: =IF('[1] 2025'!H85 <>"",'[1] 2025'!H85,"") -> Urbanisme | H87: =IF('[1] 2025'!I85 <>"",'[1] 2025'!I85,"") -> Home | I87: ='[1] 2025'!J85 -> Castellà | J87: ='[1] 2025'!K85 -> Electrònic | K87: ='[1] 2025'!L85 -> Sol·licitud de les còpies de les llicències de la primera ocupació; d'obres; l'obertura del pàrquing; del gual i de les piscines externes del bloc E de l'edifici Aqquaria, situat al c/ del Terrer. | L87: ='[1] 2025'!M85 -> 12 | M87: ='[1] 2025'!N85 -> Sí | N87: =IF('[1] 2025'!O85 <>"",'[1] 2025'!O85,"") | O87: =IF('[1] 2025'!P85 <>"",'[1] 2025'!P85,"") | P87: ='[1] 2025'!Q85 -> 45849 | Q87: =IF('[1] 2025'!R85 <>"",'[1] 2025'!R85,"") -> Estimació | R87: =IF('[1] 2025'!S$14 <>"",'[1] 2025'!S$14,"") | S87: ='[1] 2025'!T85 -> 45849 | T87: =IF('[1] 2025'!U85 <>"",'[1] 2025'!U85,"") | U87: =IF('[1] 2025'!V85 <>"",'[1] 2025'!V85,"") | V87: =IF('[1] 2025'!W$14 <>"",'[1] 2025'!W$14,"") | W87: =IF('[1] 2025'!X$14 <>"",'[1] 2025'!X$14,"")
B88: =IF('[1] 2025'!C86 <>"",'[1] 2025'!C86,"") -> 14067 | C88: =IF('[1] 2025'!D86 <>"",'[1] 2025'!D86,"") -> 45803 | D88: =IF('[1] 2025'!E86 <>"",'[1] 2025'!E86,"") -> 45834 | E88: =IF('[1] 2025'!F86 <>"",'[1] 2025'!F86,"") -> 43 | F88: =IF('[1] 2025'!G86 <>"",'[1] 2025'!G86,"") -> La informació es trasllada a la Unitat de Govern Obert amb retràs | G88: =IF('[1] 2025'!H86 <>"",'[1] 2025'!H86,"") -> Urbanisme i activitats | H88: =IF('[1] 2025'!I86 <>"",'[1] 2025'!I86,"") -> Dona | I88: ='[1] 2025'!J86 -> Català | J88: ='[1] 2025'!K86 -> Electrònic | K88: ='[1] 2025'!L86 -> Sol·licitud de la comunicació prèvia d'activitat i d'obres d'un l'establiment comercial. | L88: ='[1] 2025'!M86 -> 12 | M88: ='[1] 2025'!N86 -> Sí | N88: =IF('[1] 2025'!O86 <>"",'[1] 2025'!O86,"") | O88: =IF('[1] 2025'!P86 <>"",'[1] 2025'!P86,"") | P88: ='[1] 2025'!Q86 -> 45846 | Q88: =IF('[1] 2025'!R86 <>"",'[1] 2025'!R86,"") -> Estimació | R88: =IF('[1] 2025'!S$14 <>"",'[1] 2025'!S$14,"") | S88: ='[1] 2025'!T86 -> 45846 | T88: =IF('[1] 2025'!U86 <>"",'[1] 2025'!U86,"") | U88: =IF('[1] 2025'!V86 <>"",'[1] 2025'!V86,"") | V88: =IF('[1] 2025'!W$14 <>"",'[1] 2025'!W$14,"") | W88: =IF('[1] 2025'!X$14 <>"",'[1] 2025'!X$14,"")
B89: =IF('[1] 2025'!C87 <>"",'[1] 2025'!C87,"") -> 14352 | C89: =IF('[1] 2025'!D87 <>"",'[1] 2025'!D87,"") -> 45804 | D89: =IF('[1] 2025'!E87 <>"",'[1] 2025'!E87,"") -> 45835 | E89: =IF('[1] 2025'!F87 <>"",'[1] 2025'!F87,"") -> 9 | F89: =IF('[1] 2025'!G87 <>"",'[1] 2025'!G87,"") | G89: =IF('[1] 2025'!H87 <>"",'[1] 2025'!H87,"") -> Arxiu | H89: =IF('[1] 2025'!I87 <>"",'[1] 2025'!I87,"") -> Dona | I89: ='[1] 2025'!J87 -> Català | J89: ='[1] 2025'!K87 -> Electrònic | K89: ='[1] 2025'!L87 -> Sol·licitud de fotografies antigues del municipi. | L89: ='[1] 2025'!M87 -> 13 | M89: ='[1] 2025'!N87 -> No | N89: =IF('[1] 2025'!O87 <>"",'[1] 2025'!O87,"") | O89: =IF('[1] 2025'!P87 <>"",'[1] 2025'!P87,"") | P89: ='[1] 2025'!Q87 -> 45813 | Q89: =IF('[1] 2025'!R87 <>"",'[1] 2025'!R87,"") -> Estimació | R89: =IF('[1] 2025'!S$14 <>"",'[1] 2025'!S$14,"") | S89: ='[1] 2025'!T87 -> 45813 | T89: =IF('[1] 2025'!U87 <>"",'[1] 2025'!U87,"") | U89: =IF('[1] 2025'!V87 <>"",'[1] 2025'!V87,"") | V89: =IF('[1] 2025'!W$14 <>"",'[1] 2025'!W$14,"") | W89: =IF('[1] 2025'!X$14 <>"",'[1] 2025'!X$14,"")
B90: =IF('[1] 2025'!C88 <>"",'[1] 2025'!C88,"") -> 14673 | C90: =IF('[1] 2025'!D88 <>"",'[1] 2025'!D88,"") -> 45806 | D90: =IF('[1] 2025'!E88 <>"",'[1] 2025'!E88,"") -> 45837 | E90: =IF('[1] 2025'!F88 <>"",'[1] 2025'!F88,"") -> 5 | F90: =IF('[1] 2025'!G88 <>"",'[1] 2025'!G88,"") | G90: =IF('[1] 2025'!H88 <>"",'[1] 2025'!H88,"") -> Govern Obert | H90: =IF('[1] 2025'!I88 <>"",'[1] 2025'!I88,"") -> Persona jurídica | I90: ='[1] 2025'!J88 -> Castellà | J90: ='[1] 2025'!K88 -> Electrònic | K90: ='[1] 2025'!L88 -> Sol·licitud de totes les instàncies presentades per una entitat des de l'any 2016 fins a l'any 2024. | L90: ='[1] 2025'!M88 -> 13 | M90: ='[1] 2025'!N88 -> Sí | N90: =IF('[1] 2025'!O88 <>"",'[1] 2025'!O88,"") | O90: =IF('[1] 2025'!P88 <>"",'[1] 2025'!P88,"") | P90: ='[1] 2025'!Q88 -> 45811 | Q90: =IF('[1] 2025'!R88 <>"",'[1] 2025'!R88,"") -> Estimació | R90: =IF('[1] 2025'!S$14 <>"",'[1] 2025'!S$14,"") | S90: ='[1] 2025'!T88 -> 45811 | T90: =IF('[1] 2025'!U88 <>"",'[1] 2025'!U88,"") | U90: =IF('[1] 2025'!V88 <>"",'[1] 2025'!V88,"") | V90: =IF('[1] 2025'!W$14 <>"",'[1] 2025'!W$14,"") | W90: =IF('[1] 2025'!X$14 <>"",'[1] 2025'!X$14,"")
B91: =IF('[1] 2025'!C89 <>"",'[1] 2025'!C89,"") -> 15227 | C91: =IF('[1] 2025'!D89 <>"",'[1] 2025'!D89,"") -> 45811 | D91: =IF('[1] 2025'!E89 <>"",'[1] 2025'!E89,"") -> 45841 | E91: =IF('[1] 2025'!F89 <>"",'[1] 2025'!F89,"") -> 20 | F91: =IF('[1] 2025'!G89 <>"",'[1] 2025'!G89,"") | G91: =IF('[1] 2025'!H89 <>"",'[1] 2025'!H89,"") -> Urbanisme | H91: =IF('[1] 2025'!I89 <>"",'[1] 2025'!I89,"") -> Persona jurídica | I91: ='[1] 2025'!J89 -> Català | J91: ='[1] 2025'!K89 -> Electrònic | K91: ='[1] 2025'!L89 -> Sol·licitud dels plànols dels blocs 1 i 2 dels edificis Bellavista I i II. | L91: ='[1] 2025'!M89 -> 12 | M91: ='[1] 2025'!N89 -> Sí | N91: =IF('[1] 2025'!O89 <>"",'[1] 2025'!O89,"") | O91: =IF('[1] 2025'!P89 <>"",'[1] 2025'!P89,"") | P91: ='[1] 2025'!Q89 -> 45831 | Q91: =IF('[1] 2025'!R89 <>"",'[1] 2025'!R89,"") -> Estimació | R91: =IF('[1] 2025'!S$14 <>"",'[1] 2025'!S$14,"") | S91: ='[1] 2025'!T89 -> 45831 | T91: =IF('[1] 2025'!U89 <>"",'[1] 2025'!U89,"") | U91: =IF('[1] 2025'!V89 <>"",'[1] 2025'!V89,"") | V91: =IF('[1] 2025'!W$14 <>"",'[1] 2025'!W$14,"") | W91: =IF('[1] 2025'!X$14 <>"",'[1] 2025'!X$14,"")
B92: =IF('[1] 2025'!C90 <>"",'[1] 2025'!C90,"") -> 16140 | C92: =IF('[1] 2025'!D90 <>"",'[1] 2025'!D90,"") -> 45817 | D92: =IF('[1] 2025'!E90 <>"",'[1] 2025'!E90,"") -> 45847 | E92: =IF('[1] 2025'!F90 <>"",'[1] 2025'!F90,"") -> 22 | F92: =IF('[1] 2025'!G90 <>"",'[1] 2025'!G90,"") | G92: =IF('[1] 2025'!H90 <>"",'[1] 2025'!H90,"") -> Urbanisme | H92: =IF('[1] 2025'!I90 <>"",'[1] 2025'!I90,"") -> Home | I92: ='[1] 2025'!J90 -> Català | J92: ='[1] 2025'!K90 -> Electrònic | K92: ='[1] 2025'!L90 -> Sol·licitud dels plànols de construcció de l'edifici Sevilla, situat al c/ Burguera, núm. 6. | L92: ='[1] 2025'!M90 -> 12 | M92: ='[1] 2025'!N90 -> Sí | N92: =IF('[1] 2025'!O90 <>"",'[1] 2025'!O90,"") | O92: =IF('[1] 2025'!P90 <>"",'[1] 2025'!P90,"") | P92: ='[1] 2025'!Q90 -> 45839 | Q92: =IF('[1] 2025'!R90 <>"",'[1] 2025'!R90,"") -> Estimació | R92: =IF('[1] 2025'!S$14 <>"",'[1] 2025'!S$14,"") | S92: ='[1] 2025'!T90 -> 45839 | T92: =IF('[1] 2025'!U90 <>"",'[1] 2025'!U90,"") | U92: =IF('[1] 2025'!V90 <>"",'[1] 2025'!V90,"") | V92: =IF('[1] 2025'!W$14 <>"",'[1] 2025'!W$14,"") | W92: =IF('[1] 2025'!X$14 <>"",'[1] 2025'!X$14,"")
B93: =IF('[1] 2025'!C91 <>"",'[1] 2025'!C91,"") -> 16275 | C93: =IF('[1] 2025'!D91 <>"",'[1] 2025'!D91,"") -> 45818 | D93: =IF('[1] 2025'!E91 <>"",'[1] 2025'!E91,"") -> 45848 | E93: =IF('[1] 2025'!F91 <>"",'[1] 2025'!F91,"") -> 20 | F93: =IF('[1] 2025'!G91 <>"",'[1] 2025'!G91,"") | G93: =IF('[1] 2025'!H91 <>"",'[1] 2025'!H91,"") -> Serveis Tècnics | H93: =IF('[1] 2025'!I91 <>"",'[1] 2025'!I91,"") -> Dona | I93: ='[1] 2025'!J91 -> Català | J93: ='[1] 2025'!K91 -> Presencial | K93: ='[1] 2025'!L91 -> Sol·licitud per conèixer en quin any es va inaugurar la Font Lluminosa del Passeig Jaume I i per saber que hi havia abans al seu lloc. | L93: ='[1] 2025'!M91 -> 13 | M93: ='[1] 2025'!N91 -> No | N93: =IF('[1] 2025'!O91 <>"",'[1] 2025'!O91,"") | O93: =IF('[1] 2025'!P91 <>"",'[1] 2025'!P91,"") | P93: ='[1] 2025'!Q91 -> 45838 | Q93: =IF('[1] 2025'!R91 <>"",'[1] 2025'!R91,"") -> Estimació | R93: =IF('[1] 2025'!S$14 <>"",'[1] 2025'!S$14,"") | S93: ='[1] 2025'!T91 -> 45838 | T93: =IF('[1] 2025'!U91 <>"",'[1] 2025'!U91,"") | U93: =IF('[1] 2025'!V91 <>"",'[1] 2025'!V91,"") | V93: =IF('[1] 2025'!W$14 <>"",'[1] 2025'!W$14,"") | W93: =IF('[1] 2025'!X$14 <>"",'[1] 2025'!X$14,"")
B94: =IF('[1] 2025'!C92 <>"",'[1] 2025'!C92,"") -> 16278 | C94: =IF('[1] 2025'!D92 <>"",'[1] 2025'!D92,"") -> 45818 | D94: =IF('[1] 2025'!E92 <>"",'[1] 2025'!E92,"") -> 45848 | E94: =IF('[1] 2025'!F92 <>"",'[1] 2025'!F92,"") -> 17 | F94: =IF('[1] 2025'!G92 <>"",'[1] 2025'!G92,"") | G94: =IF('[1] 2025'!H92 <>"",'[1] 2025'!H92,"") -> Cultura | H94: =IF('[1] 2025'!I92 <>"",'[1] 2025'!I92,"") -> Dona | I94: ='[1] 2025'!J92 -> Català | J94: ='[1] 2025'!K92 -> Presencial | K94: ='[1] 2025'!L92 -> Sol·licitud per conèixer en quin any es va fer el primer Aplec de Sardanes de Sant Martí a Salou i per saber en quin lloc es feien cada any. | L94: ='[1] 2025'!M92 -> 13 | M94: ='[1] 2025'!N92 -> No | N94: =IF('[1] 2025'!O92 <>"",'[1] 2025'!O92,"") | O94: =IF('[1] 2025'!P92 <>"",'[1] 2025'!P92,"") | P94: ='[1] 2025'!Q92 -> 45835 | Q94: =IF('[1] 2025'!R92 <>"",'[1] 2025'!R92,"") -> Estimació | R94: =IF('[1] 2025'!S$14 <>"",'[1] 2025'!S$14,"") | S94: ='[1] 2025'!T92 -> 45835 | T94: =IF('[1] 2025'!U92 <>"",'[1] 2025'!U92,"") | U94: =IF('[1] 2025'!V92 <>"",'[1] 2025'!V92,"") | V94: =IF('[1] 2025'!W$14 <>"",'[1] 2025'!W$14,"") | W94: =IF('[1] 2025'!X$14 <>"",'[1] 2025'!X$14,"")
... B121: =IF('[1] 2025'!C119 <>"",'[1] 2025'!C119,"") -> 21687 | C121: =IF('[1] 2025'!D119 <>"",'[1] 2025'!D119,"") -> 45861 | D121: =IF('[1] 2025'!E119 <>"",'[1] 2025'!E119,"") -> 45892 | E121: =IF('[1] 2025'!F119 <>"",'[1] 2025'!F119,"") -> 1 | F121: =IF('[1] 2025'!G119 <>"",'[1] 2025'!G119,"") | G121: =IF('[1] 2025'!H119 <>"",'[1] 2025'!H119,"") -> Enginyeria Civil | H121: =IF('[1] 2025'!I119 <>"",'[1] 2025'!I119,"") -> Home | I121: ='[1] 2025'!J119 -> Català | J121: ='[1] 2025'!K119 -> Electrònic | K121: ='[1] 2025'!L119 -> Sol·licitud del Pla d'accessibilitat del municipi. | L121: ='[1] 2025'!M119 -> 3 | M121: ='[1] 2025'!N119 -> SÍ | N121: =IF('[1] 2025'!O119 <>"",'[1] 2025'!O119,"") | O121: =IF('[1] 2025'!P119 <>"",'[1] 2025'!P119,"") | P121: ='[1] 2025'!Q119 -> 45862 | Q121: =IF('[1] 2025'!R119 <>"",'[1] 2025'!R119,"") -> Estimació | R121: =IF('[1] 2025'!S$14 <>"",'[1] 2025'!S$14,"") | S121: ='[1] 2025'!T119 -> 45862 | T121: =IF('[1] 2025'!U119 <>"",'[1] 2025'!U119,"") | U121: =IF('[1] 2025'!V119 <>"",'[1] 2025'!V119,"") | V121: =IF('[1] 2025'!W$14 <>"",'[1] 2025'!W$14,"") | W121: =IF('[1] 2025'!X$14 <>"",'[1] 2025'!X$14,"")
B122: =IF('[1] 2025'!C120 <>"",'[1] 2025'!C120,"") -> 21891 | C122: =IF('[1] 2025'!D120 <>"",'[1] 2025'!D120,"") -> 45862 | D122: =IF('[1] 2025'!E120 <>"",'[1] 2025'!E120,"") -> 45893 | E122: =IF('[1] 2025'!F120 <>"",'[1] 2025'!F120,"") -> 29 | F122: =IF('[1] 2025'!G120 <>"",'[1] 2025'!G120,"") | G122: =IF('[1] 2025'!H120 <>"",'[1] 2025'!H120,"") -> Urbanisme | H122: =IF('[1] 2025'!I120 <>"",'[1] 2025'!I120,"") -> Persona jurídica | I122: ='[1] 2025'!J120 -> Castellà | J122: ='[1] 2025'!K120 -> Electrònic | K122: ='[1] 2025'!L120 -> Sol·licitud d'una còpia del Llibre de l'edifici Acqua, situat al c/ Camí del Racó, núm. 4. | L122: ='[1] 2025'!M120 -> 12 | M122: ='[1] 2025'!N120 -> Sí | N122: =IF('[1] 2025'!O120 <>"",'[1] 2025'!O120,"") | O122: =IF('[1] 2025'!P120 <>"",'[1] 2025'!P120,"") | P122: ='[1] 2025'!Q120 -> 45891 | Q122: =IF('[1] 2025'!R120 <>"",'[1] 2025'!R120,"") -> Inadmissió | R122: Art. 29.1.b) LTC | T122: =IF('[1] 2025'!U120 <>"",'[1] 2025'!U120,"") | U122: =IF('[1] 2025'!V120 <>"",'[1] 2025'!V120,"") | V122: =IF('[1] 2025'!W$14 <>"",'[1] 2025'!W$14,"") | W122: =IF('[1] 2025'!X$14 <>"",'[1] 2025'!X$14,"")
B123: =IF('[1] 2025'!C121 <>"",'[1] 2025'!C121,"") -> 21918 | C123: =IF('[1] 2025'!D121 <>"",'[1] 2025'!D121,"") -> 45862 | D123: =IF('[1] 2025'!E121 <>"",'[1] 2025'!E121,"") -> 45908 | E123: =IF('[1] 2025'!F121 <>"",'[1] 2025'!F121,"") -> 42 | F123: =IF('[1] 2025'!G121 <>"",'[1] 2025'!G121,"") -> Demora en el pagament de la liquidació | G123: =IF('[1] 2025'!H121 <>"",'[1] 2025'!H121,"") -> Urbanisme | H123: =IF('[1] 2025'!I121 <>"",'[1] 2025'!I121,"") -> Dona | I123: ='[1] 2025'!J121 -> Català | J123: ='[1] 2025'!K121 -> Electrònic | K123: ='[1] 2025'!L121 -> Sol·licitud de la llicència d'obres, plànols i altra documentació de l'edifici situat al c/ Escaladei, núm. 3. | L123: ='[1] 2025'!M121 -> 12 | M123: ='[1] 2025'!N121 -> Sí | N123: =IF('[1] 2025'!O121 <>"",'[1] 2025'!O121,"") | O123: =IF('[1] 2025'!P121 <>"",'[1] 2025'!P121,"") | P123: ='[1] 2025'!Q121 -> 45919 | Q123: =IF('[1] 2025'!R121 <>"",'[1] 2025'!R121,"") -> Estimació | R123: =IF('[1] 2025'!S$14 <>"",'[1] 2025'!S$14,"") | S123: ='[1] 2025'!T121 -> 45919 | T123: =IF('[1] 2025'!U121 <>"",'[1] 2025'!U121,"") | U123: =IF('[1] 2025'!V121 <>"",'[1] 2025'!V121,"") | V123: =IF('[1] 2025'!W$14 <>"",'[1] 2025'!W$14,"") | W123: =IF('[1] 2025'!X$14 <>"",'[1] 2025'!X$14,"")
B124: =IF('[1] 2025'!C122 <>"",'[1] 2025'!C122,"") -> 22265 | C124: =IF('[1] 2025'!D122 <>"",'[1] 2025'!D122,"") -> 45866 | D124: =IF('[1] 2025'!E122 <>"",'[1] 2025'!E122,"") -> 45897 | E124: =IF('[1] 2025'!F122 <>"",'[1] 2025'!F122,"") -> 17 | F124: =IF('[1] 2025'!G122 <>"",'[1] 2025'!G122,"") | G124: =IF('[1] 2025'!H122 <>"",'[1] 2025'!H122,"") -> Activitats | H124: =IF('[1] 2025'!I122 <>"",'[1] 2025'!I122,"") -> Persona jurídica | I124: ='[1] 2025'!J122 -> Català | J124: ='[1] 2025'!K122 -> Electrònic | K124: ='[1] 2025'!L122 -> Sol·licitud d'un llistat dels habitatges d'ús turístic de la Comunitat de Propietaris de l'edifici Atalaya-Mar. | L124: ='[1] 2025'!M122 -> 13 | M124: ='[1] 2025'!N122 -> No | N124: =IF('[1] 2025'!O122 <>"",'[1] 2025'!O122,"") | O124: =IF('[1] 2025'!P122 <>"",'[1] 2025'!P122,"") | P124: ='[1] 2025'!Q122 -> 45883 | Q124: =IF('[1] 2025'!R122 <>"",'[1] 2025'!R122,"") -> Estimació | R124: =IF('[1] 2025'!S$14 <>"",'[1] 2025'!S$14,"") | S124: ='[1] 2025'!T122 -> 45883 | T124: =IF('[1] 2025'!U122 <>"",'[1] 2025'!U122,"") | U124: =IF('[1] 2025'!V122 <>"",'[1] 2025'!V122,"") | V124: =IF('[1] 2025'!W$14 <>"",'[1] 2025'!W$14,"") | W124: =IF('[1] 2025'!X$14 <>"",'[1] 2025'!X$14,"")
B125: =IF('[1] 2025'!C123 <>"",'[1] 2025'!C123,"") -> 22281 | C125: =IF('[1] 2025'!D123 <>"",'[1] 2025'!D123,"") -> 45866 | D125: =IF('[1] 2025'!E123 <>"",'[1] 2025'!E123,"") -> 45897 | E125: =IF('[1] 2025'!F123 <>"",'[1] 2025'!F123,"") -> 50 | F125: =IF('[1] 2025'!G123 <>"",'[1] 2025'!G123,"") -> La informació es trasllada a la Unitat de Govern Obert amb retràs | G125: =IF('[1] 2025'!H123 <>"",'[1] 2025'!H123,"") -> Activitats | H125: =IF('[1] 2025'!I123 <>"",'[1] 2025'!I123,"") -> Home | I125: ='[1] 2025'!J123 -> Castellà | J125: ='[1] 2025'!K123 -> Electrònic | K125: ='[1] 2025'!L123 -> Sol·licitud de l'estat de vigència de la llicència, plànols i projectes de les activitats dels locals situats al c/ Barcelona, 102 i Passeig de Miramar, 50. | L125: ='[1] 2025'!M123 -> 13 | M125: ='[1] 2025'!N123 -> Sí | N125: =IF('[1] 2025'!O123 <>"",'[1] 2025'!O123,"") | O125: =IF('[1] 2025'!P123 <>"",'[1] 2025'!P123,"") | P125: ='[1] 2025'!Q123 -> 45916 | Q125: =IF('[1] 2025'!R123 <>"",'[1] 2025'!R123,"") -> Estimació | R125: =IF('[1] 2025'!S$14 <>"",'[1] 2025'!S$14,"") | S125: ='[1] 2025'!T123 -> 45916 | T125: =IF('[1] 2025'!U123 <>"",'[1] 2025'!U123,"") | U125: =IF('[1] 2025'!V123 <>"",'[1] 2025'!V123,"") | V125: =IF('[1] 2025'!W$14 <>"",'[1] 2025'!W$14,"") | W125: =IF('[1] 2025'!X$14 <>"",'[1] 2025'!X$14,"")
B126: =IF('[1] 2025'!C124 <>"",'[1] 2025'!C124,"") -> 22399 | C126: =IF('[1] 2025'!D124 <>"",'[1] 2025'!D124,"") -> 45867 | D126: =IF('[1] 2025'!E124 <>"",'[1] 2025'!E124,"") -> 45913 | E126: =IF('[1] 2025'!F124 <>"",'[1] 2025'!F124,"") -> 28 | F126: =IF('[1] 2025'!G124 <>"",'[1] 2025'!G124,"") | G126: =IF('[1] 2025'!H124 <>"",'[1] 2025'!H124,"") -> Urbanisme | H126: =IF('[1] 2025'!I124 <>"",'[1] 2025'!I124,"") -> Home | I126: ='[1] 2025'!J124 -> Castellà | J126: ='[1] 2025'!K124 -> Presencial | K126: ='[1] 2025'!L124 -> Sol·licitud dels plànols del pàrquing de l'edifici Rits, situat al c/ Brussel·les, núm. 64. | L126: ='[1] 2025'!M124 -> 12 | M126: ='[1] 2025'!N124 -> No | N126: =IF('[1] 2025'!O124 <>"",'[1] 2025'!O124,"") | O126: =IF('[1] 2025'!P124 <>"",'[1] 2025'!P124,"") | P126: ='[1] 2025'!Q124 -> 45910 | Q126: =IF('[1] 2025'!R124 <>"",'[1] 2025'!R124,"") -> Estimació | R126: =IF('[1] 2025'!S$14 <>"",'[1] 2025'!S$14,"") | S126: ='[1] 2025'!T124 -> 45910 | T126: =IF('[1] 2025'!U124 <>"",'[1] 2025'!U124,"") | U126: =IF('[1] 2025'!V124 <>"",'[1] 2025'!V124,"") | V126: =IF('[1] 2025'!W$14 <>"",'[1] 2025'!W$14,"") | W126: =IF('[1] 2025'!X$14 <>"",'[1] 2025'!X$14,"")
B127: =IF('[1] 2025'!C125 <>"",'[1] 2025'!C125,"") -> 22470 | C127: =IF('[1] 2025'!D125 <>"",'[1] 2025'!D125,"") -> 45867 | D127: =IF('[1] 2025'!E125 <>"",'[1] 2025'!E125,"") -> 45898 | E127: =IF('[1] 2025'!F125 <>"",'[1] 2025'!F125,"") -> 16 | F127: =IF('[1] 2025'!G125 <>"",'[1] 2025'!G125,"") | G127: =IF('[1] 2025'!H125 <>"",'[1] 2025'!H125,"") -> Activitats | H127: =IF('[1] 2025'!I125 <>"",'[1] 2025'!I125,"") -> Home | I127: ='[1] 2025'!J125 -> Castellà | J127: ='[1] 2025'!K125 -> Presencial | K127: ='[1] 2025'!L125 -> Sol·licitud d'un llistat dels habitatges d'ús turístic de la Comunitat de Propietaris de l'edifici Santa Eulàlia. | L127: ='[1] 2025'!M125 -> 13 | M127: ='[1] 2025'!N125 -> No | N127: =IF('[1] 2025'!O125 <>"",'[1] 2025'!O125,"") | O127: =IF('[1] 2025'!P125 <>"",'[1] 2025'!P125,"") | P127: ='[1] 2025'!Q125 -> 45883 | Q127: =IF('[1] 2025'!R125 <>"",'[1] 2025'!R125,"") -> Estimació | R127: =IF('[1] 2025'!S$14 <>"",'[1] 2025'!S$14,"") | S127: ='[1] 2025'!T125 -> 45883 | T127: =IF('[1] 2025'!U125 <>"",'[1] 2025'!U125,"") | U127: =IF('[1] 2025'!V125 <>"",'[1] 2025'!V125,"") | V127: =IF('[1] 2025'!W$14 <>"",'[1] 2025'!W$14,"") | W127: =IF('[1] 2025'!X$14 <>"",'[1] 2025'!X$14,"")
B128: =IF('[1] 2025'!C126 <>"",'[1] 2025'!C126,"") -> 22587 | C128: =IF('[1] 2025'!D126 <>"",'[1] 2025'!D126,"") -> 45868 | D128: =IF('[1] 2025'!E126 <>"",'[1] 2025'!E126,"") -> 45899 | E128: =IF('[1] 2025'!F126 <>"",'[1] 2025'!F126,"") -> 48 | F128: =IF('[1] 2025'!G126 <>"",'[1] 2025'!G126,"") -> La informació es trasllada a la Unitat de Govern Obert amb retràs | G128: =IF('[1] 2025'!H126 <>"",'[1] 2025'!H126,"") -> Activitats | H128: =IF('[1] 2025'!I126 <>"",'[1] 2025'!I126,"") -> Persona jurídica | I128: ='[1] 2025'!J126 -> Castellà | J128: ='[1] 2025'!K126 -> Electrònic | K128: ='[1] 2025'!L126 -> Sol·licitud d'informació relacionada amb les llicències o expedients municipals relacionats amb escales de cargol relacionats amb locals comercials, informes i atestats relacionats i dades estadístiques de tots els incendis en locals. | L128: ='[1] 2025'!M126 -> 13 | M128: ='[1] 2025'!N126 -> Sí | N128: =IF('[1] 2025'!O126 <>"",'[1] 2025'!O126,"") | O128: =IF('[1] 2025'!P126 <>"",'[1] 2025'!P126,"") | P128: ='[1] 2025'!Q126 -> 45916 | Q128: =IF('[1] 2025'!R126 <>"",'[1] 2025'!R126,"") -> Inadmissió | R128: Art. 29.1.b) LTC | T128: =IF('[1] 2025'!U126 <>"",'[1] 2025'!U126,"") | U128: =IF('[1] 2025'!V126 <>"",'[1] 2025'!V126,"") | V128: =IF('[1] 2025'!W$14 <>"",'[1] 2025'!W$14,"") | W128: =IF('[1] 2025'!X$14 <>"",'[1] 2025'!X$14,"")
B129: =IF('[1] 2025'!C127 <>"",'[1] 2025'!C127,"") -> 22851 | C129: =IF('[1] 2025'!D127 <>"",'[1] 2025'!D127,"") -> 45869 | D129: =IF('[1] 2025'!E127 <>"",'[1] 2025'!E127,"") -> 45900 | E129: =IF('[1] 2025'!F127 <>"",'[1] 2025'!F127,"") -> 14 | F129: =IF('[1] 2025'!G127 <>"",'[1] 2025'!G127,"") | G129: =IF('[1] 2025'!H127 <>"",'[1] 2025'!H127,"") -> Activitats | H129: =IF('[1] 2025'!I127 <>"",'[1] 2025'!I127,"") -> Dona | I129: ='[1] 2025'!J127 -> Català | J129: ='[1] 2025'!K127 -> Presencial | K129: ='[1] 2025'!L127 -> Sol·licitud d'un llistat dels habitatges d'ús turístic de la Comunitat de Propietaris de l'edifici Venus. | L129: ='[1] 2025'!M127 -> 13 | M129: ='[1] 2025'!N127 -> No | N129: =IF('[1] 2025'!O127 <>"",'[1] 2025'!O127,"") | O129: =IF('[1] 2025'!P127 <>"",'[1] 2025'!P127,"") | P129: ='[1] 2025'!Q127 -> 45883 | Q129: =IF('[1] 2025'!R127 <>"",'[1] 2025'!R127,"") -> Estimació | R129: =IF('[1] 2025'!S$14 <>"",'[1] 2025'!S$14,"") | S129: ='[1] 2025'!T127 -> 45883 | T129: =IF('[1] 2025'!U127 <>"",'[1] 2025'!U127,"") | U129: =IF('[1] 2025'!V127 <>"",'[1] 2025'!V127,"") | V129: =IF('[1] 2025'!W$14 <>"",'[1] 2025'!W$14,"") | W129: =IF('[1] 2025'!X$14 <>"",'[1] 2025'!X$14,"")
B130: =IF('[1] 2025'!C128 <>"",'[1] 2025'!C128,"") -> 23215 | C130: =IF('[1] 2025'!D128 <>"",'[1] 2025'!D128,"") -> 45870 | D130: =IF('[1] 2025'!E128 <>"",'[1] 2025'!E128,"") -> 45901 | E130: =IF('[1] 2025'!F128 <>"",'[1] 2025'!F128,"") -> 25 | F130: =IF('[1] 2025'!G128 <>"",'[1] 2025'!G128,"") | G130: =IF('[1] 2025'!H128 <>"",'[1] 2025'!H128,"") -> Activitats | H130: =IF('[1] 2025'!I128 <>"",'[1] 2025'!I128,"") -> Dona | I130: ='[1] 2025'!J128 -> Castellà | J130: ='[1] 2025'!K128 -> Presencial | K130: ='[1] 2025'!L128 -> Sol·licitud d'un llistat dels habitatges d'ús turístic de la Comunitat de Propietaris de l'edifici Palafox. | L130: ='[1] 2025'!M128 -> 13 | M130: ='[1] 2025'!N128 -> No | N130: =IF('[1] 2025'!O128 <>"",'[1] 2025'!O128,"") | O130: =IF('[1] 2025'!P128 <>"",'[1] 2025'!P128,"") | P130: ='[1] 2025'!Q128 -> 45895 | Q130: =IF('[1] 2025'!R128 <>"",'[1] 2025'!R128,"") -> Estimació | R130: =IF('[1] 2025'!S$14 <>"",'[1] 2025'!S$14,"") | S130: ='[1] 2025'!T128 -> 45895 | T130: =IF('[1] 2025'!U128 <>"",'[1] 2025'!U128,"") | U130: =IF('[1] 2025'!V128 <>"",'[1] 2025'!V128,"") | V130: =IF('[1] 2025'!W$14 <>"",'[1] 2025'!W$14,"") | W130: =IF('[1] 2025'!X$14 <>"",'[1] 2025'!X$14,"")
B131: =IF('[1] 2025'!C129 <>"",'[1] 2025'!C129,"") -> 23321 | C131: =IF('[1] 2025'!D129 <>"",'[1] 2025'!D129,"") -> 45870 | D131: =IF('[1] 2025'!E129 <>"",'[1] 2025'!E129,"") -> 45916 | E131: =IF('[1] 2025'!F129 <>"",'[1] 2025'!F129,"") -> 31 | F131: =IF('[1] 2025'!G129 <>"",'[1] 2025'!G129,"") -> Demora en la tramitació | G131: =IF('[1] 2025'!H129 <>"",'[1] 2025'!H129,"") -> Urbanisme | H131: =IF('[1] 2025'!I129 <>"",'[1] 2025'!I129,"") -> Dona | I131: ='[1] 2025'!J129 -> Català | J131: ='[1] 2025'!K129 -> Electrònic | K131: ='[1] 2025'!L129 -> Sol·licitud dels plànols del pàrquing de l'edifici Riviera Park, situat al c/ Louis Braille, núm. 1. | L131: ='[1] 2025'!M129 -> 12 | M131: ='[1] 2025'!N129 -> Sí | N131: =IF('[1] 2025'!O129 <>"",'[1] 2025'!O129,"") | O131: =IF('[1] 2025'!P129 <>"",'[1] 2025'!P129,"") | P131: ='[1] 2025'!Q129 -> 45916 | Q131: =IF('[1] 2025'!R129 <>"",'[1] 2025'!R129,"") -> Estimació | R131: =IF('[1] 2025'!S$14 <>"",'[1] 2025'!S$14,"") | S131: ='[1] 2025'!T129 -> 45916 | T131: =IF('[1] 2025'!U129 <>"",'[1] 2025'!U129,"") | U131: =IF('[1] 2025'!V129 <>"",'[1] 2025'!V129,"") | V131: =IF('[1] 2025'!W$14 <>"",'[1] 2025'!W$14,"") | W131: =IF('[1] 2025'!X$14 <>"",'[1] 2025'!X$14,"")
B132: =IF('[1] 2025'!C130 <>"",'[1] 2025'!C130,"") -> 23332 | C132: =IF('[1] 2025'!D130 <>"",'[1] 2025'!D130,"") -> 45873 | D132: =IF('[1] 2025'!E130 <>"",'[1] 2025'!E130,"") -> 45904 | E132: =IF('[1] 2025'!F130 <>"",'[1] 2025'!F130,"") -> 10 | F132: =IF('[1] 2025'!G130 <>"",'[1] 2025'!G130,"") | G132: =IF('[1] 2025'!H130 <>"",'[1] 2025'!H130,"") -> Personal i processos selectius | H132: =IF('[1] 2025'!I130 <>"",'[1] 2025'!I130,"") -> Dona | I132: ='[1] 2025'!J130 -> Català | J132: ='[1] 2025'!K130 -> Electrònic | K132: ='[1] 2025'!L130 -> Sol·licitud de les còpies dels exàmens del temari general per a les categories A1 i A2 dels últims 3 anys. | L132: ='[1] 2025'!M130 -> 4 | M132: ='[1] 2025'!N130 -> SÍ | N132: =IF('[1] 2025'!O130 <>"",'[1] 2025'!O130,"") | O132: =IF('[1] 2025'!P130 <>"",'[1] 2025'!P130,"") | P132: ='[1] 2025'!Q130 -> 45883 | Q132: =IF('[1] 2025'!R130 <>"",'[1] 2025'!R130,"") -> Estimació | R132: =IF('[1] 2025'!S$14 <>"",'[1] 2025'!S$14,"") | S132: ='[1] 2025'!T130 -> 45883 | T132: =IF('[1] 2025'!U130 <>"",'[1] 2025'!U130,"") | U132: =IF('[1] 2025'!V130 <>"",'[1] 2025'!V130,"") | V132: =IF('[1] 2025'!W$14 <>"",'[1] 2025'!W$14,"") | W132: =IF('[1] 2025'!X$14 <>"",'[1] 2025'!X$14,"")
B133: =IF('[1] 2025'!C131 <>"",'[1] 2025'!C131,"") -> 23711 | C133: =IF('[1] 2025'!D131 <>"",'[1] 2025'!D131,"") -> 45874 | D133: =IF('[1] 2025'!E131 <>"",'[1] 2025'!E131,"") -> 45920 | E133: =IF('[1] 2025'!F131 <>"",'[1] 2025'!F131,"") -> 99 | F133: =IF('[1] 2025'!G131 <>"",'[1] 2025'!G131,"") -> La informació es trasllada a la Unitat de Govern Obert amb retràs | G133: =IF('[1] 2025'!H131 <>"",'[1] 2025'!H131,"") -> Urbanisme i activitats | H133: =IF('[1] 2025'!I131 <>"",'[1] 2025'!I131,"") -> Persona jurídica | I133: ='[1] 2025'!J131 -> Castellà | J133: ='[1] 2025'!K131 -> Electrònic | K133: ='[1] 2025'!L131 -> Sol·licitud d'una còpia dels informes i de les llicències atorgades al complex Ona Suites Salou, situat al c/ Berlín, 11. | L133: ='[1] 2025'!M131 -> 13 | M133: ='[1] 2025'!N131 -> Sí | N133: =IF('[1] 2025'!O131 <>"",'[1] 2025'!O131,"") | O133: =IF('[1] 2025'!P131 <>"",'[1] 2025'!P131,"") | P133: ='[1] 2025'!Q131 -> 45973 | Q133: =IF('[1] 2025'!R131 <>"",'[1] 2025'!R131,"") -> Estimació | R133: =IF('[1] 2025'!S$14 <>"",'[1] 2025'!S$14,"") | S133: ='[1] 2025'!T131 -> 45973 | T133: =IF('[1] 2025'!U131 <>"",'[1] 2025'!U131,"") | U133: =IF('[1] 2025'!V131 <>"",'[1] 2025'!V131,"") | V133: =IF('[1] 2025'!W$14 <>"",'[1] 2025'!W$14,"") | W133: =IF('[1] 2025'!X$14 <>"",'[1] 2025'!X$14,"")
B134: =IF('[1] 2025'!C132 <>"",'[1] 2025'!C132,"") -> 23719 | C134: =IF('[1] 2025'!D132 <>"",'[1] 2025'!D132,"") -> 45874 | D134: =IF('[1] 2025'!E132 <>"",'[1] 2025'!E132,"") -> 45905 | E134: =IF('[1] 2025'!F132 <>"",'[1] 2025'!F132,"") -> 62 | F134: =IF('[1] 2025'!G132 <>"",'[1] 2025'!G132,"") -> Entrada a la Unitat de Govern Obert en data 3/9/2025 | G134: =IF('[1] 2025'!H132 <>"",'[1] 2025'!H132,"") -> Urbanisme i activitats | H134: =IF('[1] 2025'!I132 <>"",'[1] 2025'!I132,"") -> Persona jurídica | I134: ='[1] 2025'!J132 -> Castellà | J134: ='[1] 2025'!K132 -> Electrònic | K134: ='[1] 2025'!L132 -> Sol·licitud de les llicències atorgades al complex Ona Jardines Paraisol, situat al c/ Ciutat de Reus, núm. 19. | L134: ='[1] 2025'!M132 -> 12 | M134: ='[1] 2025'!N132 -> Sí | N134: =IF('[1] 2025'!O132 <>"",'[1] 2025'!O132,"") | O134: =IF('[1] 2025'!P132 <>"",'[1] 2025'!P132,"") | P134: ='[1] 2025'!Q132 -> 45940 | Q134: =IF('[1] 2025'!R132 <>"",'[1] 2025'!R132,"") -> Estimació | R134: =IF('[1] 2025'!S$14 <>"",'[1] 2025'!S$14,"") | S134: ='[1] 2025'!T132 -> 45936 | T134: =IF('[1] 2025'!U132 <>"",'[1] 2025'!U132,"") | U134: =IF('[1] 2025'!V132 <>"",'[1] 2025'!V132,"") | V134: =IF('[1] 2025'!W$14 <>"",'[1] 2025'!W$14,"") | W134: =IF('[1] 2025'!X$14 <>"",'[1] 2025'!X$14,"")
B135: =IF('[1] 2025'!C133 <>"",'[1] 2025'!C133,"") -> 23726 i 25478 | C135: =IF('[1] 2025'!D133 <>"",'[1] 2025'!D133,"") -> 45874 | D135: =IF('[1] 2025'!E133 <>"",'[1] 2025'!E133,"") -> 45905 | E135: =IF('[1] 2025'!F133 <>"",'[1] 2025'!F133,"") -> 17 | F135: =IF('[1] 2025'!G133 <>"",'[1] 2025'!G133,"") | G135: =IF('[1] 2025'!H133 <>"",'[1] 2025'!H133,"") -> Govern Obert | H135: =IF('[1] 2025'!I133 <>"",'[1] 2025'!I133,"") -> Dona | I135: ='[1] 2025'!J133 -> Castellà | J135: ='[1] 2025'!K133 -> Presencial | K135: ='[1] 2025'!L133 -> Sol·licitud d'una còpia del full signat en data 10/01/2023 on es demana el canvi de l'adreça de notificacions. | L135: ='[1] 2025'!M133 -> 13 | M135: ='[1] 2025'!N133 -> No | N135: =IF('[1] 2025'!O133 <>"",'[1] 2025'!O133,"") | O135: =IF('[1] 2025'!P133 <>"",'[1] 2025'!P133,"") | P135: ='[1] 2025'!Q133 -> 45891 | Q135: =IF('[1] 2025'!R133 <>"",'[1] 2025'!R133,"") -> Inadmissió | R135: Art. 29.1.b) LTC | T135: =IF('[1] 2025'!U133 <>"",'[1] 2025'!U133,"") | U135: =IF('[1] 2025'!V133 <>"",'[1] 2025'!V133,"") | V135: =IF('[1] 2025'!W$14 <>"",'[1] 2025'!W$14,"") | W135: =IF('[1] 2025'!X$14 <>"",'[1] 2025'!X$14,"")
B136: =IF('[1] 2025'!C134 <>"",'[1] 2025'!C134,"") -> 23981 | C136: =IF('[1] 2025'!D134 <>"",'[1] 2025'!D134,"") -> 45876 | D136: =IF('[1] 2025'!E134 <>"",'[1] 2025'!E134,"") -> 45907 | E136: =IF('[1] 2025'!F134 <>"",'[1] 2025'!F134,"") -> 22 | F136: =IF('[1] 2025'!G134 <>"",'[1] 2025'!G134,"") | G136: =IF('[1] 2025'!H134 <>"",'[1] 2025'!H134,"") -> Activitats | H136: =IF('[1] 2025'!I134 <>"",'[1] 2025'!I134,"") -> Dona | I136: ='[1] 2025'!J134 -> Castellà | J136: ='[1] 2025'!K134 -> Presencial | K136: ='[1] 2025'!L134 -> Sol·licitud d'un llistat dels habitatges d'ús turístic de la Comunitat de Propietaris de l'edifici Atalaya Mar. | L136: ='[1] 2025'!M134 -> 13 | M136: ='[1] 2025'!N134 -> No | N136: =IF('[1] 2025'!O134 <>"",'[1] 2025'!O134,"") | O136: =IF('[1] 2025'!P134 <>"",'[1] 2025'!P134,"") | P136: ='[1] 2025'!Q134 -> 45898 | Q136: =IF('[1] 2025'!R134 <>"",'[1] 2025'!R134,"") -> Estimació | R136: =IF('[1] 2025'!S$14 <>"",'[1] 2025'!S$14,"") | S136: ='[1] 2025'!T134 -> 45898 | T136: =IF('[1] 2025'!U134 <>"",'[1] 2025'!U134,"") | U136: =IF('[1] 2025'!V134 <>"",'[1] 2025'!V134,"") | V136: =IF('[1] 2025'!W$14 <>"",'[1] 2025'!W$14,"") | W136: =IF('[1] 2025'!X$14 <>"",'[1] 2025'!X$14,"")
B137: =IF('[1] 2025'!C135 <>"",'[1] 2025'!C135,"") -> 24051 | C137: =IF('[1] 2025'!D135 <>"",'[1] 2025'!D135,"") -> 45876 | D137: =IF('[1] 2025'!E135 <>"",'[1] 2025'!E135,"") -> 45907 | E137: =IF('[1] 2025'!F135 <>"",'[1] 2025'!F135,"") -> 22 | F137: =IF('[1] 2025'!G135 <>"",'[1] 2025'!G135,"") | G137: =IF('[1] 2025'!H135 <>"",'[1] 2025'!H135,"") -> Activitats | H137: =IF('[1] 2025'!I135 <>"",'[1] 2025'!I135,"") -> Persona jurídica | I137: ='[1] 2025'!J135 -> Castellà | J137: ='[1] 2025'!K135 -> Electrònic | K137: ='[1] 2025'!L135 -> Sol·licitud d'un llistat dels habitatges d'ús turístic de la Comunitat de Propietaris de l'edifici Catalunya 92, Bloc I. | L137: ='[1] 2025'!M135 -> 13 | M137: ='[1] 2025'!N135 -> No | N137: =IF('[1] 2025'!O135 <>"",'[1] 2025'!O135,"") | O137: =IF('[1] 2025'!P135 <>"",'[1] 2025'!P135,"") | P137: ='[1] 2025'!Q135 -> 45898 | Q137: =IF('[1] 2025'!R135 <>"",'[1] 2025'!R135,"") -> Estimació | R137: =IF('[1] 2025'!S$14 <>"",'[1] 2025'!S$14,"") | S137: ='[1] 2025'!T135 -> 45898 | T137: =IF('[1] 2025'!U135 <>"",'[1] 2025'!U135,"") | U137: =IF('[1] 2025'!V135 <>"",'[1] 2025'!V135,"") | V137: =IF('[1] 2025'!W$14 <>"",'[1] 2025'!W$14,"") | W137: =IF('[1] 2025'!X$14 <>"",'[1] 2025'!X$14,"")
B138: =IF('[1] 2025'!C136 <>"",'[1] 2025'!C136,"") -> 24319 i 25629 | C138: =IF('[1] 2025'!D136 <>"",'[1] 2025'!D136,"") -> 45880 | D138: =IF('[1] 2025'!E136 <>"",'[1] 2025'!E136,"") -> 45911 | E138: =IF('[1] 2025'!F136 <>"",'[1] 2025'!F136,"") -> 18 | F138: =IF('[1] 2025'!G136 <>"",'[1] 2025'!G136,"") | G138: =IF('[1] 2025'!H136 <>"",'[1] 2025'!H136,"") -> Gestió econòmica, comptable, pressupostària i patrimonial | H138: =IF('[1] 2025'!I136 <>"",'[1] 2025'!I136,"") -> Dona | I138: ='[1] 2025'!J136 -> Castellà | J138: ='[1] 2025'!K136 -> Electrònic | K138: ='[1] 2025'!L136 -> Sol·licitud de la quantitat d'IBI recaptada, durant l'any 2024. | L138: ='[1] 2025'!M136 -> 6 | M138: ='[1] 2025'!N136 -> Sí | N138: =IF('[1] 2025'!O136 <>"",'[1] 2025'!O136,"") | O138: =IF('[1] 2025'!P136 <>"",'[1] 2025'!P136,"") | P138: ='[1] 2025'!Q136 -> 45898 | Q138: =IF('[1] 2025'!R136 <>"",'[1] 2025'!R136,"") -> Desistiment | R138: =IF('[1] 2025'!S$14 <>"",'[1] 2025'!S$14,"") | S138: ='[1] 2025'!T136 -> 45898 | T138: =IF('[1] 2025'!U136 <>"",'[1] 2025'!U136,"") | U138: =IF('[1] 2025'!V136 <>"",'[1] 2025'!V136,"") | V138: =IF('[1] 2025'!W$14 <>"",'[1] 2025'!W$14,"") | W138: =IF('[1] 2025'!X$14 <>"",'[1] 2025'!X$14,"")
B139: =IF('[1] 2025'!C137 <>"",'[1] 2025'!C137,"") -> 24907 | C139: =IF('[1] 2025'!D137 <>"",'[1] 2025'!D137,"") -> 45887 | D139: =IF('[1] 2025'!E137 <>"",'[1] 2025'!E137,"") -> 45918 | E139: =IF('[1] 2025'!F137 <>"",'[1] 2025'!F137,"") -> 4 | F139: =IF('[1] 2025'!G137 <>"",'[1] 2025'!G137,"") | G139: =IF('[1] 2025'!H137 <>"",'[1] 2025'!H137,"") -> Urbanisme | H139: =IF('[1] 2025'!I137 <>"",'[1] 2025'!I137,"") -> Home | I139: ='[1] 2025'!J137 -> Català | J139: ='[1] 2025'!K137 -> Presencial | K139: ='[1] 2025'!L137 -> Sol·licitud dels plànols dels habitatges, situats al c/ de l'Ermitanet, núm. 1 | L139: ='[1] 2025'!M137 -> 12 | M139: ='[1] 2025'!N137 -> No | N139: =IF('[1] 2025'!O137 <>"",'[1] 2025'!O137,"") | O139: =IF('[1] 2025'!P137 <>"",'[1] 2025'!P137,"") | P139: ='[1] 2025'!Q137 -> 45891 | Q139: =IF('[1] 2025'!R137 <>"",'[1] 2025'!R137,"") -> Estimació | R139: =IF('[1] 2025'!S$14 <>"",'[1] 2025'!S$14,"") | S139: ='[1] 2025'!T137 -> 45891 | T139: =IF('[1] 2025'!U137 <>"",'[1] 2025'!U137,"") | U139: =IF('[1] 2025'!V137 <>"",'[1] 2025'!V137,"") | V139: =IF('[1] 2025'!W$14 <>"",'[1] 2025'!W$14,"") | W139: =IF('[1] 2025'!X$14 <>"",'[1] 2025'!X$14,"")
B140: =IF('[1] 2025'!C138 <>"",'[1] 2025'!C138,"") -> 24924 | C140: =IF('[1] 2025'!D138 <>"",'[1] 2025'!D138,"") -> 45887 | D140: =IF('[1] 2025'!E138 <>"",'[1] 2025'!E138,"") -> 45918 | E140: =IF('[1] 2025'!F138 <>"",'[1] 2025'!F138,"") -> 44 | F140: =IF('[1] 2025'!G138 <>"",'[1] 2025'!G138,"") -> La informació es trasllada a la Unitat de Govern Obert amb retràs | G140: =IF('[1] 2025'!H138 <>"",'[1] 2025'!H138,"") -> Urbanisme | H140: =IF('[1] 2025'!I138 <>"",'[1] 2025'!I138,"") -> Dona | I140: ='[1] 2025'!J138 -> Castellà | J140: ='[1] 2025'!K138 -> Presencial | K140: ='[1] 2025'!L138 -> Sol·licitud d'una còpia del permís d'obres d'un habitatge, situat al c/ París, núm. 13. | L140: ='[1] 2025'!M138 -> 12 | M140: ='[1] 2025'!N138 -> No | N140: =IF('[1] 2025'!O138 <>"",'[1] 2025'!O138,"") | O140: =IF('[1] 2025'!P138 <>"",'[1] 2025'!P138,"") | P140: ='[1] 2025'!Q138 -> 45931 | Q140: =IF('[1] 2025'!R138 <>"",'[1] 2025'!R138,"") -> Estimació | R140: =IF('[1] 2025'!S$14 <>"",'[1] 2025'!S$14,"") | S140: ='[1] 2025'!T138 -> 45931 | T140: =IF('[1] 2025'!U138 <>"",'[1] 2025'!U138,"") | U140: =IF('[1] 2025'!V138 <>"",'[1] 2025'!V138,"") | V140: =IF('[1] 2025'!W$14 <>"",'[1] 2025'!W$14,"") | W140: =IF('[1] 2025'!X$14 <>"",'[1] 2025'!X$14,"")
B141: =IF('[1] 2025'!C139 <>"",'[1] 2025'!C139,"") -> 24984 | C141: =IF('[1] 2025'!D139 <>"",'[1] 2025'!D139,"") -> 45887 | D141: =IF('[1] 2025'!E139 <>"",'[1] 2025'!E139,"") -> 45918 | E141: =IF('[1] 2025'!F139 <>"",'[1] 2025'!F139,"") -> 44 | F141: =IF('[1] 2025'!G139 <>"",'[1] 2025'!G139,"") -> La informació es trasllada a la Unitat de Govern Obert amb retràs | G141: =IF('[1] 2025'!H139 <>"",'[1] 2025'!H139,"") -> Serveis Socials | H141: =IF('[1] 2025'!I139 <>"",'[1] 2025'!I139,"") -> Dona | I141: ='[1] 2025'!J139 -> Català | J141: ='[1] 2025'!K139 -> Presencial | K141: ='[1] 2025'!L139 -> Sol·licitud d'informació de les bases que regulen les prestacions d'urgència social. | L141: ='[1] 2025'!M139 -> 11 | M141: ='[1] 2025'!N139 -> No | N141: =IF('[1] 2025'!O139 <>"",'[1] 2025'!O139,"") | O141: =IF('[1] 2025'!P139 <>"",'[1] 2025'!P139,"") | P141: ='[1] 2025'!Q139 -> 45931 | Q141: =IF('[1] 2025'!R139 <>"",'[1] 2025'!R139,"") -> Estimació | R141: =IF('[1] 2025'!S$14 <>"",'[1] 2025'!S$14,"") | S141: ='[1] 2025'!T139 -> 45931 | T141: =IF('[1] 2025'!U139 <>"",'[1] 2025'!U139,"") | U141: =IF('[1] 2025'!V139 <>"",'[1] 2025'!V139,"") | V141: =IF('[1] 2025'!W$14 <>"",'[1] 2025'!W$14,"") | W141: =IF('[1] 2025'!X$14 <>"",'[1] 2025'!X$14,"")
B142: =IF('[1] 2025'!C140 <>"",'[1] 2025'!C140,"") -> 25067 | C142: =IF('[1] 2025'!D140 <>"",'[1] 2025'!D140,"") -> 45888 | D142: =IF('[1] 2025'!E140 <>"",'[1] 2025'!E140,"") -> 45919 | E142: =IF('[1] 2025'!F140 <>"",'[1] 2025'!F140,"") -> 28 | F142: =IF('[1] 2025'!G140 <>"",'[1] 2025'!G140,"") | G142: =IF('[1] 2025'!H140 <>"",'[1] 2025'!H140,"") -> Activitats | H142: =IF('[1] 2025'!I140 <>"",'[1] 2025'!I140,"") -> Dona | I142: ='[1] 2025'!J140 -> Castellà | J142: ='[1] 2025'!K140 -> Electrònic | K142: ='[1] 2025'!L140 -> Sol·licitud de còpia de la llicència d'activitat d'un establiment de restauració. | L142: ='[1] 2025'!M140 -> 13 | M142: ='[1] 2025'!N140 -> Sí | N142: =IF('[1] 2025'!O140 <>"",'[1] 2025'!O140,"") | O142: =IF('[1] 2025'!P140 <>"",'[1] 2025'!P140,"") | P142: ='[1] 2025'!Q140 -> 45916 | Q142: =IF('[1] 2025'!R140 <>"",'[1] 2025'!R140,"") -> Estimació | R142: =IF('[1] 2025'!S$14 <>"",'[1] 2025'!S$14,"") | S142: ='[1] 2025'!T140 -> 45916 | T142: =IF('[1] 2025'!U140 <>"",'[1] 2025'!U140,"") | U142: =IF('[1] 2025'!V140 <>"",'[1] 2025'!V140,"") | V142: =IF('[1] 2025'!W$14 <>"",'[1] 2025'!W$14,"") | W142: =IF('[1] 2025'!X$14 <>"",'[1] 2025'!X$14,"")
B143: =IF('[1] 2025'!C141 <>"",'[1] 2025'!C141,"") -> 25337 | C143: =IF('[1] 2025'!D141 <>"",'[1] 2025'!D141,"") -> 45890 | D143: =IF('[1] 2025'!E141 <>"",'[1] 2025'!E141,"") -> 45921 | E143: =IF('[1] 2025'!F141 <>"",'[1] 2025'!F141,"") -> 6 | F143: =IF('[1] 2025'!G141 <>"",'[1] 2025'!G141,"") | G143: =IF('[1] 2025'!H141 <>"",'[1] 2025'!H141,"") -> Urbanisme | H143: =IF('[1] 2025'!I141 <>"",'[1] 2025'!I141,"") -> Dona | I143: ='[1] 2025'!J141 -> Castellà | J143: ='[1] 2025'!K141 -> Presencial | K143: ='[1] 2025'!L141 -> Sol·licitud dels plànols dels pàrquings subterranis i exteriors de l'edifici Open, situat al c/ València, núm. 39. | L143: ='[1] 2025'!M141 -> 12 | M143: ='[1] 2025'!N141 -> No | N143: =IF('[1] 2025'!O141 <>"",'[1] 2025'!O141,"") | O143: =IF('[1] 2025'!P141 <>"",'[1] 2025'!P141,"") | P143: ='[1] 2025'!Q141 -> 45896 | Q143: =IF('[1] 2025'!R141 <>"",'[1] 2025'!R141,"") -> Estimació | R143: =IF('[1] 2025'!S$14 <>"",'[1] 2025'!S$14,"") | S143: ='[1] 2025'!T141 -> 45896 | T143: =IF('[1] 2025'!U141 <>"",'[1] 2025'!U141,"") | U143: =IF('[1] 2025'!V141 <>"",'[1] 2025'!V141,"") | V143: =IF('[1] 2025'!W$14 <>"",'[1] 2025'!W$14,"") | W143: =IF('[1] 2025'!X$14 <>"",'[1] 2025'!X$14,"")
B144: =IF('[1] 2025'!C142 <>"",'[1] 2025'!C142,"") -> 25829 | C144: =IF('[1] 2025'!D142 <>"",'[1] 2025'!D142,"") -> 45896 | D144: =IF('[1] 2025'!E142 <>"",'[1] 2025'!E142,"") -> 45927 | E144: =IF('[1] 2025'!F142 <>"",'[1] 2025'!F142,"") -> 35 | F144: =IF('[1] 2025'!G142 <>"",'[1] 2025'!G142,"") -> La informació es trasllada a la Unitat de Govern Obert amb retràs | G144: =IF('[1] 2025'!H142 <>"",'[1] 2025'!H142,"") -> Urbanisme | H144: =IF('[1] 2025'!I142 <>"",'[1] 2025'!I142,"") -> Dona | I144: ='[1] 2025'!J142 -> Castellà | J144: ='[1] 2025'!K142 -> Presencial | K144: ='[1] 2025'!L142 -> Sol·licitud d'una còpia dels permisos d'obres d'un habitatge, situat al c/ Priorat, núm. 13-15 i c/ Pompeu Fabra, núm. 36-38. | L144: ='[1] 2025'!M142 -> 12 | M144: ='[1] 2025'!N142 -> No | N144: =IF('[1] 2025'!O142 <>"",'[1] 2025'!O142,"") | O144: =IF('[1] 2025'!P142 <>"",'[1] 2025'!P142,"") | P144: ='[1] 2025'!Q142 -> 45931 | Q144: =IF('[1] 2025'!R142 <>"",'[1] 2025'!R142,"") -> Estimació | R144: =IF('[1] 2025'!S$14 <>"",'[1] 2025'!S$14,"") | S144: ='[1] 2025'!T142 -> 45931 | T144: =IF('[1] 2025'!U142 <>"",'[1] 2025'!U142,"") | U144: =IF('[1] 2025'!V142 <>"",'[1] 2025'!V142,"") | V144: =IF('[1] 2025'!W$14 <>"",'[1] 2025'!W$14,"") | W144: =IF('[1] 2025'!X$14 <>"",'[1] 2025'!X$14,"")
B145: =IF('[1] 2025'!C143 <>"",'[1] 2025'!C143,"") -> 25955 | C145: =IF('[1] 2025'!D143 <>"",'[1] 2025'!D143,"") -> 45897 | D145: =IF('[1] 2025'!E143 <>"",'[1] 2025'!E143,"") -> 45928 | E145: =IF('[1] 2025'!F143 <>"",'[1] 2025'!F143,"") -> 39 | F145: =IF('[1] 2025'!G143 <>"",'[1] 2025'!G143,"") -> La informació es trasllada a la Unitat de Govern Obert amb retràs | G145: =IF('[1] 2025'!H143 <>"",'[1] 2025'!H143,"") -> Activitats | H145: =IF('[1] 2025'!I143 <>"",'[1] 2025'!I143,"") -> Dona | I145: ='[1] 2025'!J143 -> Català | J145: ='[1] 2025'!K143 -> Electrònic | K145: ='[1] 2025'!L143 -> Sol·licitud d'una còpia dels plànols del projecte de la llicència d'obertura d'una activitat d'un l'establiment comercial. | L145: ='[1] 2025'!M143 -> 13 | M145: ='[1] 2025'!N143 -> Sí | N145: =IF('[1] 2025'!O143 <>"",'[1] 2025'!O143,"") | O145: =IF('[1] 2025'!P143 <>"",'[1] 2025'!P143,"") | P145: ='[1] 2025'!Q143 -> 45936 | Q145: =IF('[1] 2025'!R143 <>"",'[1] 2025'!R143,"") -> Inadmissió | R145: Art. 29.1.b) LTC | T145: =IF('[1] 2025'!U143 <>"",'[1] 2025'!U143,"") | U145: =IF('[1] 2025'!V143 <>"",'[1] 2025'!V143,"") | V145: =IF('[1] 2025'!W$14 <>"",'[1] 2025'!W$14,"") | W145: =IF('[1] 2025'!X$14 <>"",'[1] 2025'!X$14,"")
B146: =IF('[1] 2025'!C144 <>"",'[1] 2025'!C144,"") -> 26033 | C146: =IF('[1] 2025'!D144 <>"",'[1] 2025'!D144,"") -> 45897 | D146: =IF('[1] 2025'!E144 <>"",'[1] 2025'!E144,"") -> 45928 | E146: =IF('[1] 2025'!F144 <>"",'[1] 2025'!F144,"") -> 49 | F146: =IF('[1] 2025'!G144 <>"",'[1] 2025'!G144,"") -> La informació no es trasllada a la Unitat de Govern Obert | G146: =IF('[1] 2025'!H144 <>"",'[1] 2025'!H144,"") -> Personal i processos selectius | H146: =IF('[1] 2025'!I144 <>"",'[1] 2025'!I144,"") -> Home | I146: ='[1] 2025'!J144 -> Català | J146: ='[1] 2025'!K144 -> Electrònic | K146: ='[1] 2025'!L144 -> Sol·licitud de les còpies dels qüestionaris de preguntes i respostes dels exàmens de Tècnic superior d'Administració General, Tècnic superior en Dret o equivalent dels últims 5 anys. | L146: ='[1] 2025'!M144 -> 4 | M146: ='[1] 2025'!N144 -> Sí | N146: =IF('[1] 2025'!O144 <>"",'[1] 2025'!O144,"") | O146: =IF('[1] 2025'!P144 <>"",'[1] 2025'!P144,"") | P146: ='[1] 2025'!Q144 -> 45946 | Q146: =IF('[1] 2025'!R144 <>"",'[1] 2025'!R144,"") -> Estimació | R146: =IF('[1] 2025'!S$14 <>"",'[1] 2025'!S$14,"") | S146: ='[1] 2025'!T144 -> 45946 | T146: =IF('[1] 2025'!U144 <>"",'[1] 2025'!U144,"") | U146: =IF('[1] 2025'!V144 <>"",'[1] 2025'!V144,"") | V146: =IF('[1] 2025'!W$14 <>"",'[1] 2025'!W$14,"") | W146: =IF('[1] 2025'!X$14 <>"",'[1] 2025'!X$14,"")
B147: =IF('[1] 2025'!C145 <>"",'[1] 2025'!C145,"") -> 26299 | C147: =IF('[1] 2025'!D145 <>"",'[1] 2025'!D145,"") -> 45901 | D147: =IF('[1] 2025'!E145 <>"",'[1] 2025'!E145,"") -> 45931 | E147: =IF('[1] 2025'!F145 <>"",'[1] 2025'!F145,"") -> 17 | F147: =IF('[1] 2025'!G145 <>"",'[1] 2025'!G145,"") | G147: =IF('[1] 2025'!H145 <>"",'[1] 2025'!H145,"") -> Urbanisme | H147: =IF('[1] 2025'!I145 <>"",'[1] 2025'!I145,"") -> Home | I147: ='[1] 2025'!J145 -> Castellà | J147: ='[1] 2025'!K145 -> Presencial | K147: ='[1] 2025'!L145 -> Sol·licitud dels plànols de l'edifici Zahara, situat al c/ Navarra, núm. 3-5. | L147: ='[1] 2025'!M145 -> 12 | M147: ='[1] 2025'!N145 -> Sí | N147: =IF('[1] 2025'!O145 <>"",'[1] 2025'!O145,"") | O147: =IF('[1] 2025'!P145 <>"",'[1] 2025'!P145,"") | P147: ='[1] 2025'!Q145 -> 45918 | Q147: =IF('[1] 2025'!R145 <>"",'[1] 2025'!R145,"") -> Estimació | R147: =IF('[1] 2025'!S$14 <>"",'[1] 2025'!S$14,"") | S147: ='[1] 2025'!T145 -> 45918 | T147: =IF('[1] 2025'!U145 <>"",'[1] 2025'!U145,"") | U147: =IF('[1] 2025'!V145 <>"",'[1] 2025'!V145,"") | V147: =IF('[1] 2025'!W$14 <>"",'[1] 2025'!W$14,"") | W147: =IF('[1] 2025'!X$14 <>"",'[1] 2025'!X$14,"")
...

Sheet 2026
C3: Informació estadística peticions dret d'accés a la informació pública any 2025
B5: Tipologia
B6: 1 | C6: Informació institucional i organitzativa | D6: 9 | E6: Seguretat ciutadana i civisme
B7: 2 | C7: Acció de govern i normativa | D7: 10 | E7: Salut pública
B8: 3 | C8: Plans, programes i memòries | D8: 11 | E8: Serveis Socials
B9: 4 | C9: Personal i processos selectius | D9: 12 | E9: Urbanisme
B10: 5 | C10: Contractes, convenis i subvencions | D10: 13 | E10: Activitats
B11: 6 | C11: Gestió econòmica, comptable, pressupostària i patrimonial | D11: 14 | E11: Altra informació
B12: 7 | C12: Gestió de serveis públics
B13: 8 | C13: Canals i mecanismes de participació ciutadana
B15: =+'[1] 2025'!C13 -> Entrada petició | C15: =+'[1] 2025'!D13 -> Data de la SAIP | D15: =+'[1] 2025'!E13 -> Dies ad quem | E15: =+'[1] 2025'!F13 -> Termini | F15: ='[1] 2025'!$G$13 -> Causa de l'incompliment del termini màxim per resoldre | G15: Unitat responsable de la informació | H15: Perfil | I15: Idioma | J15: Canal | K15: Extracte petició | L15: Tipologia | M15: Avís 10 dies | N15: Audiència | O15: Al·legacions | P15: Data notificació resolució/comunicació | Q15: Sentit | R15: Motivació | S15: Data posada a disposició de la documentació | T15: Recurs de reposició | U15: Resolució del recurs | V15: Reclamació davant la GAIP | W15: Sentit de la reclamació
B16: =IF('[1]2026'!C14<>"",'[1]2026'!C14,"") -> 38605 | C16: =IF('[1]2026'!D14<>"",'[1]2026'!D14,"") -> 46020 | D16: =IF('[1]2026'!E14<>"",'[1]2026'!E14,"") -> 46051 | E16: =IF('[1]2026'!F14<>"",'[1]2026'!F14,"") -> 65 | F16: =IF('[1]2026'!G14<>"",'[1]2026'!G14,"") -> Entrada a la Unitat de Govern Obert en data 22/01/2025 | G16: =IF('[1]2026'!H14<>"",'[1]2026'!H14,"") -> Activitats | H16: =IF('[1]2026'!I14<>"",'[1]2026'!I14,"") -> Home | I16: =IF('[1]2026'!J14<>"",'[1]2026'!J14,"") -> Castellà | ... W16: =IF('[1]2026'!X14<>"",'[1]2026'!X14,"")
B17: =IF('[1]2026'!C15<>"",'[1]2026'!C15,"") -> 559 | C17: =IF('[1]2026'!D15<>"",'[1]2026'!D15,"") -> 46031 | D17: =IF('[1]2026'!E15<>"",'[1]2026'!E15,"") -> 46062 | E17: =IF('[1]2026'!F15<>"",'[1]2026'!F15,"") -> 18 | F17: =IF('[1]2026'!G15<>"",'[1]2026'!G15,"") | G17: =IF('[1]2026'!H15<>"",'[1]2026'!H15,"") -> Personal i processos selectius | H17: =IF('[1]2026'!I15<>"",'[1]2026'!I15,"") -> Dona | I17: =IF('[1]2026'!J15<>"",'[1]2026'!J15,"") -> Català | ... W17: =IF('[1]2026'!X15<>"",'[1]2026'!X15,"")
B18: =IF('[1]2026'!C16<>"",'[1]2026'!C16,"") -> 955 | C18: =IF('[1]2026'!D16<>"",'[1]2026'!D16,"") -> 46036 | D18: =IF('[1]2026'!E16<>"",'[1]2026'!E16,"") -> 46067 | E18: =IF('[1]2026'!F16<>"",'[1]2026'!F16,"") -> 9 | F18: =IF('[1]2026'!G16<>"",'[1]2026'!G16,"") | G18: =IF('[1]2026'!H16<>"",'[1]2026'!H16,"") -> Activitats | H18: =IF('[1]2026'!I16<>"",'[1]2026'!I16,"") -> Home | I18: =IF('[1]2026'!J16<>"",'[1]2026'!J16,"") -> Català | ... W18: =IF('[1]2026'!X16<>"",'[1]2026'!X16,"")
B19: =IF('[1]2026'!C17<>"",'[1]2026'!C17,"") -> 1755 | C19: =IF('[1]2026'!D17<>"",'[1]2026'!D17,"") -> 46044 | D19: =IF('[1]2026'!E17<>"",'[1]2026'!E17,"") -> 46075 | E19: =IF('[1]2026'!F17<>"",'[1]2026'!F17,"") -> 32 | F19: =IF('[1]2026'!G17<>"",'[1]2026'!G17,"") | G19: =IF('[1]2026'!H17<>"",'[1]2026'!H17,"") -> Activitats | H19: =IF('[1]2026'!I17<>"",'[1]2026'!I17,"") -> Home | I19: =IF('[1]2026'!J17<>"",'[1]2026'!J17,"") -> Castellà | ... W19: =IF('[1]2026'!X17<>"",'[1]2026'!X17,"")
B20: =IF('[1]2026'!C18<>"",'[1]2026'!C18,"") -> 2983 | C20: =IF('[1]2026'!D18<>"",'[1]2026'!D18,"") -> 46057 | D20: =IF('[1]2026'!E18<>"",'[1]2026'!E18,"") -> 46085 | E20: =IF('[1]2026'!F18<>"",'[1]2026'!F18,"") -> 41 | F20: =IF('[1]2026'!G18<>"",'[1]2026'!G18,"") | G20: =IF('[1]2026'!H18<>"",'[1]2026'!H18,"") -> Activitats | H20: =IF('[1]2026'!I18<>"",'[1]2026'!I18,"") -> Persona jurídica | I20: =IF('[1]2026'!J18<>"",'[1]2026'!J18,"") -> Català | ... W20: =IF('[1]2026'!X18<>"",'[1]2026'!X18,"")
B21: =IF('[1]2026'!C19<>"",'[1]2026'!C19,"") -> 3072 | C21: =IF('[1]2026'!D19<>"",'[1]2026'!D19,"") -> 46057 | D21: =IF('[1]2026'!E19<>"",'[1]2026'!E19,"") -> 46085 | E21: =IF('[1]2026'!F19<>"",'[1]2026'!F19,"") -> 28 | F21: =IF('[1]2026'!G19<>"",'[1]2026'!G19,"") | G21: =IF('[1]2026'!H19<>"",'[1]2026'!H19,"") -> Canals i mecanismes de participació ciutadana | H21: =IF('[1]2026'!I19<>"",'[1]2026'!I19,"") -> Dona | I21: =IF('[1]2026'!J19<>"",'[1]2026'!J19,"") -> Català | ... W21: =IF('[1]2026'!X19<>"",'[1]2026'!X19,"")
B22: =IF('[1]2026'!C20<>"",'[1]2026'!C20,"") -> 3192 | C22: =IF('[1]2026'!D20<>"",'[1]2026'!D20,"") -> 46058 | D22: =IF('[1]2026'!E20<>"",'[1]2026'!E20,"") -> 46086 | E22: =IF('[1]2026'!F20<>"",'[1]2026'!F20,"") -> -46058 | F22: =IF('[1]2026'!G20<>"",'[1]2026'!G20,"") | G22: =IF('[1]2026'!H20<>"",'[1]2026'!H20,"") -> Activitats | H22: =IF('[1]2026'!I20<>"",'[1]2026'!I20,"") -> Persona jurídica | I22: =IF('[1]2026'!J20<>"",'[1]2026'!J20,"") -> Català | ... W22: =IF('[1]2026'!X20<>"",'[1]2026'!X20,"")
B23: =IF('[1]2026'!C21<>"",'[1]2026'!C21,"") -> 3926 | C23: =IF('[1]2026'!D21<>"",'[1]2026'!D21,"") -> 46066 | D23: =IF('[1]2026'!E21<>"",'[1]2026'!E21,"") -> 46094 | E23: =IF('[1]2026'!F21<>"",'[1]2026'!F21,"") -> 25 | F23: =IF('[1]2026'!G21<>"",'[1]2026'!G21,"") | G23: =IF('[1]2026'!H21<>"",'[1]2026'!H21,"") -> Oficina de Planificació i Gestió | H23: =IF('[1]2026'!I21<>"",'[1]2026'!I21,"") -> Persona jurídica | I23: =IF('[1]2026'!J21<>"",'[1]2026'!J21,"") -> Català | ... W23: =IF('[1]2026'!X21<>"",'[1]2026'!X21,"")
B24: =IF('[1]2026'!C22<>"",'[1]2026'!C22,"") -> 4575 | C24: =IF('[1]2026'!D22<>"",'[1]2026'!D22,"") -> 46073 | D24: =IF('[1]2026'!E22<>"",'[1]2026'!E22,"") -> 46101 | E24: =IF('[1]2026'!F22<>"",'[1]2026'!F22,"") -> 27 | F24: =IF('[1]2026'!G22<>"",'[1]2026'!G22,"") | G24: =IF('[1]2026'!H22<>"",'[1]2026'!H22,"") -> Patrimoni | H24: =IF('[1]2026'!I22<>"",'[1]2026'!I22,"") -> Home | I24: =IF('[1]2026'!J22<>"",'[1]2026'!J22,"") -> Català | ... W24: =IF('[1]2026'!X22<>"",'[1]2026'!X22,"")
B25: =IF('[1]2026'!C23<>"",'[1]2026'!C23,"") -> 5217 | C25: =IF('[1]2026'!D23<>"",'[1]2026'!D23,"") -> 46079 | D25: =IF('[1]2026'!E23<>"",'[1]2026'!E23,"") -> 46107 | E25: =IF('[1]2026'!F23<>"",'[1]2026'!F23,"") -> -46079 | F25: =IF('[1]2026'!G23<>"",'[1]2026'!G23,"") | G25: =IF('[1]2026'!H23<>"",'[1]2026'!H23,"") -> Personal i processos selectius | H25: =IF('[1]2026'!I23<>"",'[1]2026'!I23,"") -> Dona | I25: =IF('[1]2026'!J23<>"",'[1]2026'!J23,"") -> Català | ... W25: =IF('[1]2026'!X23<>"",'[1]2026'!X23,"")
B26: =IF('[1]2026'!C24<>"",'[1]2026'!C24,"") -> 5504 | C26: =IF('[1]2026'!D24<>"",'[1]2026'!D24,"") -> 46083 | D26: =IF('[1]2026'!E24<>"",'[1]2026'!E24,"") -> 46114 | E26: =IF('[1]2026'!F24<>"",'[1]2026'!F24,"") -> 11 | F26: =IF('[1]2026'!G24<>"",'[1]2026'!G24,"") | G26: =IF('[1]2026'!H24<>"",'[1]2026'!H24,"") -> Activitats | H26: =IF('[1]2026'!I24<>"",'[1]2026'!I24,"") -> Home | I26: =IF('[1]2026'!J24<>"",'[1]2026'!J24,"") -> Català | ... W26: =IF('[1]2026'!X24<>"",'[1]2026'!X24,"")
B27: =IF('[1]2026'!C25<>"",'[1]2026'!C25,"") -> 5778 | C27: =IF('[1]2026'!D25<>"",'[1]2026'!D25,"") -> 46085 | D27: =IF('[1]2026'!E25<>"",'[1]2026'!E25,"") -> 46116 | E27: =IF('[1]2026'!F25<>"",'[1]2026'!F25,"") -> -46085 | F27: =IF('[1]2026'!G25<>"",'[1]2026'!G25,"") | G27: =IF('[1]2026'!H25<>"",'[1]2026'!H25,"") -> Personal i processos selectius | H27: =IF('[1]2026'!I25<>"",'[1]2026'!I25,"") -> Persona jurídica | I27: =IF('[1]2026'!J25<>"",'[1]2026'!J25,"") -> Català | ... W27: =IF('[1]2026'!X25<>"",'[1]2026'!X25,"")
... B102: =IF('[1]2026'!C100<>"",'[1]2026'!C100,"") | C102: =IF('[1]2026'!D100<>"",'[1]2026'!D100,"") | D102: =IF('[1]2026'!E100<>"",'[1]2026'!E100,"") | E102: =IF('[1]2026'!F100<>"",'[1]2026'!F100,"") | F102: =IF('[1]2026'!G100<>"",'[1]2026'!G100,"") | G102: =IF('[1]2026'!H100<>"",'[1]2026'!H100,"") | H102: =IF('[1]2026'!I100<>"",'[1]2026'!I100,"") | I102: =IF('[1]2026'!J100<>"",'[1]2026'!J100,"") | ... W102: =IF('[1]2026'!X100<>"",'[1]2026'!X100,"")
B103: =IF('[1]2026'!C101<>"",'[1]2026'!C101,"") | C103: =IF('[1]2026'!D101<>"",'[1]2026'!D101,"") | D103: =IF('[1]2026'!E101<>"",'[1]2026'!E101,"") | E103: =IF('[1]2026'!F101<>"",'[1]2026'!F101,"") | F103: =IF('[1]2026'!G101<>"",'[1]2026'!G101,"") | G103: =IF('[1]2026'!H101<>"",'[1]2026'!H101,"")
C104: =IF('[1]2026'!D102<>"",'[1]2026'!D102,"") | D104: =IF('[1]2026'!E102<>"",'[1]2026'!E102,"") | E104: =IF('[1]2026'!F102<>"",'[1]2026'!F102,"") | F104: =IF('[1]2026'!G102<>"",'[1]2026'!G102,"") | G104: =IF('[1]2026'!H102<>"",'[1]2026'!H102,"")
C105: =IF('[1]2026'!D103<>"",'[1]2026'!D103,"") | D105: =IF('[1]2026'!E103<>"",'[1]2026'!E103,"") | E105: =IF('[1]2026'!F103<>"",'[1]2026'!F103,"") | F105: =IF('[1]2026'!G103<>"",'[1]2026'!G103,"") | G105: =IF('[1]2026'!H103<>"",'[1]2026'!H103,"")
C106: =IF('[1]2026'!D104<>"",'[1]2026'!D104,"") | D106: =IF('[1]2026'!E104<>"",'[1]2026'!E104,"") | E106: =IF('[1]2026'!F104<>"",'[1]2026'!F104,"") | F106: =IF('[1]2026'!G104<>"",'[1]2026'!G104,"") | G106: =IF('[1]2026'!H104<>"",'[1]2026'!H104,"")
C107: =IF('[1]2026'!D105<>"",'[1]2026'!D105,"") | D107: =IF('[1]2026'!E105<>"",'[1]2026'!E105,"") | E107: =IF('[1]2026'!F105<>"",'[1]2026'!F105,"") | F107: =IF('[1]2026'!G105<>"",'[1]2026'!G105,"") | G107: =IF('[1]2026'!H105<>"",'[1]2026'!H105,"")
C108: =IF('[1]2026'!D106<>"",'[1]2026'!D106,"") | D108: =IF('[1]2026'!E106<>"",'[1]2026'!E106,"") | E108: =IF('[1]2026'!F106<>"",'[1]2026'!F106,"") | F108: =IF('[1]2026'!G106<>"",'[1]2026'!G106,"") | G108: =IF('[1]2026'!H106<>"",'[1]2026'!H106,"")
C109: =IF('[1]2026'!D107<>"",'[1]2026'!D107,"") | D109: =IF('[1]2026'!E107<>"",'[1]2026'!E107,"") | E109: =IF('[1]2026'!F107<>"",'[1]2026'!F107,"") | F109: =IF('[1]2026'!G107<>"",'[1]2026'!G107,"") | G109: =IF('[1]2026'!H107<>"",'[1]2026'!H107,"")
C110: =IF('[1]2026'!D108<>"",'[1]2026'!D108,"") | D110: =IF('[1]2026'!E108<>"",'[1]2026'!E108,"") | E110: =IF('[1]2026'!F108<>"",'[1]2026'!F108,"") | F110: =IF('[1]2026'!G108<>"",'[1]2026'!G108,"") | G110: =IF('[1]2026'!H108<>"",'[1]2026'!H108,"")
C111: =IF('[1]2026'!D109<>"",'[1]2026'!D109,"") | D111: =IF('[1]2026'!E109<>"",'[1]2026'!E109,"") | E111: =IF('[1]2026'!F109<>"",'[1]2026'!F109,"") | F111: =IF('[1]2026'!G109<>"",'[1]2026'!G109,"") | G111: =IF('[1]2026'!H109<>"",'[1]2026'!H109,"")
C112: =IF('[1]2026'!D110<>"",'[1]2026'!D110,"") | D112: =IF('[1]2026'!E110<>"",'[1]2026'!E110,"") | E112: =IF('[1]2026'!F110<>"",'[1]2026'!F110,"") | F112: =IF('[1]2026'!G110<>"",'[1]2026'!G110,"") | G112: =IF('[1]2026'!H110<>"",'[1]2026'!H110,"")
C113: =IF('[1]2026'!D111<>"",'[1]2026'!D111,"") | D113: =IF('[1]2026'!E111<>"",'[1]2026'!E111,"") | E113: =IF('[1]2026'!F111<>"",'[1]2026'!F111,"") | F113: =IF('[1]2026'!G111<>"",'[1]2026'!G111,"") | G113: =IF('[1]2026'!H111<>"",'[1]2026'!H111,"")
C114: =IF('[1]2026'!D112<>"",'[1]2026'!D112,"") | D114: =IF('[1]2026'!E112<>"",'[1]2026'!E112,"") | E114: =IF('[1]2026'!F112<>"",'[1]2026'!F112,"") | F114: =IF('[1]2026'!G112<>"",'[1]2026'!G112,"") | G114: =IF('[1]2026'!H112<>"",'[1]2026'!H112,"")
C115: =IF('[1]2026'!D113<>"",'[1]2026'!D113,"") | D115: =IF('[1]2026'!E113<>"",'[1]2026'!E113,"") | E115: =IF('[1]2026'!F113<>"",'[1]2026'!F113,"") | F115: =IF('[1]2026'!G113<>"",'[1]2026'!G113,"") | G115: =IF('[1]2026'!H113<>"",'[1]2026'!H113,"")
... C205: =IF('[1]2026'!D203<>"",'[1]2026'!D203,"") | D205: =IF('[1]2026'!E203<>"",'[1]2026'!E203,"") | E205: =IF('[1]2026'!F203<>"",'[1]2026'!F203,"") | F205: =IF('[1]2026'!G203<>"",'[1]2026'!G203,"") | G205: =IF('[1]2026'!H203<>"",'[1]2026'!H203,"")
B206: =IF('[1] 2025'!C204 <>"",'[1] 2025'!C204,"") | C206: =IF('[1]2026'!D204<>"",'[1]2026'!D204,"") | D206: =IF('[1]2026'!E204<>"",'[1]2026'!E204,"") | E206: =IF('[1]2026'!F204<>"",'[1]2026'!F204,"") | F206: =IF('[1]2026'!G204<>"",'[1]2026'!G204,"") | G206: =IF('[1]2026'!H204<>"",'[1]2026'!H204,"")
B207: =IF('[1] 2025'!C205 <>"",'[1] 2025'!C205,"") | C207: =IF('[1]2026'!D205<>"",'[1]2026'!D205,"") | D207: =IF('[1]2026'!E205<>"",'[1]2026'!E205,"") | E207: =IF('[1]2026'!F205<>"",'[1]2026'!F205,"") | F207: =IF('[1]2026'!G205<>"",'[1]2026'!G205,"") | G207: =IF('[1]2026'!H205<>"",'[1]2026'!H205,"")
B208: =IF('[1] 2025'!C206 <>"",'[1] 2025'!C206,"") | C208: =IF('[1]2026'!D206<>"",'[1]2026'!D206,"") | D208: =IF('[1]2026'!E206<>"",'[1]2026'!E206,"") | E208: =IF('[1]2026'!F206<>"",'[1]2026'!F206,"") | F208: =IF('[1]2026'!G206<>"",'[1]2026'!G206,"") | G208: =IF('[1]2026'!H206<>"",'[1]2026'!H206,"")
B209: =IF('[1] 2025'!C207 <>"",'[1] 2025'!C207,"") | C209: =IF('[1]2026'!D207<>"",'[1]2026'!D207,"") | D209: =IF('[1]2026'!E207<>"",'[1]2026'!E207,"") | E209: =IF('[1]2026'!F207<>"",'[1]2026'!F207,"") | F209: =IF('[1]2026'!G207<>"",'[1]2026'!G207,"") | G209: =IF('[1]2026'!H207<>"",'[1]2026'!H207,"")
B210: =IF('[1] 2025'!C208 <>"",'[1] 2025'!C208,"") | C210: =IF('[1]2026'!D208<>"",'[1]2026'!D208,"") | D210: =IF('[1]2026'!E208<>"",'[1]2026'!E208,"") | E210: =IF('[1]2026'!F208<>"",'[1]2026'!F208,"") | F210: =IF('[1]2026'!G208<>"",'[1]2026'!G208,"") | G210: =IF('[1]2026'!H208<>"",'[1]2026'!H208,"")
C211: =IF('[1]2026'!D209<>"",'[1]2026'!D209,"") | D211: =IF('[1]2026'!E209<>"",'[1]2026'!E209,"") | E211: =IF('[1]2026'!F209<>"",'[1]2026'!F209,"") | F211: =IF('[1]2026'!G209<>"",'[1]2026'!G209,"") | G211: =IF('[1]2026'!H209<>"",'[1]2026'!H209,"")
C212: =IF('[1]2026'!D210<>"",'[1]2026'!D210,"") | D212: =IF('[1]2026'!E210<>"",'[1]2026'!E210,"") | E212: =IF('[1]2026'!F210<>"",'[1]2026'!F210,"") | F212: =IF('[1]2026'!G210<>"",'[1]2026'!G210,"") | G212: =IF('[1]2026'!H210<>"",'[1]2026'!H210,"")
C213: =IF('[1]2026'!D211<>"",'[1]2026'!D211,"") | D213: =IF('[1]2026'!E211<>"",'[1]2026'!E211,"") | E213: =IF('[1]2026'!F211<>"",'[1]2026'!F211,"") | F213: =IF('[1]2026'!G211<>"",'[1]2026'!G211,"") | G213: =IF('[1]2026'!H211<>"",'[1]2026'!H211,"")
B214: PERFIL (HOME;DONA;PJ) | C214: =IF('[1]2026'!D212<>"",'[1]2026'!D212,"") | D214: =IF('[1]2026'!E212<>"",'[1]2026'!E212,"") | E214: =IF('[1]2026'!F212<>"",'[1]2026'!F212,"") | F214: =IF('[1]2026'!G212<>"",'[1]2026'!G212,"") | G214: =IF('[1]2026'!H212<>"",'[1]2026'!H212,"")
B215: IDIOMA (CAST;CAT) | C215: =COUNTIF(I16:I204,I199) -> 0 | D215: =COUNTIF(I16:I204,I204) -> 0 | E215: =SUM(C215:D215) -> 0
B216: CANAL (P;E) | C216: =COUNTIF(J16:J204,J194) -> 0 | D216: =COUNTIF(J16:J204,J198) -> 0 | E216: =SUM(C216:D216) -> 0
B217: TERMINIS (V;T) | C217: =COUNTIF(E16:E204,"<31") -> 14 | D217: =COUNTIF(E16:E204,">=31") -> 3 | E217: =SUM(C217:D217) -> 17 | F217: =E216-E217 -> -17
C219: SENTIT DE LA RESOLUCIÓ
B220: =COUNTIF(Q16:Q204,Q187) -> 0 | C220: Estimació
B221: =COUNTIF(Q17:Q204,Q34) -> 177 | C221: Estimació parcial
C222: Desestimació
B223: =COUNTIF(Q16:Q204,Q35) -> 178 | C223: Inadmissió
B224: =COUNTIF(Q16:Q204,Q113) -> 0 | C224: Desistiment
B225: =COUNTIF(Q16:Q204,Q186) -> 0 | C225: Derivació
B226: =SUM(B220:B225) -> 355

Sheet Totals
G2: 2023 | H2: 2024 | I2: 2025
C3: 1 | D3: Informació institucional i organitzativa | G3: 1 | H3: 1 | I3: =COUNTIF('2025 '!L16:L194,'2025 '!B6) -> 2
C4: 2 | D4: Acció de govern i normativa | G4: 1 | H4: 1 | I4: =COUNTIF('2025 '!L17:L195,'2025 '!B7) -> 0
C5: 3 | D5: Plans, programes i memòries | G5: 1 | H5: 5 | I5: =COUNTIF('2025 '!L18:L196,'2025 '!B8) -> 4
C6: 4 | D6: Personal i processos selectius | G6: 2 | H6: 5 | I6: 19
C7: 5 | D7: Contractes, convenis i subvencions | G7: 1 | H7: 0 | I7: =COUNTIF('2025 '!L20:L198,'2025 '!B10) -> 1
C8: 6 | D8: Gestió econòmica, comptable, pressupostària i patrimonial | G8: 3 | H8: 4 | I8: =COUNTIF('2025 '!L21:L207,'2025 '!B11) -> 4
C9: 7 | D9: Gestió de serveis públics | G9: 4 | H9: 3 | I9: =COUNTIF('2025 '!L22:L208,'2025 '!B12) -> 3
C10: 8 | D10: Canals i mecanismes de participació ciutadana | G10: 0 | H10: 1 | I10: =COUNTIF('2025 '!L23:L209,'2025 '!B13) -> 0
C11: 9 | D11: Seguretat ciutadana i civisme | G11: 0 | H11: 4 | I11: =COUNTIF('2025 '!L24:L210,'2025 '!D6) -> 2
C12: 10 | D12: Salut pública | G12: 0 | H12: 0 | I12: =COUNTIF('2025 '!L25:L210,'2025 '!D7) -> 1
C13: 11 | D13: Serveis Socials | G13: 0 | H13: 1 | I13: =COUNTIF('2025 '!L26:L211,'2025 '!D8) -> 2
C14: 12 | D14: Urbanisme | G14: 79 | H14: 124 | I14: =COUNTIF('2025 '!L16:L196,'2025 '!D9) -> 95
C15: 13 | D15: Activitats | G15: 27 | H15: 58 | I15: 51
C16: 14 | D16: Altra informació | G16: 8 | H16: 9 | I16: 5
G17: =SUM(G3:G16) -> 127 | H17: =SUM(H3:H16) -> 216 | I17: =SUM(I3:I16) -> 189
