Workbook
Name FromArray_1: _xlfn.ANCHORARRAY(#REF!)

Sheet 2023
B2: Informació estadística peticions dret d'accés a la informació pública any 2023
B5: Llei 19/2014, de 29 de desembre, de transparència, accés a la informació pública i bon govern, en endavant LTC.
B6: Decret 8/2021, de 9 de febrer, sobre la transparència i el dret d'accés a la informació pública
B7: Tipologia: 1. Informació institucional i organitzativa; 2. Gestió econòmica i patrimonial; 3. Acció de govern i normativa; 4. Personal, processos selectius i recursos humans; 5. Contractes, convenis i subvencions; 6. Gestió de serveis públics; 7. Urbanisme; 8. Activitats; 9. Serveis Socials; 10. Plans, programes i memòries; 11. Altra informació.
B9: Entrada petició | C9: Data de la SAIP | D9: Canal | E9: Extracte petició | F9: Tipologia | G9: Sentit resolució | H9: Motivació | I9: Recurs de reposició | J9: Resolució del recurs | K9: Data posada a disposició de la documentació | L9: Reclamació davant la GAIP | M9: Sentit de la reclamació
B10: 89 | C10: 44928 | D10: Electrònic | E10: Beneficis fiscals i convenis de cessió del sòl que han afectat a una societat. | F10: 11 | G10: Estimació | K10: 30/05/2023. Deriva a la Unitat el 26/05/2023
B11: 7256 | C11: 45001 | D11: Electrònic | E11: Retribucions d'alts càrrecs i personal directiu, nombre d'estudis i informes externs amb contraprestació, subjecte, import i objecte de la contraprestació. | F11: 4.5 | K11: 45020
B12: 8424 | C12: 45013 | D12: Electrònic | E12: Actes d'inspecció d'una discoteca des de la data d'obertura. | F12: 8 | G12: Desestimació | H12: Silenci administratiu | L12: 45196 | M12: Estimatòria
B13: 10590 | C13: 45035 | D13: Electrònic | E13: Actas d'inspecció d'un restaurant. | F13: 8 | G13: Derivació | H13: Ajuntament de Vila-Seca
B14: 10760 | C14: 45037 | D14: Electrònic | E14: Revisions del projecte d'execució d'una llicència d'obra major. | F14: 7 | G14: Estimació | K14: 45050
B15: 10780 | C15: 45037 | D15: Presencial | E15: Tots els expedients de llicències d'obres d'un immoble. | F15: 7 | G15: Desestimació | H15: Documentació inexistent
B16: 11140 | C16: 45041 | D16: Electrònic | E16: Llicència d'obres de treballs verticals i embastides per pintar la façana d'un edifici. | F16: 7 | G16: Estimació | K16: 45042
B17: 11180 | C17: 45042 | D17: Presencial | E17: Projecte d'obres, explotació i gestió de l'edifici d'apartaments tutelats. | F17: 2 | G17: Estimació | K17: 45070
B18: 11208 | C18: 45042 | D18: Presencial | E18: Llicències d'activitats d'un restaurant. | F18: 8 | G18: Estimació | K18: 45058
B19: 11277 | C19: 45042 | D19: Electrònic | E19: Llicència d'obres i règim d'ús d'un restaurant. | F19: 7 | G19: Estimació | K19: 45062
B20: 11286 | C20: 45042 | D20: Electrònic | E20: Projecte d'obres d'un immoble. | F20: 7 | G20: Estimació | K20: 45056
B21: 11665 | C21: 45048 | D21: Electrònic | E21: Emplaçament de l'estadi municipal. | F21: 10 | G21: Estimació | K21: 45082
B22: 11822 | C22: 45049 | D22: Electrònic | E22: Expedient de primera ocupació d'un immoble. | F22: 7 | G22: Estimació | K22: 45051
B23: 11884 | C23: 45049 | D23: Electrònic | E23: Llicència d'obra major per construcció d'una escala exterior d'un Hotel. | F23: 7 | G23: Estimació | K23: 45061
B24: 12131 | C24: 45051 | D24: Presencial | E24: Llicència d'activitats d'un supermercat. | F24: 8 | G24: Estimació | K24: 45054
B25: 12141 | C25: 45051 | D25: Presencial | E25: Llicència d'obra menor del tancament d'un immoble. | F25: 7 | G25: Estimació | K25: 45061
B26: 12256 | C26: 45054 | D26: Electrònic | E26: Plecs de condicions i modificacions de la concessió patrimonial atorgada a un centre esportiu. | F26: 2 | G26: Estimació | K26: 45103
B27: 12721 | C27: 45056 | D27: Electrònic | E27: Llicències d'obres d'un immoble. | F27: 7 | G27: Estimació | K27: 45076
... B30: 13849 | C30: 45068 | D30: Electrònic | E30: Expedient de primera ocupació d'un immoble. | F30: 7 | G30: Estimació | K30: 45069
B31: 13991 | C31: 45069 | D31: Presencial | E31: Plànols d'un immoble. | F31: 11 | G31: Desistiment
B32: 13986 | C32: 45069 | D32: Electrònic | E32: Expedient d'obres d'un immoble. | F32: 7 | G32: Estimació | K32: 45076
B33: 14080 | C33: 45069 | D33: Electrònic | E33: Antecedents de l'eliminació del pas de peatons a l'Autovia de Salou. | F33: 11 | G33: Estimació | K33: 45085
B34: 14087 | C34: 45069 | D34: Electrònic | E34: Expedient d'obres d'un immoble. | F34: 7 | G34: Estimació | K34: 45090
B35: 14256 | C35: 45071 | D35: Electrònic | E35: Projecte d'obra nova o reforma d'un restaurant. | F35: 8 | G35: Estimació | K35: 45097
B36: 14294 | C36: 45071 | D36: Electrònic | E36: Projecte d'obres d'un immoble. | F36: 11 | G36: Estimació | K36: 45090
B37: 14606 | C37: 45075 | D37: Electrònic | E37: Documentació de la legalització de l'aljub i la terrassa d'una discoteca. | F37: 7 | G37: Estimació | K37: 45110
B38: 14614 | C38: 45075 | D38: Electrònic | E38: Sonometries d'una discoteca. | F38: 8 | G38: Estimació | K38: 45100
B39: 14896 | C39: 45078 | D39: Presencial | E39: Projecte d'obra i explotació de l'edifici destinat a habitatges tutelats i els seus serveis complementaris i del centre socio-sanitari. | F39: 2 | G39: Estimació | K39: 45084
B40: 15099 | C40: 45079 | D40: Electrònic | E40: Projecte d'instal·lacions elèctriques d'un immoble. | F40: 7 | G40: Estimació | K40: 45090
B41: 15150 | C41: 45079 | D41: Electrònic | E41: Aclariment NRG 14.606.
B42: 15164 | C42: 45079 | D42: Electrònic | E42: Plànols d'un immoble. | F42: 7 | G42: Desestimació | H42: Documentació inexistent
B43: 15165 | C43: 45079 | D43: Electrònic | E43: Plànols d'un immoble. | F43: 7 | G43: Estimació | K43: 45097
B44: 15166 | C44: 45079 | D44: Electrònic | E44: Plànols d'un immoble. | F44: 7 | G44: Desistiment
B45: 15234 | C45: 45082 | D45: Presencial | E45: Projecte d'obres d'un immoble. | F45: 7 | G45: Estimació | K45: 45113
B46: 15960 | C46: 45089 | D46: Electrònic | E46: Projecte d'obres d'un immoble. | F46: 7 | G46: Estimació | K46: 45091
...

Sheet   2024
C3: Informació estadística peticions dret d'accés a la informació pública any 2024
B6: Tipologia
B7: 1 | C7: Informació institucional i organitzativa | F7: 8 | G7: Canals i mecanismes de participació ciutadana
B8: 2 | C8: Acció de govern i normativa | F8: 9 | G8: Seguretat ciutadana i civisme
B9: 3 | C9: Plans, programes i memòries | F9: 10 | G9: Salut pública
B10: 4 | C10: Personal i processos selectius | F10: 11 | G10: Serveis Socials
B11: 5 | C11: Contractes, convenis i subvencions | F11: 12 | G11: Urbanisme
B12: 6 | C12: Gestió econòmica, comptable, pressupostària i patrimonial | F12: 13 | G12: Activitats
B13: 7 | C13: Gestió de serveis públics | F13: 14 | G13: Altra informació
B15: Entrada petició | C15: Data de la SAIP | D15: Perfil | E15: Idioma | F15: Canal | G15: Extracte petició | H15: Unitat responsable de la informació | I15: Tipologia | J15: Sentit resolució | K15: Motivació | L15: Recurs de reposició | M15: Resolució del recurs | N15: Data posada a diposició de la documentació | O15: Reclamació davant la GAIP | P15: Sentit de la reclamació
B16: 200 | C16: 45294 | D16: Persona Jurídica | E16: Castellà | F16: Electrònic | G16: Sol·licitud escrit indicant ocupació de l'expedient 3848/2017 on s'indicava les habitacions i la capacitat total. | H16: Activitats | I16: 13 | J16: Estimació | N16: 44943
B17: 219 | C17: 45294 | D17: Home | E17: Castellà | F17: Presencial | G17: Sol·licitud planell de l'immoble situat al c/Verge del Pilar, 2, 2-3. | H17: Urbanisme | I17: 12 | J17: Estimació | N17: 45336
B18: 899 | C18: 45302 | D18: Dona | E18: Català | F18: Electrònic | G18: Sol·licitud d'informació relacionada amb dos establiments on s'hi duen a terme activitats de naturalesa sexual. | H18: Policia Local i Activitats | I18: 9/13 | J18: Estimació | N18: 45411
B19: 906 | C19: 45302 | D19: Home | E19: Català | F19: Electrònic | G19: Consultar els plànols dels expedients dels edificis: 1-Caracas, situat al c/València, 52; 2-Isis, situat al Passeig Miramar, 84. | H19: Urbanisme | I19: 12 | J19: Estimació | N19: 45331
B20: 928 | C20: 45302 | D20: Persona Jurídica | E20: Català | F20: Electrònic | G20: Sol·licitud de tots els plànols que es tinguin de l'edifici Helios. | H20: Urbanisme | I20: 12 | J20: Estimació | N20: 45327
B21: 1125 | C21: 45303 | D21: Dona | E21: Català | F21: Electrònic | G21: Informació sobre locals i/o establiments on s'hi duen a terme activitats de naturalesa sexual al terme municipal de Salou. | H21: Policia Local i Activitats | I21: 9/13 | J21: Estimació | N21: 45402
B22: 1172 | C22: 45306 | D22: Home | E22: Català | F22: Electrònic | G22: Sol·licitud de les ordenances i sancions per gravar a la via pública per part de periodistes sense permís previ. | H22: Via pública | I22: 2 | J22: Estimació | N22: 45331
B23: 1184 | C23: 45306 | D23: Dona | E23: Català | F23: Electrònic | G23: Sol·licitud de consulta de tots els expedients de llicències i activitats d'un edifici del c/Berlín, 18-20. | H23: Urbanisme i Activitats | I23: 12 | J23: Estimació | N23: 45399
B24: 1939 | C24: 45314 | D24: Dona | E24: Català | F24: Presencial | G24: Sol·licitud de consulta dels plànols de l'edifici Barlovento al c/ Major, 13 i de l'edifici Sotovento al c/Nord, 26. | H24: Urbanisme | I24: 12 | J24: Estimació | N24: 45338
B25: 1972 | C25: 45314 | D25: Persona Jurídica | E25: Català | F25: Electrònic | G25: Sol·licitud de la documentació aportada pel promotor/constructor de l'edifici Ancora, situat al Passeig Miramar, 20. | H25: Urbanisme | I25: 12 | J25: Estimació | N25: 45331
B26: 1973 | C26: 45314 | D26: Persona Jurídica | E26: Català | F26: Electrònic | G26: Sol·licitud de la documentació aportada pel promotor/constructor de l'edifici situat al c/ València 100. | H26: Urbanisme | I26: 12 | J26: Estimació | N26: 45331
B27: 2132 | C27: 45316 | D27: Dona | E27: Català | F27: Presencial | G27: Sol·licitud d'informació relativa a les llicències dels HUTT de l'edifici Cala Salou i i el nombre màxim d'ocupants de cada pis. | H27: Activitats | I27: 13 | J27: Estimació | N27: 45336
B28: 2199 | C28: 45316 | D28: Persona Jurídica | E28: Català | F28: Electrònic | G28: Sol·licitud de còpia plànols de l'edifici Montemar al c/Roger de Llúria 4-6. | H28: Urbanisme | I28: 12 | J28: Estimació | N28: 45342
B29: 2356 | C29: 45320 | D29: Home | E29: Castellà | F29: Electrònic | G29: Sol·licitud de plànols d'un traster de l'edifici Royal Park. | H29: Urbanisme | I29: 12 | J29: Estimació | N29: 45341
B30: 2537 | C30: 45321 | D30: Dona | E30: Català | F30: Electrònic | G30: Sol·licitud de plànols d'un immoble de l'edifici Bahia. | H30: Urbanisme | I30: 12 | J30: Estimació | N30: 45342
B31: 2625 i 11174 | C31: 45321 | D31: Home | E31: Castellà | F31: Presencial | G31: Sol·licitud de plànols d'un immoble situat al c/Amposta, 14. | H31: Urbanisme | I31: 12 | J31: Estimació | N31: 45434
B32: 2676 | C32: 45323 | D32: Persona Jurídica | E32: Castellà | F32: Electrònic | G32: Sol·licitud per conèixer la identificació dels empleats públics que han accedit als expedients d'una discoteca. | H32: Qualitat | I32: 14 | J32: Estimació | N32: 45336
B33: 3107 | C33: 45329 | D33: Home | E33: Català | F33: Electrònic | G33: Sol·licitud d'actualització de les dades de les noves regidories després de les eleccions municipals. | H33: Qualitat | I33: 1 | J33: Estimació | N33: 45357
B34: 3145 | C34: 45329 | D34: Dona | E34: Català | F34: Presencial | G34: Sol·licitud de plànols d'un immoble situat al c/Terol, 3. | H34: Urbanisme | I34: 12 | J34: Estimació | N34: 45342
B35: 3356 | C35: 45331 | D35: Dona | E35: Català | F35: Electrònic | G35: Sol·licitud dels enunciats i respostes dels exàmens del test i cas pràctic de les últimes proves de promoció interna de la categoria C1. | H35: Recursos Humans | I35: 4 | J35: Estimació parcial | K35: Dades personals | N35: 45350
B36: 3368 | C36: 45331 | D36: Persona Jurídica | E36: Català | F36: Electrònic | G36: Sol·licitud dels plànols de l'estructura de l'Hotel Jaume I. | H36: Urbanisme | I36: 12 | J36: Desestimació | K36: Documentació inexistent
B37: 3546 | C37: 45334 | D37: Dona | E37: Castellà | F37: Electrònic | G37: Sol·licitud per la consulta dels plànols i final d'obra de l'edifici situat al c/Barcelona, 3. | H37: Urbanisme | I37: 12 | J37: Desestimació | K37: Documentació inexistent
B38: 3681 | C38: 45335 | D38: Dona | E38: Castellà | F38: Presencial | G38: Sol·licitud de la llicència d'activitats d'un establiment de souvenirs. | H38: Activitats | I38: 13 | J38: Estimació | N38: 45749
B39: 3710 | C39: 45335 | D39: Persona Jurídica | E39: Català | F39: Electrònic | G39: Sol·licitud del permís d'obres i del projecte que es va aprovar l'any 2008 d'un immoble situat a Crta. del Far, 44. | H39: Urbanisme | I39: 12 | J39: Estimació | N39: 45357
B40: 3940 | C40: 45336 | D40: Home | E40: Castellà | F40: Electrònic | G40: Sol·licitud del nombre de detencions fetes i nombre de pisos ocupats durant l'any 2023. | H40: Policia Local | I40: 14 | J40: Derivació
B41: 4300 | C41: 45341 | D41: Home | E41: Català | F41: Electrònic | G41: Sol·licitud de plànols dels edificis Nautilus, c/Tortosa, 12; Maracaibo, c/Sol, 29; Fabiola, c/Sol, 60 i Galaxia, c/Sol, 67. | H41: Urbanisme | I41: 12 | J41: Estimació | N41: 45362
B42: 4327 | C42: 45341 | D42: Home | E42: Castellà | F42: Presencial | G42: Sol·licitud de plànols de l'edifici Ulises situat al c/ Cala de la Font, 33-35. | H42: Urbanisme | I42: 12 | J42: Estimació | N42: 45359
B43: 4368 | C43: 45341 | D43: Home | E43: Català | F43: Electrònic | G43: Sol·licitud dels plànols de la rehabilitació de la façana de l'edifici Cuter situat al c/Pla de l'Era, 6. | H43: Urbanisme | I43: 12 | J43: Estimació | N43: 45359
B44: 4440 | C44: 45342 | D44: Dona | E44: Castellà | F44: Presencial | G44: Sol·licitud d'informació sobre el projecte d'activitat de dos establiments de restauració. | H44: Activitats | I44: 13 | J44: Desistiment | K44: Desistiment
B45: 4468 | C45: 45342 | D45: Home | E45: Català | F45: Presencial | G45: Sol·licitud de la llicència d'ocupació de via pública amb taules i cadires d'un establiment de restauració. | H45: Via pública | I45: 6 | J45: Estimació | N45: 45387
...

Sheet 2025 
C3: Informació estadística peticions dret d'accés a la informació pública any 2025
B5: Tipologia
B6: 1 | C6: Informació institucional i organitzativa | D6: 9 | E6: Seguretat ciutadana i civisme
B7: 2 | C7: Acció de govern i normativa | D7: 10 | E7: Salut pública
B8: 3 | C8: Plans, programes i memòries | D8: 11 | E8: Serveis Socials
B9: 4 | C9: Personal i processos selectius | D9: 12 | E9: Urbanisme
B10: 5 | C10: Contractes, convenis i subvencions | D10: 13 | E10: Activitats
B11: 6 | C11: Gestió econòmica, comptable, pressupostària i patrimonial | D11: 14 | E11: Altra informació
B12: 7 | C12: Gestió de serveis públics
B13: 8 | C13: Canals i mecanismes de participació ciutadana
B15: =+'[1] 2025'!C13 -> Entrada petició | C15: =+'[1] 2025'!D13 -> Data de la SAIP | D15: =+'[1] 2025'!E13 -> Dies ad quem | E15: =+'[1] 2025'!F13 -> Termini | F15: ='[1] 2025'!$G$13 -> Causa de l'incompliment del termini màxim per resoldre | G15: Unitat responsable de la informació | H15: Perfil | I15: Idioma | J15: Canal | K15: Extracte petició | L15: Tipologia | M15: Avís 10 dies | N15: Audiència | O15: Al·legacions | P15: Data notificació resolució/comunicació | Q15: Sentit | R15: Motivació | S15: Data posada a disposició de la documentació | T15: Recurs de reposició | U15: Resolució del recurs | V15: Reclamació davant la GAIP | W15: Sentit de la reclamació
B16: =IF('[1] 2025'!C14 <>"",'[1] 2025'!C14,"") -> 165 | C16: =IF('[1] 2025'!D14 <>"",'[1] 2025'!D14,"") -> 45660 | D16: =IF('[1] 2025'!E14 <>"",'[1] 2025'!E14,"") -> 45691 | E16: =IF('[1] 2025'!F14 <>"",'[1] 2025'!F14,"") -> 56 | F16: =IF('[1] 2025'!G14 <>"",'[1] 2025'!G14,"") -> La informació es trasllada a la Unitat de Govern Obert amb retràs | G16: =IF('[1] 2025'!H14 <>"",'[1] 2025'!H14,"") -> Urbanisme | H16: =IF('[1] 2025'!I$14 <>"",'[1] 2025'!I$14,"") -> Home | I16: ='[1] 2025'!J14 -> Castellà | J16: ='[1] 2025'!K14 -> Electrònic | K16: ='[1] 2025'!L14 -> Sol·licitud de la llicència d'obra major i de primera ocupació de l'edifici situat al c/Ponent, núm. 3. | L16: ='[1] 2025'!M14 -> 12 | M16: ='[1] 2025'!N14 -> Sí | N16: =IF('[1] 2025'!O14 <>"",'[1] 2025'!O14,"") | O16: =IF('[1] 2025'!P14 <>"",'[1] 2025'!P14,"") | P16: ='[1] 2025'!Q14 -> 45716 | Q16: =IF('[1] 2025'!R14 <>"",'[1] 2025'!R14,"") -> Estimació | S16: ='[1] 2025'!T14 -> 45716 | T16: =IF('[1] 2025'!U14 <>"",'[1] 2025'!U14,"") | U16: =IF('[1] 2025'!V14 <>"",'[1] 2025'!V14,"") | V16: =IF('[1] 2025'!W$14 <>"",'[1] 2025'!W$14,"") | W16: =IF('[1] 2025'!X$14 <>"",'[1] 2025'!X$14,"")
B17: =IF('[1] 2025'!C15 <>"",'[1] 2025'!C15,"") -> 362 | C17: =IF('[1] 2025'!D15 <>"",'[1] 2025'!D15,"") -> 45665 | D17: =IF('[1] 2025'!E15 <>"",'[1] 2025'!E15,"") -> 45696 | E17: =IF('[1] 2025'!F15 <>"",'[1] 2025'!F15,"") -> 21 | F17: =IF('[1] 2025'!G15 <>"",'[1] 2025'!G15,"") | G17: =IF('[1] 2025'!H15 <>"",'[1] 2025'!H15,"") -> Activitats | H17: =IF('[1] 2025'!I15 <>"",'[1] 2025'!I15,"") -> Home | I17: ='[1] 2025'!J15 -> Castellà | J17: ='[1] 2025'!K15 -> Presencial | K17: ='[1] 2025'!L15 -> Sol·licitud dels plànols del projecte d'una activitat de restauració. | L17: ='[1] 2025'!M15 -> 13 | M17: ='[1] 2025'!N15 -> Sí | N17: =IF('[1] 2025'!O15 <>"",'[1] 2025'!O15,"") | O17: =IF('[1] 2025'!P15 <>"",'[1] 2025'!P15,"") | P17: ='[1] 2025'!Q15 -> 45686 | Q17: =IF('[1] 2025'!R15 <>"",'[1] 2025'!R15,"") -> Estimació | R17: =IF('[1] 2025'!S$14 <>"",'[1] 2025'!S$14,"") | S17: ='[1] 2025'!T15 -> 45686 | T17: =IF('[1] 2025'!U15 <>"",'[1] 2025'!U15,"") | U17: =IF('[1] 2025'!V15 <>"",'[1] 2025'!V15,"") | V17: =IF('[1] 2025'!W$14 <>"",'[1] 2025'!W$14,"") | W17: =IF('[1] 2025'!X$14 <>"",'[1] 2025'!X$14,"")
B18: =IF('[1] 2025'!C16 <>"",'[1] 2025'!C16,"") -> 677 | C18: =IF('[1] 2025'!D16 <>"",'[1] 2025'!D16,"") -> 45667 | D18: =IF('[1] 2025'!E16 <>"",'[1] 2025'!E16,"") -> 45698 | E18: =IF('[1] 2025'!F16 <>"",'[1] 2025'!F16,"") -> 19 | F18: =IF('[1] 2025'!G16 <>"",'[1] 2025'!G16,"") | G18: =IF('[1] 2025'!H16 <>"",'[1] 2025'!H16,"") -> Urbanisme | H18: =IF('[1] 2025'!I16 <>"",'[1] 2025'!I16,"") -> Home | I18: ='[1] 2025'!J16 -> Castellà | J18: ='[1] 2025'!K16 -> Presencial | K18: ='[1] 2025'!L16 -> Sol·licitud del plànol del projecte de construcció de l'edifici Catalunya-92, II i, concretament, del local 2 situat al c/Vendrell, núm. 16. | L18: ='[1] 2025'!M16 -> 12 | M18: ='[1] 2025'!N16 -> Sí | N18: =IF('[1] 2025'!O16 <>"",'[1] 2025'!O16,"") | O18: =IF('[1] 2025'!P16 <>"",'[1] 2025'!P16,"") | P18: ='[1] 2025'!Q16 -> 45686 | Q18: =IF('[1] 2025'!R16 <>"",'[1] 2025'!R16,"") -> Estimació | R18: =IF('[1] 2025'!S$14 <>"",'[1] 2025'!S$14,"") | S18: ='[1] 2025'!T16 -> 45686 | T18: =IF('[1] 2025'!U16 <>"",'[1] 2025'!U16,"") | U18: =IF('[1] 2025'!V16 <>"",'[1] 2025'!V16,"") | V18: =IF('[1] 2025'!W$14 <>"",'[1] 2025'!W$14,"") | W18: =IF('[1] 2025'!X$14 <>"",'[1] 2025'!X$14,"")
B19: =IF('[1] 2025'!C17 <>"",'[1] 2025'!C17,"") -> 691 | C19: =IF('[1] 2025'!D17 <>"",'[1] 2025'!D17,"") -> 45667 | D19: =IF('[1] 2025'!E17 <>"",'[1] 2025'!E17,"") -> 45698 | E19: =IF('[1] 2025'!F17 <>"",'[1] 2025'!F17,"") -> 45 | F19: =IF('[1] 2025'!G17 <>"",'[1] 2025'!G17,"") -> La informació es trasllada a la Unitat de Govern Obert amb retràs | G19: =IF('[1] 2025'!H17 <>"",'[1] 2025'!H17,"") -> Activitats | H19: =IF('[1] 2025'!I17 <>"",'[1] 2025'!I17,"") -> Home | I19: ='[1] 2025'!J17 -> Català | J19: ='[1] 2025'!K17 -> Presencial | K19: ='[1] 2025'!L17 -> Sol·licitud de còpia de la llicència d'activitat d'un establiment de restauració. | L19: ='[1] 2025'!M17 -> 13 | M19: ='[1] 2025'!N17 -> Sí | N19: =IF('[1] 2025'!O17 <>"",'[1] 2025'!O17,"") | O19: =IF('[1] 2025'!P17 <>"",'[1] 2025'!P17,"") | P19: ='[1] 2025'!Q17 -> 45712 | Q19: =IF('[1] 2025'!R17 <>"",'[1] 2025'!R17,"") -> Estimació | R19: =IF('[1] 2025'!S$14 <>"",'[1] 2025'!S$14,"") | S19: ='[1] 2025'!T17 -> 45712 | T19: =IF('[1] 2025'!U17 <>"",'[1] 2025'!U17,"") | U19: =IF('[1] 2025'!V17 <>"",'[1] 2025'!V17,"") | V19: =IF('[1] 2025'!W$14 <>"",'[1] 2025'!W$14,"") | W19: =IF('[1] 2025'!X$14 <>"",'[1] 2025'!X$14,"")
B20: =IF('[1] 2025'!C18 <>"",'[1] 2025'!C18,"") -> 998 | C20: =IF('[1] 2025'!D18 <>"",'[1] 2025'!D18,"") -> 45671 | D20: =IF('[1] 2025'!E18 <>"",'[1] 2025'!E18,"") -> 45702 | E20: =IF('[1] 2025'!F18 <>"",'[1] 2025'!F18,"") -> 23 | F20: =IF('[1] 2025'!G18 <>"",'[1] 2025'!G18,"") | G20: =IF('[1] 2025'!H18 <>"",'[1] 2025'!H18,"") -> Urbanisme | H20: =IF('[1] 2025'!I18 <>"",'[1] 2025'!I18,"") -> Home | I20: ='[1] 2025'!J18 -> Català | J20: ='[1] 2025'!K18 -> Presencial | K20: ='[1] 2025'!L18 -> Sol·licitud dels plànols del local situat al c/Barcelona, núm. 62 de l'edifici Milano. | L20: ='[1] 2025'!M18 -> 12 | M20: ='[1] 2025'!N18 -> Sí | N20: =IF('[1] 2025'!O18 <>"",'[1] 2025'!O18,"") | O20: =IF('[1] 2025'!P18 <>"",'[1] 2025'!P18,"") | P20: ='[1] 2025'!Q18 -> 45694 | Q20: =IF('[1] 2025'!R18 <>"",'[1] 2025'!R18,"") -> Estimació | R20: =IF('[1] 2025'!S$14 <>"",'[1] 2025'!S$14,"") | S20: ='[1] 2025'!T18 -> 45694 | T20: =IF('[1] 2025'!U18 <>"",'[1] 2025'!U18,"") -> 45658 | U20: =IF('[1] 2025'!V18 <>"",'[1] 2025'!V18,"") -> 45689 | V20: =IF('[1] 2025'!W$14 <>"",'[1] 2025'!W$14,"") | W20: =IF('[1] 2025'!X$14 <>"",'[1] 2025'!X$14,"")
B21: =IF('[1] 2025'!C19 <>"",'[1] 2025'!C19,"") -> 1085 | C21: =IF('[1] 2025'!D19 <>"",'[1] 2025'!D19,"") -> 45672 | D21: =IF('[1] 2025'!E19 <>"",'[1] 2025'!E19,"") -> 45703 | E21: =IF('[1] 2025'!F19 <>"",'[1] 2025'!F19,"") -> 2 | F21: =IF('[1] 2025'!G19 <>"",'[1] 2025'!G19,"") | G21: =IF('[1] 2025'!H19 <>"",'[1] 2025'!H19,"") -> Personal i processos selectius | H21: =IF('[1] 2025'!I19 <>"",'[1] 2025'!I19,"") -> Home | I21: ='[1] 2025'!J19 -> Català | J21: ='[1] 2025'!K19 -> Electrònic | K21: ='[1] 2025'!L19 -> Sol·licitud de la totalitat de les proves de secretari-interventor realitzades en els darrers 5 anys. | L21: ='[1] 2025'!M19 -> 4 | M21: ='[1] 2025'!N19 -> Sí | N21: =IF('[1] 2025'!O19 <>"",'[1] 2025'!O19,"") | O21: =IF('[1] 2025'!P19 <>"",'[1] 2025'!P19,"") | P21: ='[1] 2025'!Q19 -> 45674 | Q21: =IF('[1] 2025'!R19 <>"",'[1] 2025'!R19,"") -> Estimació | R21: =IF('[1] 2025'!S$14 <>"",'[1] 2025'!S$14,"") | S21: ='[1] 2025'!T19 -> 45674 | T21: =IF('[1] 2025'!U19 <>"",'[1] 2025'!U19,"") | U21: =IF('[1] 2025'!V19 <>"",'[1] 2025'!V19,"") | V21: =IF('[1] 2025'!W$14 <>"",'[1] 2025'!W$14,"") | W21: =IF('[1] 2025'!X$14 <>"",'[1] 2025'!X$14,"")
B22: =IF('[1] 2025'!C20 <>"",'[1] 2025'!C20,"") -> 1195 | C22: =IF('[1] 2025'!D20 <>"",'[1] 2025'!D20,"") -> 45673 | D22: =IF('[1] 2025'!E20 <>"",'[1] 2025'!E20,"") -> 45704 | E22: =IF('[1] 2025'!F20 <>"",'[1] 2025'!F20,"") -> 7 | F22: =IF('[1] 2025'!G20 <>"",'[1] 2025'!G20,"") | G22: =IF('[1] 2025'!H20 <>"",'[1] 2025'!H20,"") -> Urbanisme | H22: =IF('[1] 2025'!I20 <>"",'[1] 2025'!I20,"") -> Home | I22: ='[1] 2025'!J20 -> Català | J22: ='[1] 2025'!K20 -> Electrònic | K22: ='[1] 2025'!L20 -> Sol·licitud del projecte bàsic i d'execució de l'edifici Thalassa, situat al c/A, núm. 5. | L22: ='[1] 2025'!M20 -> 12 | M22: ='[1] 2025'!N20 -> Sí | N22: =IF('[1] 2025'!O20 <>"",'[1] 2025'!O20,"") | O22: =IF('[1] 2025'!P20 <>"",'[1] 2025'!P20,"") | P22: ='[1] 2025'!Q20 -> 45680 | Q22: =IF('[1] 2025'!R20 <>"",'[1] 2025'!R20,"") -> Estimació | R22: =IF('[1] 2025'!S$14 <>"",'[1] 2025'!S$14,"") | S22: ='[1] 2025'!T20 -> 45680 | T22: =IF('[1] 2025'!U20 <>"",'[1] 2025'!U20,"") | U22: =IF('[1] 2025'!V20 <>"",'[1] 2025'!V20,"") | V22: =IF('[1] 2025'!W$14 <>"",'[1] 2025'!W$14,"") | W22: =IF('[1] 2025'!X$14 <>"",'[1] 2025'!X$14,"")
B23: =IF('[1] 2025'!C21 <>"",'[1] 2025'!C21,"") -> 1320 | C23: =IF('[1] 2025'!D21 <>"",'[1] 2025'!D21,"") -> 45674 | D23: =IF('[1] 2025'!E21 <>"",'[1] 2025'!E21,"") -> 45705 | E23: =IF('[1] 2025'!F21 <>"",'[1] 2025'!F21,"") -> 33 | F23: =IF('[1] 2025'!G21 <>"",'[1] 2025'!G21,"") -> Demora en la compareixença | G23: =IF('[1] 2025'!H21 <>"",'[1] 2025'!H21,"") -> Urbanisme | H23: =IF('[1] 2025'!I21 <>"",'[1] 2025'!I21,"") -> Home | I23: ='[1] 2025'!J21 -> Català | J23: ='[1] 2025'!K21 -> Electrònic | K23: ='[1] 2025'!L21 -> Sol·licitud dels plànols de l'edifici Verge de l'Antiga, situat al c/Via Aurelia, núm. 11-15. | L23: ='[1] 2025'!M21 -> 12 | M23: ='[1] 2025'!N21 -> Sí | N23: =IF('[1] 2025'!O21 <>"",'[1] 2025'!O21,"") | O23: =IF('[1] 2025'!P21 <>"",'[1] 2025'!P21,"") | P23: ='[1] 2025'!Q21 -> 45707 | Q23: =IF('[1] 2025'!R21 <>"",'[1] 2025'!R21,"") -> Estimació | R23: =IF('[1] 2025'!S$14 <>"",'[1] 2025'!S$14,"") | S23: ='[1] 2025'!T21 -> 45707 | T23: =IF('[1] 2025'!U21 <>"",'[1] 2025'!U21,"") | U23: =IF('[1] 2025'!V21 <>"",'[1] 2025'!V21,"") | V23: =IF('[1] 2025'!W$14 <>"",'[1] 2025'!W$14,"") | W23: =IF('[1] 2025'!X$14 <>"",'[1] 2025'!X$14,"")
B24: =IF('[1] 2025'!C22 <>"",'[1] 2025'!C22,"") -> 1332 | C24: =IF('[1] 2025'!D22 <>"",'[1] 2025'!D22,"") -> 45674 | D24: =IF('[1] 2025'!E22 <>"",'[1] 2025'!E22,"") -> 45705 | E24: =IF('[1] 2025'!F22 <>"",'[1] 2025'!F22,"") -> 28 | F24: =IF('[1] 2025'!G22 <>"",'[1] 2025'!G22,"") | G24: =IF('[1] 2025'!H22 <>"",'[1] 2025'!H22,"") -> Urbanisme | H24: =IF('[1] 2025'!I22 <>"",'[1] 2025'!I22,"") -> Persona jurídica | I24: ='[1] 2025'!J22 -> Català | J24: ='[1] 2025'!K22 -> Electrònic | K24: ='[1] 2025'!L22 -> Sol·licitud dels plànols de l'edifici Athos, situat al c/Rodríguez Pomatta, núm. 14. | L24: ='[1] 2025'!M22 -> 12 | M24: ='[1] 2025'!N22 -> Sí | N24: =IF('[1] 2025'!O22 <>"",'[1] 2025'!O22,"") | O24: =IF('[1] 2025'!P22 <>"",'[1] 2025'!P22,"") | P24: ='[1] 2025'!Q22 -> 45702 | Q24: =IF('[1] 2025'!R22 <>"",'[1] 2025'!R22,"") -> Estimació | R24: =IF('[1] 2025'!S$14 <>"",'[1] 2025'!S$14,"") | S24: ='[1] 2025'!T22 -> 45702 | T24: =IF('[1] 2025'!U22 <>"",'[1] 2025'!U22,"") | U24: =IF('[1] 2025'!V22 <>"",'[1] 2025'!V22,"") | V24: =IF('[1] 2025'!W$14 <>"",'[1] 2025'!W$14,"") | W24: =IF('[1] 2025'!X$14 <>"",'[1] 2025'!X$14,"")
B25: =IF('[1] 2025'!C23 <>"",'[1] 2025'!C23,"") -> 1548 | C25: =IF('[1] 2025'!D23 <>"",'[1] 2025'!D23,"") -> 45677 | D25: =IF('[1] 2025'!E23 <>"",'[1] 2025'!E23,"") -> 45708 | E25: =IF('[1] 2025'!F23 <>"",'[1] 2025'!F23,"") -> 37 | F25: =IF('[1] 2025'!G23 <>"",'[1] 2025'!G23,"") -> Demora en la compareixença | G25: =IF('[1] 2025'!H23 <>"",'[1] 2025'!H23,"") -> Urbanisme | H25: =IF('[1] 2025'!I23 <>"",'[1] 2025'!I23,"") -> Home | I25: ='[1] 2025'!J23 -> Català | J25: ='[1] 2025'!K23 -> Electrònic | K25: ='[1] 2025'!L23 -> Sol·licitud dels plànols de la planta baixa de l'edifici Festival Village, situat a Crta. de la Costa, núm. 61. | L25: ='[1] 2025'!M23 -> 12 | M25: ='[1] 2025'!N23 -> Sí | N25: =IF('[1] 2025'!O23 <>"",'[1] 2025'!O23,"") | O25: =IF('[1] 2025'!P23 <>"",'[1] 2025'!P23,"") | P25: ='[1] 2025'!Q23 -> 45714 | Q25: =IF('[1] 2025'!R23 <>"",'[1] 2025'!R23,"") -> Estimació | R25: =IF('[1] 2025'!S$14 <>"",'[1] 2025'!S$14,"") | S25: ='[1] 2025'!T23 -> 45714 | T25: =IF('[1] 2025'!U23 <>"",'[1] 2025'!U23,"") | U25: =IF('[1] 2025'!V23 <>"",'[1] 2025'!V23,"") | V25: =IF('[1] 2025'!W$14 <>"",'[1] 2025'!W$14,"") | W25: =IF('[1] 2025'!X$14 <>"",'[1] 2025'!X$14,"")
B26: =IF('[1] 2025'!C24 <>"",'[1] 2025'!C24,"") -> 1556 | C26: =IF('[1] 2025'!D24 <>"",'[1] 2025'!D24,"") -> 45677 | D26: =IF('[1] 2025'!E24 <>"",'[1] 2025'!E24,"") -> 45708 | E26: =IF('[1] 2025'!F24 <>"",'[1] 2025'!F24,"") -> 21 | F26: =IF('[1] 2025'!G24 <>"",'[1] 2025'!G24,"") | G26: =IF('[1] 2025'!H24 <>"",'[1] 2025'!H24,"") -> Activitats | H26: =IF('[1] 2025'!I24 <>"",'[1] 2025'!I24,"") -> Persona jurídica | I26: ='[1] 2025'!J24 -> Castellà | J26: ='[1] 2025'!K24 -> Electrònic | K26: ='[1] 2025'!L24 -> Sol·licitud per conèixer si diversos locals de l'edifici Rhin disposen de sortida de fums. | L26: ='[1] 2025'!M24 -> 13 | M26: ='[1] 2025'!N24 -> Sí | N26: =IF('[1] 2025'!O24 <>"",'[1] 2025'!O24,"") | O26: =IF('[1] 2025'!P24 <>"",'[1] 2025'!P24,"") | P26: ='[1] 2025'!Q24 -> 45698 | Q26: =IF('[1] 2025'!R24 <>"",'[1] 2025'!R24,"") -> Estimació | R26: =IF('[1] 2025'!S$14 <>"",'[1] 2025'!S$14,"") | S26: ='[1] 2025'!T24 -> 45698 | T26: =IF('[1] 2025'!U24 <>"",'[1] 2025'!U24,"") | U26: =IF('[1] 2025'!V24 <>"",'[1] 2025'!V24,"") | V26: =IF('[1] 2025'!W$14 <>"",'[1] 2025'!W$14,"") | W26: =IF('[1] 2025'!X$14 <>"",'[1] 2025'!X$14,"")
B27: =IF('[1] 2025'!C25 <>"",'[1] 2025'!C25,"") -> 1557 | C27: =IF('[1] 2025'!D25 <>"",'[1] 2025'!D25,"") -> 45678 | D27: =IF('[1] 2025'!E25 <>"",'[1] 2025'!E25,"") -> 45709 | E27: =IF('[1] 2025'!F25 <>"",'[1] 2025'!F25,"") -> 64 | F27: =IF('[1] 2025'!G25 <>"",'[1] 2025'!G25,"") -> Demora en la compareixença | G27: =IF('[1] 2025'!H25 <>"",'[1] 2025'!H25,"") -> Urbanisme | H27: =IF('[1] 2025'!I25 <>"",'[1] 2025'!I25,"") -> Home | I27: ='[1] 2025'!J25 -> Castellà | J27: ='[1] 2025'!K25 -> Electrònic | K27: ='[1] 2025'!L25 -> Sol·licitud dels plànols de l'edifici Rhin, situat al c/Birminghan, núm. 10. | L27: ='[1] 2025'!M25 -> 12 | M27: ='[1] 2025'!N25 -> Sí | N27: =IF('[1] 2025'!O25 <>"",'[1] 2025'!O25,"") | O27: =IF('[1] 2025'!P25 <>"",'[1] 2025'!P25,"") | P27: ='[1] 2025'!Q25 -> 45742 | Q27: =IF('[1] 2025'!R25 <>"",'[1] 2025'!R25,"") -> Estimació | R27: =IF('[1] 2025'!S$14 <>"",'[1] 2025'!S$14,"") | S27: ='[1] 2025'!T25 -> 45742 | T27: =IF('[1] 2025'!U25 <>"",'[1] 2025'!U25,"") | U27: =IF('[1] 2025'!V25 <>"",'[1] 2025'!V25,"") | V27: =IF('[1] 2025'!W$14 <>"",'[1] 2025'!W$14,"") | W27: =IF('[1] 2025'!X$14 <>"",'[1] 2025'!X$14,"")
B28: =IF('[1] 2025'!C26 <>"",'[1] 2025'!C26,"") -> 1645 | C28: =IF('[1] 2025'!D26 <>"",'[1] 2025'!D26,"") -> 45679 | D28: =IF('[1] 2025'!E26 <>"",'[1] 2025'!E26,"") -> 45710 | E28: =IF('[1] 2025'!F26 <>"",'[1] 2025'!F26,"") -> 56 | F28: =IF('[1] 2025'!G26 <>"",'[1] 2025'!G26,"") -> La informació es trasllada a la Unitat de Govern Obert amb retràs | G28: =IF('[1] 2025'!H26 <>"",'[1] 2025'!H26,"") -> Urbanisme | H28: =IF('[1] 2025'!I26 <>"",'[1] 2025'!I26,"") -> Persona jurídica | I28: ='[1] 2025'!J26 -> Castellà | J28: ='[1] 2025'!K26 -> Electrònic | K28: ='[1] 2025'!L26 -> Sol·licitud de la llicència d'obres d'un establiment de restauració. | L28: ='[1] 2025'!M26 -> 12 | M28: ='[1] 2025'!N26 -> Sí | N28: =IF('[1] 2025'!O26 <>"",'[1] 2025'!O26,"") | O28: =IF('[1] 2025'!P26 <>"",'[1] 2025'!P26,"") | P28: ='[1] 2025'!Q26 -> 45735 | Q28: =IF('[1] 2025'!R26 <>"",'[1] 2025'!R26,"") -> Estimació | R28: =IF('[1] 2025'!S$14 <>"",'[1] 2025'!S$14,"") | S28: ='[1] 2025'!T26 -> 45735 | T28: =IF('[1] 2025'!U26 <>"",'[1] 2025'!U26,"") | U28: =IF('[1] 2025'!V26 <>"",'[1] 2025'!V26,"") | V28: =IF('[1] 2025'!W$14 <>"",'[1] 2025'!W$14,"") | W28: =IF('[1] 2025'!X$14 <>"",'[1] 2025'!X$14,"")
... B34: =IF('[1] 2025'!C32 <>"",'[1] 2025'!C32,"") -> 2809 | C34: =IF('[1] 2025'!D32 <>"",'[1] 2025'!D32,"") -> 45692 | D34: =IF('[1] 2025'!E32 <>"",'[1] 2025'!E32,"") -> 45720 | E34: =IF('[1] 2025'!F32 <>"",'[1] 2025'!F32,"") -> 48 | F34: =IF('[1] 2025'!G32 <>"",'[1] 2025'!G32,"") -> Demora en la tramitació | G34: =IF('[1] 2025'!H32 <>"",'[1] 2025'!H32,"") -> Serveis Tècnics | H34: =IF('[1] 2025'!I32 <>"",'[1] 2025'!I32,"") -> Persona jurídica | I34: ='[1] 2025'!J32 -> Català | J34: ='[1] 2025'!K32 -> Electrònic | K34: ='[1] 2025'!L32 -> Sol·licitud del projecte del Bosc Gran, entre el c/ de la Farola i el c/ Lledoner, un cens de finques de titularitat privadada no urbanitzades i un cens de població empadronada al Cap Salou. | L34: ='[1] 2025'!M32 -> 12 | M34: ='[1] 2025'!N32 -> Sí | N34: =IF('[1] 2025'!O32 <>"",'[1] 2025'!O32,"") | O34: =IF('[1] 2025'!P32 <>"",'[1] 2025'!P32,"") | P34: ='[1] 2025'!Q32 -> 45740 | Q34: =IF('[1] 2025'!R32 <>"",'[1] 2025'!R32,"") -> Estimació parcial | R34: =IF('[1] 2025'!S$14 <>"",'[1] 2025'!S$14,"") | S34: ='[1] 2025'!T32 -> 45740 | T34: =IF('[1] 2025'!U32 <>"",'[1] 2025'!U32,"") | U34: =IF('[1] 2025'!V32 <>"",'[1] 2025'!V32,"") | V34: =IF('[1] 2025'!W$14 <>"",'[1] 2025'!W$14,"") | W34: =IF('[1] 2025'!X$14 <>"",'[1] 2025'!X$14,"")
B35: =IF('[1] 2025'!C33 <>"",'[1] 2025'!C33,"") -> 2966 | C35: =IF('[1] 2025'!D33 <>"",'[1] 2025'!D33,"") -> 45692 | D35: =IF('[1] 2025'!E33 <>"",'[1] 2025'!E33,"") -> 45720 | E35: =IF('[1] 2025'!F33 <>"",'[1] 2025'!F33,"") -> 48 | F35: =IF('[1] 2025'!G33 <>"",'[1] 2025'!G33,"") -> Demora en la tramitació | G35: =IF('[1] 2025'!H33 <>"",'[1] 2025'!H33,"") -> Seguretat ciutadana i civisme | H35: =IF('[1] 2025'!I33 <>"",'[1] 2025'!I33,"") -> Persona jurídica | I35: ='[1] 2025'!J33 -> Català | J35: ='[1] 2025'!K33 -> Electrònic | K35: ='[1] 2025'!L33 -> Sol.licitud de les sancions imposades durant l´any 2024 per conductes incíviques al Cap Salou. | L35: ='[1] 2025'!M33 -> 9 | M35: ='[1] 2025'!N33 -> Sí | N35: =IF('[1] 2025'!O33 <>"",'[1] 2025'!O33,"") | O35: =IF('[1] 2025'!P33 <>"",'[1] 2025'!P33,"") | P35: ='[1] 2025'!Q33 -> 45740 | Q35: =IF('[1] 2025'!R33 <>"",'[1] 2025'!R33,"") -> Inadmissió | R35: Art. 29.1.b) LTC | T35: =IF('[1] 2025'!U33 <>"",'[1] 2025'!U33,"") | U35: =IF('[1] 2025'!V33 <>"",'[1] 2025'!V33,"") | V35: =IF('[1] 2025'!W$14 <>"",'[1] 2025'!W$14,"") | W35: =IF('[1] 2025'!X$14 <>"",'[1] 2025'!X$14,"")
B36: =IF('[1] 2025'!C34 <>"",'[1] 2025'!C34,"") -> 3112 | C36: =IF('[1] 2025'!D34 <>"",'[1] 2025'!D34,"") -> 45694 | D36: =IF('[1] 2025'!E34 <>"",'[1] 2025'!E34,"") -> 45722 | E36: =IF('[1] 2025'!F34 <>"",'[1] 2025'!F34,"") -> 15 | F36: =IF('[1] 2025'!G34 <>"",'[1] 2025'!G34,"") | G36: =IF('[1] 2025'!H34 <>"",'[1] 2025'!H34,"") -> Estadística | H36: =IF('[1] 2025'!I34 <>"",'[1] 2025'!I34,"") -> Home | I36: ='[1] 2025'!J34 -> Castellà | J36: ='[1] 2025'!K34 -> Electrònic | K36: ='[1] 2025'!L34 -> Sol·licitud del full padronal d'una persona. | L36: ='[1] 2025'!M34 -> 14 | M36: ='[1] 2025'!N34 -> Sí | N36: =IF('[1] 2025'!O34 <>"",'[1] 2025'!O34,"") | O36: =IF('[1] 2025'!P34 <>"",'[1] 2025'!P34,"") | P36: ='[1] 2025'!Q34 -> 45709 | Q36: =IF('[1] 2025'!R34 <>"",'[1] 2025'!R34,"") -> Estimació | R36: =IF('[1] 2025'!S$14 <>"",'[1] 2025'!S$14,"") | S36: ='[1] 2025'!T34 -> 45709 | T36: =IF('[1] 2025'!U34 <>"",'[1] 2025'!U34,"") | U36: =IF('[1] 2025'!V34 <>"",'[1] 2025'!V34,"") | V36: =IF('[1] 2025'!W$14 <>"",'[1] 2025'!W$14,"") | W36: =IF('[1] 2025'!X$14 <>"",'[1] 2025'!X$14,"")
B37: =IF('[1] 2025'!C35 <>"",'[1] 2025'!C35,"") -> 3206 | C37: =IF('[1] 2025'!D35 <>"",'[1] 2025'!D35,"") -> 45694 | D37: =IF('[1] 2025'!E35 <>"",'[1] 2025'!E35,"") -> 45722 | E37: =IF('[1] 2025'!F35 <>"",'[1] 2025'!F35,"") -> 21 | F37: =IF('[1] 2025'!G35 <>"",'[1] 2025'!G35,"") | G37: =IF('[1] 2025'!H35 <>"",'[1] 2025'!H35,"") -> Urbanisme i activitats | H37: =IF('[1] 2025'!I35 <>"",'[1] 2025'!I35,"") -> Persona jurídica | I37: ='[1] 2025'!J35 -> Castellà | J37: ='[1] 2025'!K35 -> Electrònic | K37: ='[1] 2025'!L35 -> Sol·licitud de revisió de l'expedient de construcció de l'edifici CPP Castilla II i expedient d'activitats del parquing. | L37: ='[1] 2025'!M35 -> 12 | M37: ='[1] 2025'!N35 -> Sí | N37: =IF('[1] 2025'!O35 <>"",'[1] 2025'!O35,"") | O37: =IF('[1] 2025'!P35 <>"",'[1] 2025'!P35,"") | P37: ='[1] 2025'!Q35 -> 45715 | Q37: =IF('[1] 2025'!R35 <>"",'[1] 2025'!R35,"") -> Estimació | R37: =IF('[1] 2025'!S$14 <>"",'[1] 2025'!S$14,"") | S37: ='[1] 2025'!T35 -> 45715 | T37: =IF('[1] 2025'!U35 <>"",'[1] 2025'!U35,"") | U37: =IF('[1] 2025'!V35 <>"",'[1] 2025'!V35,"") | V37: =IF('[1] 2025'!W$14 <>"",'[1] 2025'!W$14,"") | W37: =IF('[1] 2025'!X$14 <>"",'[1] 2025'!X$14,"")
B38: =IF('[1] 2025'!C36 <>"",'[1] 2025'!C36,"") -> 3357 | C38: =IF('[1] 2025'!D36 <>"",'[1] 2025'!D36,"") -> 45698 | D38: =IF('[1] 2025'!E36 <>"",'[1] 2025'!E36,"") -> 45726 | E38: =IF('[1] 2025'!F36 <>"",'[1] 2025'!F36,"") -> 31 | F38: =IF('[1] 2025'!G36 <>"",'[1] 2025'!G36,"") -> La informació es trasllada a la Unitat de Govern Obert amb retràs | G38: =IF('[1] 2025'!H36 <>"",'[1] 2025'!H36,"") -> Concessions | H38: =IF('[1] 2025'!I36 <>"",'[1] 2025'!I36,"") -> Dona | I38: ='[1] 2025'!J36 -> Català | J38: ='[1] 2025'!K36 -> Presencial | K38: ='[1] 2025'!L36 -> Sol·licitud d'informació per conèixer si hi ha col·lectors d'aigües pluvials, si va amb xarxa de clavegueram dels c/ Navarra, Rioja i Prat d'en Carbó i plànol de la zona. | L38: ='[1] 2025'!M36 -> 7 | M38: ='[1] 2025'!N36 -> Sí | N38: =IF('[1] 2025'!O36 <>"",'[1] 2025'!O36,"") | O38: =IF('[1] 2025'!P36 <>"",'[1] 2025'!P36,"") | P38: ='[1] 2025'!Q36 -> 45729 | Q38: =IF('[1] 2025'!R36 <>"",'[1] 2025'!R36,"") -> Estimació | R38: =IF('[1] 2025'!S$14 <>"",'[1] 2025'!S$14,"") | S38: ='[1] 2025'!T36 -> 45729 | T38: =IF('[1] 2025'!U36 <>"",'[1] 2025'!U36,"") | U38: =IF('[1] 2025'!V36 <>"",'[1] 2025'!V36,"") | V38: =IF('[1] 2025'!W$14 <>"",'[1] 2025'!W$14,"") | W38: =IF('[1] 2025'!X$14 <>"",'[1] 2025'!X$14,"")
B39: =IF('[1] 2025'!C37 <>"",'[1] 2025'!C37,"") -> 3400 | C39: =IF('[1] 2025'!D37 <>"",'[1] 2025'!D37,"") -> 45698 | D39: =IF('[1] 2025'!E37 <>"",'[1] 2025'!E37,"") -> 45726 | E39: =IF('[1] 2025'!F37 <>"",'[1] 2025'!F37,"") -> 37 | F39: =IF('[1] 2025'!G37 <>"",'[1] 2025'!G37,"") -> Entrada a la Unitat de Govern Obert en data 17/2/2025 | G39: =IF('[1] 2025'!H37 <>"",'[1] 2025'!H37,"") -> Urbanisme | H39: =IF('[1] 2025'!I37 <>"",'[1] 2025'!I37,"") -> Dona | I39: ='[1] 2025'!J37 -> Català | J39: ='[1] 2025'!K37 -> Electrònic | K39: ='[1] 2025'!L37 -> Sol·licitud per consultar el projecte d'execució Edifici Santolea (C. Rosa Sensat, núm. 24-26). | L39: ='[1] 2025'!M37 -> 12 | M39: ='[1] 2025'!N37 -> Sí | N39: =IF('[1] 2025'!O37 <>"",'[1] 2025'!O37,"") | O39: =IF('[1] 2025'!P37 <>"",'[1] 2025'!P37,"") | P39: ='[1] 2025'!Q37 -> 45735 | Q39: =IF('[1] 2025'!R37 <>"",'[1] 2025'!R37,"") -> Estimació | R39: =IF('[1] 2025'!S$14 <>"",'[1] 2025'!S$14,"") | S39: ='[1] 2025'!T37 -> 45735 | T39: =IF('[1] 2025'!U37 <>"",'[1] 2025'!U37,"") | U39: =IF('[1] 2025'!V37 <>"",'[1] 2025'!V37,"") | V39: =IF('[1] 2025'!W$14 <>"",'[1] 2025'!W$14,"") | W39: =IF('[1] 2025'!X$14 <>"",'[1] 2025'!X$14,"")
B40: =IF('[1] 2025'!C38 <>"",'[1] 2025'!C38,"") -> 3491 | C40: =IF('[1] 2025'!D38 <>"",'[1] 2025'!D38,"") -> 45699 | D40: =IF('[1] 2025'!E38 <>"",'[1] 2025'!E38,"") -> 45727 | E40: =IF('[1] 2025'!F38 <>"",'[1] 2025'!F38,"") -> 24 | F40: =IF('[1] 2025'!G38 <>"",'[1] 2025'!G38,"") | G40: =IF('[1] 2025'!H38 <>"",'[1] 2025'!H38,"") -> Activitats | H40: =IF('[1] 2025'!I38 <>"",'[1] 2025'!I38,"") -> Home | I40: ='[1] 2025'!J38 -> Català | J40: ='[1] 2025'!K38 -> Electrònic | K40: ='[1] 2025'!L38 -> Sol·licitud de còpia de la llicència d'activitats d'un bar restaurant. | L40: ='[1] 2025'!M38 -> 13 | M40: ='[1] 2025'!N38 -> Sí | N40: =IF('[1] 2025'!O38 <>"",'[1] 2025'!O38,"") | O40: =IF('[1] 2025'!P38 <>"",'[1] 2025'!P38,"") | P40: ='[1] 2025'!Q38 -> 45723 | Q40: =IF('[1] 2025'!R38 <>"",'[1] 2025'!R38,"") -> Estimació | R40: =IF('[1] 2025'!S$14 <>"",'[1] 2025'!S$14,"") | S40: ='[1] 2025'!T38 -> 45723 | T40: =IF('[1] 2025'!U38 <>"",'[1] 2025'!U38,"") | U40: =IF('[1] 2025'!V38 <>"",'[1] 2025'!V38,"") | V40: =IF('[1] 2025'!W$14 <>"",'[1] 2025'!W$14,"") | W40: =IF('[1] 2025'!X$14 <>"",'[1] 2025'!X$14,"")
B41: =IF('[1] 2025'!C39 <>"",'[1] 2025'!C39,"") -> 3500 | C41: =IF('[1] 2025'!D39 <>"",'[1] 2025'!D39,"") -> 45699 | D41: =IF('[1] 2025'!E39 <>"",'[1] 2025'!E39,"") -> 45727 | E41: =IF('[1] 2025'!F39 <>"",'[1] 2025'!F39,"") -> 13 | F41: =IF('[1] 2025'!G39 <>"",'[1] 2025'!G39,"") | G41: =IF('[1] 2025'!H39 <>"",'[1] 2025'!H39,"") -> Activitats | H41: =IF('[1] 2025'!I39 <>"",'[1] 2025'!I39,"") -> Home | I41: ='[1] 2025'!J39 -> Castellà | J41: ='[1] 2025'!K39 -> Presencial | K41: ='[1] 2025'!L39 -> Sol.licitud de còpia de la llicència d'activitats del parquing de l'edifici situat al Passatge Brumar. | L41: ='[1] 2025'!M39 -> 13 | M41: ='[1] 2025'!N39 -> Sí | N41: =IF('[1] 2025'!O39 <>"",'[1] 2025'!O39,"") | O41: =IF('[1] 2025'!P39 <>"",'[1] 2025'!P39,"") | P41: ='[1] 2025'!Q39 -> 45712 | Q41: =IF('[1] 2025'!R39 <>"",'[1] 2025'!R39,"") -> Estimació | R41: =IF('[1] 2025'!S$14 <>"",'[1] 2025'!S$14,"") | S41: ='[1] 2025'!T39 -> 45712 | T41: =IF('[1] 2025'!U39 <>"",'[1] 2025'!U39,"") | U41: =IF('[1] 2025'!V39 <>"",'[1] 2025'!V39,"") | V41: =IF('[1] 2025'!W$14 <>"",'[1] 2025'!W$14,"") | W41: =IF('[1] 2025'!X$14 <>"",'[1] 2025'!X$14,"")
B42: =IF('[1] 2025'!C40 <>"",'[1] 2025'!C40,"") -> 3951 | C42: =IF('[1] 2025'!D40 <>"",'[1] 2025'!D40,"") -> 45705 | D42: =IF('[1] 2025'!E40 <>"",'[1] 2025'!E40,"") -> 45733 | E42: =IF('[1] 2025'!F40 <>"",'[1] 2025'!F40,"") -> 30 | F42: =IF('[1] 2025'!G40 <>"",'[1] 2025'!G40,"") | G42: =IF('[1] 2025'!H40 <>"",'[1] 2025'!H40,"") -> Urbanisme | H42: =IF('[1] 2025'!I40 <>"",'[1] 2025'!I40,"") -> Dona | I42: ='[1] 2025'!J40 -> Català | J42: ='[1] 2025'!K40 -> Electrònic | K42: ='[1] 2025'!L40 -> Sol·licitud del projecte executiu, així com, els plànols, documentació As-built i primera ocupació de l'Edifici ABC de Salou. | L42: ='[1] 2025'!M40 -> 12 | M42: ='[1] 2025'!N40 -> Sí | N42: =IF('[1] 2025'!O40 <>"",'[1] 2025'!O40,"") | O42: =IF('[1] 2025'!P40 <>"",'[1] 2025'!P40,"") | P42: ='[1] 2025'!Q40 -> 45735 | Q42: =IF('[1] 2025'!R40 <>"",'[1] 2025'!R40,"") -> Estimació | R42: =IF('[1] 2025'!S$14 <>"",'[1] 2025'!S$14,"") | S42: ='[1] 2025'!T40 -> 45735 | T42: =IF('[1] 2025'!U40 <>"",'[1] 2025'!U40,"") | U42: =IF('[1] 2025'!V40 <>"",'[1] 2025'!V40,"") | V42: =IF('[1] 2025'!W$14 <>"",'[1] 2025'!W$14,"") | W42: =IF('[1] 2025'!X$14 <>"",'[1] 2025'!X$14,"")
B43: =IF('[1] 2025'!C41 <>"",'[1] 2025'!C41,"") -> 3956 | C43: =IF('[1] 2025'!D41 <>"",'[1] 2025'!D41,"") -> 45705 | D43: =IF('[1] 2025'!E41 <>"",'[1] 2025'!E41,"") -> 45733 | E43: =IF('[1] 2025'!F41 <>"",'[1] 2025'!F41,"") -> 16 | F43: =IF('[1] 2025'!G41 <>"",'[1] 2025'!G41,"") | G43: =IF('[1] 2025'!H41 <>"",'[1] 2025'!H41,"") -> Personal i processos selectius | H43: =IF('[1] 2025'!I41 <>"",'[1] 2025'!I41,"") -> Home | I43: ='[1] 2025'!J41 -> Castellà | J43: ='[1] 2025'!K41 -> Electrònic | K43: ='[1] 2025'!L41 -> Sol·licitud dels exàmens teòrics i de cultura general de policia local d'anteriors convocatòries. | L43: ='[1] 2025'!M41 -> 4 | M43: ='[1] 2025'!N41 -> Sí | N43: =IF('[1] 2025'!O41 <>"",'[1] 2025'!O41,"") | O43: =IF('[1] 2025'!P41 <>"",'[1] 2025'!P41,"") | P43: ='[1] 2025'!Q41 -> 45721 | Q43: =IF('[1] 2025'!R41 <>"",'[1] 2025'!R41,"") -> Estimació | R43: =IF('[1] 2025'!S$14 <>"",'[1] 2025'!S$14,"") | S43: ='[1] 2025'!T41 -> 45721 | T43: =IF('[1] 2025'!U41 <>"",'[1] 2025'!U41,"") | U43: =IF('[1] 2025'!V41 <>"",'[1] 2025'!V41,"") | V43: =IF('[1] 2025'!W$14 <>"",'[1] 2025'!W$14,"") | W43: =IF('[1] 2025'!X$14 <>"",'[1] 2025'!X$14,"")
B44: =IF('[1] 2025'!C42 <>"",'[1] 2025'!C42,"") -> 4053 | C44: =IF('[1] 2025'!D42 <>"",'[1] 2025'!D42,"") -> 45705 | D44: =IF('[1] 2025'!E42 <>"",'[1] 2025'!E42,"") -> 45733 | E44: =IF('[1] 2025'!F42 <>"",'[1] 2025'!F42,"") -> 10 | F44: =IF('[1] 2025'!G42 <>"",'[1] 2025'!G42,"") | G44: =IF('[1] 2025'!H42 <>"",'[1] 2025'!H42,"") -> Personal i processos selectius | H44: =IF('[1] 2025'!I42 <>"",'[1] 2025'!I42,"") -> Home | I44: ='[1] 2025'!J42 -> Castellà | J44: ='[1] 2025'!K42 -> Electrònic | K44: ='[1] 2025'!L42 -> Sol·licitud dels exàmens teòrics, de cultura general i pràctics de policia local d'anteriors convocatòries. | L44: ='[1] 2025'!M42 -> 4 | M44: ='[1] 2025'!N42 -> Sí | N44: =IF('[1] 2025'!O42 <>"",'[1] 2025'!O42,"") | O44: =IF('[1] 2025'!P42 <>"",'[1] 2025'!P42,"") | P44: ='[1] 2025'!Q42 -> 45715 | Q44: =IF('[1] 2025'!R42 <>"",'[1] 2025'!R42,"") -> Estimació | R44: =IF('[1] 2025'!S$14 <>"",'[1] 2025'!S$14,"") | S44: ='[1] 2025'!T42 -> 45715 | T44: =IF('[1] 2025'!U42 <>"",'[1] 2025'!U42,"") | U44: =IF('[1] 2025'!V42 <>"",'[1] 2025'!V42,"") | V44: =IF('[1] 2025'!W$14 <>"",'[1] 2025'!W$14,"") | W44: =IF('[1] 2025'!X$14 <>"",'[1] 2025'!X$14,"")
B45: =IF('[1] 2025'!C43 <>"",'[1] 2025'!C43,"") -> 4065 | C45: =IF('[1] 2025'!D43 <>"",'[1] 2025'!D43,"") -> 45705 | D45: =IF('[1] 2025'!E43 <>"",'[1] 2025'!E43,"") -> 45733 | E45: =IF('[1] 2025'!F43 <>"",'[1] 2025'!F43,"") -> 9 | F45: =IF('[1] 2025'!G43 <>"",'[1] 2025'!G43,"") | G45: =IF('[1] 2025'!H43 <>"",'[1] 2025'!H43,"") -> Estadística, i Patronat de Turisme | H45: =IF('[1] 2025'!I43 <>"",'[1] 2025'!I43,"") -> Home | I45: ='[1] 2025'!J43 -> Català | J45: ='[1] 2025'!K43 -> Electrònic | K45: ='[1] 2025'!L43 -> Sol·licitud del cens poblacional de Salou, agrupat per barris; del nombre de places hoteleres i de càmping i del nombre d'habitatges de segona residència. | L45: ='[1] 2025'!M43 -> 13 | M45: ='[1] 2025'!N43 -> Sí | N45: =IF('[1] 2025'!O43 <>"",'[1] 2025'!O43,"") | O45: =IF('[1] 2025'!P43 <>"",'[1] 2025'!P43,"") | P45: ='[1] 2025'!Q43 -> 45714 | Q45: =IF('[1] 2025'!R43 <>"",'[1] 2025'!R43,"") -> Estimació | R45: =IF('[1] 2025'!S$14 <>"",'[1] 2025'!S$14,"") | S45: ='[1] 2025'!T43 -> 45714 | T45: =IF('[1] 2025'!U43 <>"",'[1] 2025'!U43,"") | U45: =IF('[1] 2025'!V43 <>"",'[1] 2025'!V43,"") | V45: =IF('[1] 2025'!W$14 <>"",'[1] 2025'!W$14,"") | W45: =IF('[1] 2025'!X$14 <>"",'[1] 2025'!X$14,"")
B46: =IF('[1] 2025'!C44 <>"",'[1] 2025'!C44,"") -> 4183 | C46: =IF('[1] 2025'!D44 <>"",'[1] 2025'!D44,"") -> 45706 | D46: =IF('[1] 2025'!E44 <>"",'[1] 2025'!E44,"") -> 45734 | E46: =IF('[1] 2025'!F44 <>"",'[1] 2025'!F44,"") -> 31 | F46: =IF('[1] 2025'!G44 <>"",'[1] 2025'!G44,"") -> Demora en la tramitació | G46: =IF('[1] 2025'!H44 <>"",'[1] 2025'!H44,"") -> Urbanisme | H46: =IF('[1] 2025'!I44 <>"",'[1] 2025'!I44,"") -> Dona | I46: ='[1] 2025'!J44 -> Castellà | J46: ='[1] 2025'!K44 -> Electrònic | K46: ='[1] 2025'!L44 -> Sol·licitud d'informació de la instal·lació d'una antena de telefonia mòbil situada darrera del carrer Niu del Àguila de Vilafortuny. | L46: ='[1] 2025'!M44 -> 12 | M46: ='[1] 2025'!N44 -> Sí | N46: =IF('[1] 2025'!O44 <>"",'[1] 2025'!O44,"") | O46: =IF('[1] 2025'!P44 <>"",'[1] 2025'!P44,"") | P46: ='[1] 2025'!Q44 -> 45737 | Q46: =IF('[1] 2025'!R44 <>"",'[1] 2025'!R44,"") -> Estimació | R46: =IF('[1] 2025'!S$14 <>"",'[1] 2025'!S$14,"") | S46: ='[1] 2025'!T44 -> 45737 | T46: =IF('[1] 2025'!U44 <>"",'[1] 2025'!U44,"") | U46: =IF('[1] 2025'!V44 <>"",'[1] 2025'!V44,"") | V46: =IF('[1] 2025'!W$14 <>"",'[1] 2025'!W$14,"") | W46: =IF('[1] 2025'!X$14 <>"",'[1] 2025'!X$14,"")
B47: =IF('[1] 2025'!C45 <>"",'[1] 2025'!C45,"") -> 4203 | C47: =IF('[1] 2025'!D45 <>"",'[1] 2025'!D45,"") -> 45706 | D47: =IF('[1] 2025'!E45 <>"",'[1] 2025'!E45,"") -> 45734 | E47: =IF('[1] 2025'!F45 <>"",'[1] 2025'!F45,"") -> 10 | F47: =IF('[1] 2025'!G45 <>"",'[1] 2025'!G45,"") | G47: =IF('[1] 2025'!H45 <>"",'[1] 2025'!H45,"") -> Urbanisme | H47: =IF('[1] 2025'!I45 <>"",'[1] 2025'!I45,"") -> Home | I47: ='[1] 2025'!J45 -> Castellà | J47: ='[1] 2025'!K45 -> Presencial | K47: ='[1] 2025'!L45 -> Sol·licitud dels plànols del pàrquing de l'edifici Molins 1, C/ Barcelona, núm. 28. | L47: ='[1] 2025'!M45 -> 12 | M47: ='[1] 2025'!N45 -> Sí | N47: =IF('[1] 2025'!O45 <>"",'[1] 2025'!O45,"") | O47: =IF('[1] 2025'!P45 <>"",'[1] 2025'!P45,"") | P47: ='[1] 2025'!Q45 -> 45716 | Q47: =IF('[1] 2025'!R45 <>"",'[1] 2025'!R45,"") -> Estimació | R47: =IF('[1] 2025'!S$14 <>"",'[1] 2025'!S$14,"") | S47: ='[1] 2025'!T45 -> 45716 | T47: =IF('[1] 2025'!U45 <>"",'[1] 2025'!U45,"") | U47: =IF('[1] 2025'!V45 <>"",'[1] 2025'!V45,"") | V47: =IF('[1] 2025'!W$14 <>"",'[1] 2025'!W$14,"") | W47: =IF('[1] 2025'!X$14 <>"",'[1] 2025'!X$14,"")
... B60: =IF('[1] 2025'!C58 <>"",'[1] 2025'!C58,"") -> 7197 | C60: =IF('[1] 2025'!D58 <>"",'[1] 2025'!D58,"") -> 45735 | D60: =IF('[1] 2025'!E58 <>"",'[1] 2025'!E58,"") -> 45766 | E60: =IF('[1] 2025'!F58 <>"",'[1] 2025'!F58,"") -> 8 | F60: =IF('[1] 2025'!G58 <>"",'[1] 2025'!G58,"") | G60: =IF('[1] 2025'!H58 <>"",'[1] 2025'!H58,"") -> Personal i processos selectius | H60: =IF('[1] 2025'!I58 <>"",'[1] 2025'!I58,"") -> Persona jurídica | I60: ='[1] 2025'!J58 -> Català | J60: ='[1] 2025'!K58 -> Electrònic | K60: ='[1] 2025'!L58 -> Sol·licitud de l'expedient complert de l'aprovació inicial de modificació del teletreball. | L60: ='[1] 2025'!M58 -> 4 | M60: ='[1] 2025'!N58 -> Sí | N60: =IF('[1] 2025'!O58 <>"",'[1] 2025'!O58,"") | O60: =IF('[1] 2025'!P58 <>"",'[1] 2025'!P58,"") | P60: ='[1] 2025'!Q58 -> 45743 | Q60: =IF('[1] 2025'!R58 <>"",'[1] 2025'!R58,"") -> Estimació | R60: =IF('[1] 2025'!S$14 <>"",'[1] 2025'!S$14,"") | S60: ='[1] 2025'!T58 -> 45743 | T60: =IF('[1] 2025'!U58 <>"",'[1] 2025'!U58,"") | U60: =IF('[1] 2025'!V58 <>"",'[1] 2025'!V58,"") | V60: =IF('[1] 2025'!W$14 <>"",'[1] 2025'!W$14,"") | W60: =IF('[1] 2025'!X$14 <>"",'[1] 2025'!X$14,"")
B61: =IF('[1] 2025'!C59 <>"",'[1] 2025'!C59,"") -> 7762 | C61: =IF('[1] 2025'!D59 <>"",'[1] 2025'!D59,"") -> 45741 | D61: =IF('[1] 2025'!E59 <>"",'[1] 2025'!E59,"") -> 45772 | E61: =IF('[1] 2025'!F59 <>"",'[1] 2025'!F59,"") -> 7 | F61: =IF('[1] 2025'!G59 <>"",'[1] 2025'!G59,"") | G61: =IF('[1] 2025'!H59 <>"",'[1] 2025'!H59,"") -> Personal i processos selectius | H61: =IF('[1] 2025'!I59 <>"",'[1] 2025'!I59,"") -> Dona | I61: ='[1] 2025'!J59 -> Català | J61: ='[1] 2025'!K59 -> Electrònic | K61: ='[1] 2025'!L59 -> Sol·licitud a les proves pràctiques i/o de desenvolupament del cos de gestió del Patronat de Turisme. | L61: ='[1] 2025'!M59 -> 4 | M61: ='[1] 2025'!N59 -> Sí | N61: =IF('[1] 2025'!O59 <>"",'[1] 2025'!O59,"") | O61: =IF('[1] 2025'!P59 <>"",'[1] 2025'!P59,"") | P61: ='[1] 2025'!Q59 -> 45748 | Q61: =IF('[1] 2025'!R59 <>"",'[1] 2025'!R59,"") -> Inadmissió | R61: Art. 29.1.b) LTC | T61: =IF('[1] 2025'!U59 <>"",'[1] 2025'!U59,"") | U61: =IF('[1] 2025'!V59 <>"",'[1] 2025'!V59,"") | V61: =IF('[1] 2025'!W$14 <>"",'[1] 2025'!W$14,"") | W61: =IF('[1] 2025'!X$14 <>"",'[1] 2025'!X$14,"")
...

Sheet 2026
C3: Informació estadística peticions dret d'accés a la informació pública any 2025
B5: Tipologia
B6: 1 | C6: Informació institucional i organitzativa | D6: 9 | E6: Seguretat ciutadana i civisme
B7: 2 | C7: Acció de govern i normativa | D7: 10 | E7: Salut pública
B8: 3 | C8: Plans, programes i memòries | D8: 11 | E8: Serveis Socials
B9: 4 | C9: Personal i processos selectius | D9: 12 | E9: Urbanisme
B10: 5 | C10: Contractes, convenis i subvencions | D10: 13 | E10: Activitats
B11: 6 | C11: Gestió econòmica, comptable, pressupostària i patrimonial | D11: 14 | E11: Altra informació
B12: 7 | C12: Gestió de serveis públics
B13: 8 | C13: Canals i mecanismes de participació ciutadana
B15: =+'[1] 2025'!C13 -> Entrada petició | C15: =+'[1] 2025'!D13 -> Data de la SAIP | D15: =+'[1] 2025'!E13 -> Dies ad quem | E15: =+'[1] 2025'!F13 -> Termini | F15: ='[1] 2025'!$G$13 -> Causa de l'incompliment del termini màxim per resoldre | G15: Unitat responsable de la informació | H15: Perfil | I15: Idioma | J15: Canal | K15: Extracte petició | L15: Tipologia | M15: Avís 10 dies | N15: Audiència | O15: Al·legacions | P15: Data notificació resolució/comunicació | Q15: Sentit | R15: Motivació | S15: Data posada a disposició de la documentació | T15: Recurs de reposició | U15: Resolució del recurs | V15: Reclamació davant la GAIP | W15: Sentit de la reclamació
B16: =IF('[1]2026'!C14<>"",'[1]2026'!C14,"") -> 38605 | C16: =IF('[1]2026'!D14<>"",'[1]2026'!D14,"") -> 46020 | D16: =IF('[1]2026'!E14<>"",'[1]2026'!E14,"") -> 46051 | E16: =IF('[1]2026'!F14<>"",'[1]2026'!F14,"") -> 65 | F16: =IF('[1]2026'!G14<>"",'[1]2026'!G14,"") -> Entrada a la Unitat de Govern Obert en data 22/01/2025 | G16: =IF('[1]2026'!H14<>"",'[1]2026'!H14,"") -> Activitats | H16: =IF('[1]2026'!I14<>"",'[1]2026'!I14,"") -> Home | I16: =IF('[1]2026'!J14<>"",'[1]2026'!J14,"") -> Castellà | ... W16: =IF('[1]2026'!X14<>"",'[1]2026'!X14,"")
B17: =IF('[1]2026'!C15<>"",'[1]2026'!C15,"") -> 559 | C17: =IF('[1]2026'!D15<>"",'[1]2026'!D15,"") -> 46031 | D17: =IF('[1]2026'!E15<>"",'[1]2026'!E15,"") -> 46062 | E17: =IF('[1]2026'!F15<>"",'[1]2026'!F15,"") -> 18 | F17: =IF('[1]2026'!G15<>"",'[1]2026'!G15,"") | G17: =IF('[1]2026'!H15<>"",'[1]2026'!H15,"") -> Personal i processos selectius | H17: =IF('[1]2026'!I15<>"",'[1]2026'!I15,"") -> Dona | I17: =IF('[1]2026'!J15<>"",'[1]2026'!J15,"") -> Català | ... W17: =IF('[1]2026'!X15<>"",'[1]2026'!X15,"")
B18: =IF('[1]2026'!C16<>"",'[1]2026'!C16,"") -> 955 | C18: =IF('[1]2026'!D16<>"",'[1]2026'!D16,"") -> 46036 | D18: =IF('[1]2026'!E16<>"",'[1]2026'!E16,"") -> 46067 | E18: =IF('[1]2026'!F16<>"",'[1]2026'!F16,"") -> 9 | F18: =IF('[1]2026'!G16<>"",'[1]2026'!G16,"") | G18: =IF('[1]2026'!H16<>"",'[1]2026'!H16,"") -> Activitats | H18: =IF('[1]2026'!I16<>"",'[1]2026'!I16,"") -> Home | I18: =IF('[1]2026'!J16<>"",'[1]2026'!J16,"") -> Català | ... W18: =IF('[1]2026'!X16<>"",'[1]2026'!X16,"")
B19: =IF('[1]2026'!C17<>"",'[1]2026'!C17,"") -> 1755 | C19: =IF('[1]2026'!D17<>"",'[1]2026'!D17,"") -> 46044 | D19: =IF('[1]2026'!E17<>"",'[1]2026'!E17,"") -> 46075 | E19: =IF('[1]2026'!F17<>"",'[1]2026'!F17,"") -> 32 | F19: =IF('[1]2026'!G17<>"",'[1]2026'!G17,"") | G19: =IF('[1]2026'!H17<>"",'[1]2026'!H17,"") -> Activitats | H19: =IF('[1]2026'!I17<>"",'[1]2026'!I17,"") -> Home | I19: =IF('[1]2026'!J17<>"",'[1]2026'!J17,"") -> Castellà | ... W19: =IF('[1]2026'!X17<>"",'[1]2026'!X17,"")
B20: =IF('[1]2026'!C18<>"",'[1]2026'!C18,"") -> 2983 | C20: =IF('[1]2026'!D18<>"",'[1]2026'!D18,"") -> 46057 | D20: =IF('[1]2026'!E18<>"",'[1]2026'!E18,"") -> 46085 | E20: =IF('[1]2026'!F18<>"",'[1]2026'!F18,"") -> 41 | F20: =IF('[1]2026'!G18<>"",'[1]2026'!G18,"") | G20: =IF('[1]2026'!H18<>"",'[1]2026'!H18,"") -> Activitats | H20: =IF('[1]2026'!I18<>"",'[1]2026'!I18,"") -> Persona jurídica | I20: =IF('[1]2026'!J18<>"",'[1]2026'!J18,"") -> Català | ... W20: =IF('[1]2026'!X18<>"",'[1]2026'!X18,"")
B21: =IF('[1]2026'!C19<>"",'[1]2026'!C19,"") -> 3072 | C21: =IF('[1]2026'!D19<>"",'[1]2026'!D19,"") -> 46057 | D21: =IF('[1]2026'!E19<>"",'[1]2026'!E19,"") -> 46085 | E21: =IF('[1]2026'!F19<>"",'[1]2026'!F19,"") -> 28 | F21: =IF('[1]2026'!G19<>"",'[1]2026'!G19,"") | G21: =IF('[1]2026'!H19<>"",'[1]2026'!H19,"") -> Canals i mecanismes de participació ciutadana | H21: =IF('[1]2026'!I19<>"",'[1]2026'!I19,"") -> Dona | I21: =IF('[1]2026'!J19<>"",'[1]2026'!J19,"") -> Català | ... W21: =IF('[1]2026'!X19<>"",'[1]2026'!X19,"")
B22: =IF('[1]2026'!C20<>"",'[1]2026'!C20,"") -> 3192 | C22: =IF('[1]2026'!D20<>"",'[1]2026'!D20,"") -> 46058 | D22: =IF('[1]2026'!E20<>"",'[1]2026'!E20,"") -> 46086 | E22: =IF('[1]2026'!F20<>"",'[1]2026'!F20,"") -> -46058 | F22: =IF('[1]2026'!G20<>"",'[1]2026'!G20,"") | G22: =IF('[1]2026'!H20<>"",'[1]2026'!H20,"") -> Activitats | H22: =IF('[1]2026'!I20<>"",'[1]2026'!I20,"") -> Persona jurídica | I22: =IF('[1]2026'!J20<>"",'[1]2026'!J20,"") -> Català | ... W22: =IF('[1]2026'!X20<>"",'[1]2026'!X20,"")
B23: =IF('[1]2026'!C21<>"",'[1]2026'!C21,"") -> 3926 | C23: =IF('[1]2026'!D21<>"",'[1]2026'!D21,"") -> 46066 | D23: =IF('[1]2026'!E21<>"",'[1]2026'!E21,"") -> 46094 | E23: =IF('[1]2026'!F21<>"",'[1]2026'!F21,"") -> 25 | F23: =IF('[1]2026'!G21<>"",'[1]2026'!G21,"") | G23: =IF('[1]2026'!H21<>"",'[1]2026'!H21,"") -> Oficina de Planificació i Gestió | H23: =IF('[1]2026'!I21<>"",'[1]2026'!I21,"") -> Persona jurídica | I23: =IF('[1]2026'!J21<>"",'[1]2026'!J21,"") -> Català | ... W23: =IF('[1]2026'!X21<>"",'[1]2026'!X21,"")
B24: =IF('[1]2026'!C22<>"",'[1]2026'!C22,"") -> 4575 | C24: =IF('[1]2026'!D22<>"",'[1]2026'!D22,"") -> 46073 | D24: =IF('[1]2026'!E22<>"",'[1]2026'!E22,"") -> 46101 | E24: =IF('[1]2026'!F22<>"",'[1]2026'!F22,"") -> 27 | F24: =IF('[1]2026'!G22<>"",'[1]2026'!G22,"") | G24: =IF('[1]2026'!H22<>"",'[1]2026'!H22,"") -> Patrimoni | H24: =IF('[1]2026'!I22<>"",'[1]2026'!I22,"") -> Home | I24: =IF('[1]2026'!J22<>"",'[1]2026'!J22,"") -> Català | ... W24: =IF('[1]2026'!X22<>"",'[1]2026'!X22,"")
B25: =IF('[1]2026'!C23<>"",'[1]2026'!C23,"") -> 5217 | C25: =IF('[1]2026'!D23<>"",'[1]2026'!D23,"") -> 46079 | D25: =IF('[1]2026'!E23<>"",'[1]2026'!E23,"") -> 46107 | E25: =IF('[1]2026'!F23<>"",'[1]2026'!F23,"") -> -46079 | F25: =IF('[1]2026'!G23<>"",'[1]2026'!G23,"") | G25: =IF('[1]2026'!H23<>"",'[1]2026'!H23,"") -> Personal i processos selectius | H25: =IF('[1]2026'!I23<>"",'[1]2026'!I23,"") -> Dona | I25: =IF('[1]2026'!J23<>"",'[1]2026'!J23,"") -> Català | ... W25: =IF('[1]2026'!X23<>"",'[1]2026'!X23,"")
B26: =IF('[1]2026'!C24<>"",'[1]2026'!C24,"") -> 5504 | C26: =IF('[1]2026'!D24<>"",'[1]2026'!D24,"") -> 46083 | D26: =IF('[1]2026'!E24<>"",'[1]2026'!E24,"") -> 46114 | E26: =IF('[1]2026'!F24<>"",'[1]2026'!F24,"") -> 11 | F26: =IF('[1]2026'!G24<>"",'[1]2026'!G24,"") | G26: =IF('[1]2026'!H24<>"",'[1]2026'!H24,"") -> Activitats | H26: =IF('[1]2026'!I24<>"",'[1]2026'!I24,"") -> Home | I26: =IF('[1]2026'!J24<>"",'[1]2026'!J24,"") -> Català | ... W26: =IF('[1]2026'!X24<>"",'[1]2026'!X24,"")
B27: =IF('[1]2026'!C25<>"",'[1]2026'!C25,"") -> 5778 | C27: =IF('[1]2026'!D25<>"",'[1]2026'!D25,"") -> 46085 | D27: =IF('[1]2026'!E25<>"",'[1]2026'!E25,"") -> 46116 | E27: =IF('[1]2026'!F25<>"",'[1]2026'!F25,"") -> -46085 | F27: =IF('[1]2026'!G25<>"",'[1]2026'!G25,"") | G27: =IF('[1]2026'!H25<>"",'[1]2026'!H25,"") -> Personal i processos selectius | H27: =IF('[1]2026'!I25<>"",'[1]2026'!I25,"") -> Persona jurídica | I27: =IF('[1]2026'!J25<>"",'[1]2026'!J25,"") -> Català | ... W27: =IF('[1]2026'!X25<>"",'[1]2026'!X25,"")
... B102: =IF('[1]2026'!C100<>"",'[1]2026'!C100,"") | C102: =IF('[1]2026'!D100<>"",'[1]2026'!D100,"") | D102: =IF('[1]2026'!E100<>"",'[1]2026'!E100,"") | E102: =IF('[1]2026'!F100<>"",'[1]2026'!F100,"") | F102: =IF('[1]2026'!G100<>"",'[1]2026'!G100,"") | G102: =IF('[1]2026'!H100<>"",'[1]2026'!H100,"") | H102: =IF('[1]2026'!I100<>"",'[1]2026'!I100,"") | I102: =IF('[1]2026'!J100<>"",'[1]2026'!J100,"") | ... W102: =IF('[1]2026'!X100<>"",'[1]2026'!X100,"")
B103: =IF('[1]2026'!C101<>"",'[1]2026'!C101,"") | C103: =IF('[1]2026'!D101<>"",'[1]2026'!D101,"") | D103: =IF('[1]2026'!E101<>"",'[1]2026'!E101,"") | E103: =IF('[1]2026'!F101<>"",'[1]2026'!F101,"") | F103: =IF('[1]2026'!G101<>"",'[1]2026'!G101,"") | G103: =IF('[1]2026'!H101<>"",'[1]2026'!H101,"")
C104: =IF('[1]2026'!D102<>"",'[1]2026'!D102,"") | D104: =IF('[1]2026'!E102<>"",'[1]2026'!E102,"") | E104: =IF('[1]2026'!F102<>"",'[1]2026'!F102,"") | F104: =IF('[1]2026'!G102<>"",'[1]2026'!G102,"") | G104: =IF('[1]2026'!H102<>"",'[1]2026'!H102,"")
C105: =IF('[1]2026'!D103<>"",'[1]2026'!D103,"") | D105: =IF('[1]2026'!E103<>"",'[1]2026'!E103,"") | E105: =IF('[1]2026'!F103<>"",'[1]2026'!F103,"") | F105: =IF('[1]2026'!G103<>"",'[1]2026'!G103,"") | G105: =IF('[1]2026'!H103<>"",'[1]2026'!H103,"")
C106: =IF('[1]2026'!D104<>"",'[1]2026'!D104,"") | D106: =IF('[1]2026'!E104<>"",'[1]2026'!E104,"") | E106: =IF('[1]2026'!F104<>"",'[1]2026'!F104,"") | F106: =IF('[1]2026'!G104<>"",'[1]2026'!G104,"") | G106: =IF('[1]2026'!H104<>"",'[1]2026'!H104,"")
C107: =IF('[1]2026'!D105<>"",'[1]2026'!D105,"") | D107: =IF('[1]2026'!E105<>"",'[1]2026'!E105,"") | E107: =IF('[1]2026'!F105<>"",'[1]2026'!F105,"") | F107: =IF('[1]2026'!G105<>"",'[1]2026'!G105,"") | G107: =IF('[1]2026'!H105<>"",'[1]2026'!H105,"")
C108: =IF('[1]2026'!D106<>"",'[1]2026'!D106,"") | D108: =IF('[1]2026'!E106<>"",'[1]2026'!E106,"") | E108: =IF('[1]2026'!F106<>"",'[1]2026'!F106,"") | F108: =IF('[1]2026'!G106<>"",'[1]2026'!G106,"") | G108: =IF('[1]2026'!H106<>"",'[1]2026'!H106,"")
C109: =IF('[1]2026'!D107<>"",'[1]2026'!D107,"") | D109: =IF('[1]2026'!E107<>"",'[1]2026'!E107,"") | E109: =IF('[1]2026'!F107<>"",'[1]2026'!F107,"") | F109: =IF('[1]2026'!G107<>"",'[1]2026'!G107,"") | G109: =IF('[1]2026'!H107<>"",'[1]2026'!H107,"")
C110: =IF('[1]2026'!D108<>"",'[1]2026'!D108,"") | D110: =IF('[1]2026'!E108<>"",'[1]2026'!E108,"") | E110: =IF('[1]2026'!F108<>"",'[1]2026'!F108,"") | F110: =IF('[1]2026'!G108<>"",'[1]2026'!G108,"") | G110: =IF('[1]2026'!H108<>"",'[1]2026'!H108,"")
C111: =IF('[1]2026'!D109<>"",'[1]2026'!D109,"") | D111: =IF('[1]2026'!E109<>"",'[1]2026'!E109,"") | E111: =IF('[1]2026'!F109<>"",'[1]2026'!F109,"") | F111: =IF('[1]2026'!G109<>"",'[1]2026'!G109,"") | G111: =IF('[1]2026'!H109<>"",'[1]2026'!H109,"")
C112: =IF('[1]2026'!D110<>"",'[1]2026'!D110,"") | D112: =IF('[1]2026'!E110<>"",'[1]2026'!E110,"") | E112: =IF('[1]2026'!F110<>"",'[1]2026'!F110,"") | F112: =IF('[1]2026'!G110<>"",'[1]2026'!G110,"") | G112: =IF('[1]2026'!H110<>"",'[1]2026'!H110,"")
C113: =IF('[1]2026'!D111<>"",'[1]2026'!D111,"") | D113: =IF('[1]2026'!E111<>"",'[1]2026'!E111,"") | E113: =IF('[1]2026'!F111<>"",'[1]2026'!F111,"") | F113: =IF('[1]2026'!G111<>"",'[1]2026'!G111,"") | G113: =IF('[1]2026'!H111<>"",'[1]2026'!H111,"")
